{
 "currentVersion": 10.71,
 "serviceDescription": "Images scanned from physical photos and georeferenced, then assembled into a mosaic. Part of the South FL District imagery project requested by Lucy Blair. For reference purposes only - accuracy is not guaranteed. \nContact: GIS.Librarian@FloridaDEP.gov ",
 "name": "Imagery/SFD_1985_1986_Monroe_County",
 "description": "Images scanned from physical photos and georeferenced, then assembled into a mosaic. Part of the South FL District imagery project requested by Lucy Blair. For reference purposes only - accuracy is not guaranteed. \nContact: GIS.Librarian@FloridaDEP.gov ",
 "extent": {
  "xmin": -9109623.506433323,
  "ymin": 2816894.992981667,
  "xmax": -8951857.77868313,
  "ymax": 2906410.217629764,
  "spatialReference": {
   "wkid": 102100,
   "latestWkid": 3857
  }
 },
 "initialExtent": {
  "xmin": -9109623.506433323,
  "ymin": 2816894.992981667,
  "xmax": -8951857.77868313,
  "ymax": 2906410.217629764,
  "spatialReference": {
   "wkid": 102100,
   "latestWkid": 3857
  }
 },
 "fullExtent": {
  "xmin": -9109623.506433323,
  "ymin": 2816894.992981667,
  "xmax": -8951857.77868313,
  "ymax": 2906410.217629764,
  "spatialReference": {
   "wkid": 102100,
   "latestWkid": 3857
  }
 },
 "pixelSizeX": 0.298582141647618,
 "pixelSizeY": 0.2985821416476165,
 "bandCount": 3,
 "pixelType": "U8",
 "minPixelSize": 0,
 "maxPixelSize": 0,
 "copyrightText": "TShoy Stewart, Lucy Blair, Aaron Koelker",
 "serviceDataType": "esriImageServiceDataTypeRGB",
 "minValues": [],
 "maxValues": [],
 "meanValues": [],
 "stdvValues": [],
 "objectIdField": "",
 "fields": [],
 "capabilities": "Mensuration,Image,Metadata",
 "defaultMosaicMethod": "Center",
 "allowedMosaicMethods": "",
 "sortField": "",
 "sortValue": null,
 "mosaicOperator": "First",
 "defaultCompressionQuality": 75,
 "defaultResamplingMethod": "Bilinear",
 "maxImageHeight": 4100,
 "maxImageWidth": 15000,
 "allowRasterFunction": true,
 "rasterFunctionInfos": [
  {
   "name": "None",
   "description": "",
   "help": ""
  }
 ],
 "rasterTypeInfos": [
  {
   "name": "Raster Dataset",
   "description": "Supports all ArcGIS Raster Datasets",
   "help": ""
  }
 ],
 "mensurationCapabilities": "Basic",
 "hasHistograms": false,
 "hasColormap": false,
 "hasRasterAttributeTable": false,
 "minScale": 0,
 "maxScale": 0,
 "exportTilesAllowed": false,
 "hasMultidimensions": false,
 "supportsStatistics": false,
 "supportsAdvancedQueries": false,
 "editFieldsInfo": null,
 "ownershipBasedAccessControlForRasters": null,
 "allowComputeTiePoints": false,
 "useStandardizedQueries": true,
 "advancedQueryCapabilities": {
  "useStandardizedQueries": true,
  "supportsStatistics": false,
  "supportsOrderBy": false,
  "supportsDistinct": false,
  "supportsPagination": false
 },
 "spatialReference": {
  "wkid": 102100,
  "latestWkid": 3857
 }
}
