{
 "currentVersion": 10.71,
 "serviceDescription": "Imagery/Aerial_Imagery_2009",
 "name": "Imagery/Aerial_Imagery_2009",
 "description": "",
 "extent": {
  "xmin": 203287.71499999985,
  "ymin": 59902.07300896617,
  "xmax": 791651.7993281686,
  "ymax": 778347.5899,
  "spatialReference": {
   "wkid": 3087,
   "latestWkid": 3087
  }
 },
 "initialExtent": {
  "xmin": 203287.71499999985,
  "ymin": 59902.07300896617,
  "xmax": 791651.7993281686,
  "ymax": 778347.5899,
  "spatialReference": {
   "wkid": 3087,
   "latestWkid": 3087
  }
 },
 "fullExtent": {
  "xmin": 203287.71499999985,
  "ymin": 59902.07300896617,
  "xmax": 791651.7993281686,
  "ymax": 778347.5899,
  "spatialReference": {
   "wkid": 3087,
   "latestWkid": 3087
  }
 },
 "pixelSizeX": 0.15240030480060962,
 "pixelSizeY": 0.15240030480060962,
 "bandCount": 3,
 "pixelType": "U8",
 "minPixelSize": 0,
 "maxPixelSize": 0,
 "copyrightText": "",
 "serviceDataType": "esriImageServiceDataTypeRGB",
 "minValues": [
  0,
  0,
  6
 ],
 "maxValues": [
  255,
  255,
  255
 ],
 "meanValues": [
  91.93725251294548,
  99.88264798456696,
  88.85630351643145
 ],
 "stdvValues": [
  29.35781455316581,
  27.749817920644396,
  25.47834471538157
 ],
 "objectIdField": "OBJECTID",
 "fields": [
  {
   "name": "OBJECTID",
   "type": "esriFieldTypeOID",
   "alias": "OBJECTID",
   "domain": null
  },
  {
   "name": "Shape",
   "type": "esriFieldTypeGeometry",
   "alias": "Shape",
   "domain": null
  },
  {
   "name": "Name",
   "type": "esriFieldTypeString",
   "alias": "Name",
   "domain": null,
   "length": 200
  },
  {
   "name": "MinPS",
   "type": "esriFieldTypeDouble",
   "alias": "MinPS",
   "domain": null
  },
  {
   "name": "Category",
   "type": "esriFieldTypeInteger",
   "alias": "Category",
   "domain": {
    "type": "codedValue",
    "name": "MosaicCatalogItemCategoryDomain",
    "description": "Catalog item categories.",
    "codedValues": [
     {
      "name": "Unknown",
      "code": 0
     },
     {
      "name": "Primary",
      "code": 1
     },
     {
      "name": "Overview",
      "code": 2
     },
     {
      "name": "Unprocessed Overview",
      "code": 3
     },
     {
      "name": "Partial Overview",
      "code": 4
     },
     {
      "name": "Uploaded",
      "code": 253
     },
     {
      "name": "Incomplete",
      "code": 254
     },
     {
      "name": "Custom",
      "code": 255
     }
    ],
    "mergePolicy": "esriMPTDefaultValue",
    "splitPolicy": "esriSPTDefaultValue"
   }
  },
  {
   "name": "YEAR",
   "type": "esriFieldTypeSmallInteger",
   "alias": "YEAR",
   "domain": null
  },
  {
   "name": "START_DATE",
   "type": "esriFieldTypeDate",
   "alias": "START_DATE",
   "domain": null,
   "length": 8
  },
  {
   "name": "END_DATE",
   "type": "esriFieldTypeDate",
   "alias": "END_DATE",
   "domain": null,
   "length": 8
  },
  {
   "name": "DATASET_ID",
   "type": "esriFieldTypeString",
   "alias": "DATASET_ID",
   "domain": null,
   "length": 20
  },
  {
   "name": "SOURCE",
   "type": "esriFieldTypeString",
   "alias": "SOURCE",
   "domain": null,
   "length": 20
  },
  {
   "name": "SENSOR",
   "type": "esriFieldTypeString",
   "alias": "SENSOR",
   "domain": null,
   "length": 20
  }
 ],
 "capabilities": "Catalog,Image,Metadata",
 "defaultMosaicMethod": "Center",
 "allowedMosaicMethods": "Center,NorthWest,ByAttribute",
 "sortField": "",
 "sortValue": null,
 "mosaicOperator": "First",
 "maxDownloadSizeLimit": 2048,
 "defaultCompressionQuality": 75,
 "defaultResamplingMethod": "Bilinear",
 "maxImageHeight": 4100,
 "maxImageWidth": 15000,
 "maxRecordCount": 1000,
 "maxDownloadImageCount": 20,
 "maxMosaicImageCount": 20,
 "allowRasterFunction": true,
 "rasterFunctionInfos": [
  {
   "name": "None",
   "description": "A No-Op Function.",
   "help": ""
  }
 ],
 "rasterTypeInfos": [
  {
   "name": "Raster Dataset",
   "description": "Supports all ArcGIS Raster Datasets",
   "help": ""
  }
 ],
 "mensurationCapabilities": "None",
 "hasHistograms": true,
 "hasColormap": false,
 "hasRasterAttributeTable": false,
 "minScale": 0,
 "maxScale": 0,
 "exportTilesAllowed": false,
 "hasMultidimensions": false,
 "supportsStatistics": true,
 "supportsAdvancedQueries": true,
 "editFieldsInfo": null,
 "ownershipBasedAccessControlForRasters": null,
 "allowComputeTiePoints": false,
 "useStandardizedQueries": true,
 "advancedQueryCapabilities": {
  "useStandardizedQueries": true,
  "supportsStatistics": true,
  "supportsOrderBy": true,
  "supportsDistinct": true,
  "supportsPagination": true
 },
 "spatialReference": {
  "wkid": 3087,
  "latestWkid": 3087
 }
}
