{ "currentVersion": 10.71, "serviceDescription": "
This imagery service contains natural color orthophotos covering counties that had imagery captured from November 2014 through June 2015. An orthophoto is remotely sensed image data in which displacement of features in the image caused by terrain relief and sensor orientation have been mathematically removed. Orthophotography combines the image characteristics of a photograph with the geometric qualities of a map. \n\nCounties covered in this dataset are: Brevard, Broward, Collier, Glades, Indian River, Leon, Marion, Martin, Miami-Dade, Monroe, Okeechobee, Orange, Palm Beach, St. Lucie, Seminole, and Volusia. \n\n<\/span><\/p><\/div><\/div><\/div>",
"name": "Imagery/Aerial_Imagery_2015",
"description": " This imagery service contains natural color orthophotos covering counties that had imagery captured from November 2014 through June 2015. An orthophoto is remotely sensed image data in which displacement of features in the image caused by terrain relief and sensor orientation have been mathematically removed. Orthophotography combines the image characteristics of a photograph with the geometric qualities of a map. \n\nCounties covered in this dataset are: Brevard, Broward, Collier, Glades, Indian River, Leon, Marion, Martin, Miami-Dade, Monroe, Okeechobee, Orange, Palm Beach, St. Lucie, Seminole, and Volusia. \n\n<\/span><\/p><\/div><\/div><\/div>",
"extent": {
"xmin": 331088.88369999826,
"ymin": 59952.68029298913,
"xmax": 795282.8384879079,
"ymax": 742756.1854999997,
"spatialReference": {
"wkid": 3087,
"latestWkid": 3087
}
},
"initialExtent": {
"xmin": 331088.88369999826,
"ymin": 59952.68029298913,
"xmax": 795282.8384879079,
"ymax": 742756.1854999997,
"spatialReference": {
"wkid": 3087,
"latestWkid": 3087
}
},
"fullExtent": {
"xmin": 331088.88369999826,
"ymin": 59952.68029298913,
"xmax": 795282.8384879079,
"ymax": 742756.1854999997,
"spatialReference": {
"wkid": 3087,
"latestWkid": 3087
}
},
"pixelSizeX": 0.15240030480060962,
"pixelSizeY": 0.15240030480060962,
"bandCount": 3,
"pixelType": "U8",
"minPixelSize": 0,
"maxPixelSize": 0,
"copyrightText": "FREAC",
"serviceDataType": "esriImageServiceDataTypeRGB",
"minValues": [
0,
0,
0
],
"maxValues": [
255,
255,
255
],
"meanValues": [
101.80104809664472,
107.27549828752,
93.37731479209806
],
"stdvValues": [
41.28964913623123,
38.66123348609784,
38.436391729178986
],
"objectIdField": "OBJECTID",
"fields": [
{
"name": "OBJECTID",
"type": "esriFieldTypeOID",
"alias": "OBJECTID",
"domain": null
},
{
"name": "Shape",
"type": "esriFieldTypeGeometry",
"alias": "Shape",
"domain": null
},
{
"name": "Name",
"type": "esriFieldTypeString",
"alias": "Name",
"domain": null,
"length": 200
},
{
"name": "MinPS",
"type": "esriFieldTypeDouble",
"alias": "MinPS",
"domain": null
},
{
"name": "MaxPS",
"type": "esriFieldTypeDouble",
"alias": "MaxPS",
"domain": null
},
{
"name": "LowPS",
"type": "esriFieldTypeDouble",
"alias": "LowPS",
"domain": null
},
{
"name": "HighPS",
"type": "esriFieldTypeDouble",
"alias": "HighPS",
"domain": null
},
{
"name": "Category",
"type": "esriFieldTypeInteger",
"alias": "Category",
"domain": {
"type": "codedValue",
"name": "MosaicCatalogItemCategoryDomain",
"description": "Catalog item categories.",
"codedValues": [
{
"name": "Unknown",
"code": 0
},
{
"name": "Primary",
"code": 1
},
{
"name": "Overview",
"code": 2
},
{
"name": "Unprocessed Overview",
"code": 3
},
{
"name": "Partial Overview",
"code": 4
},
{
"name": "Inactive",
"code": 5
},
{
"name": "Uploaded",
"code": 253
},
{
"name": "Incomplete",
"code": 254
},
{
"name": "Custom",
"code": 255
}
],
"mergePolicy": "esriMPTDefaultValue",
"splitPolicy": "esriSPTDefaultValue"
}
},
{
"name": "Tag",
"type": "esriFieldTypeString",
"alias": "Tag",
"domain": null,
"length": 100
},
{
"name": "GroupName",
"type": "esriFieldTypeString",
"alias": "GroupName",
"domain": null,
"length": 100
},
{
"name": "ProductName",
"type": "esriFieldTypeString",
"alias": "ProductName",
"domain": null,
"length": 100
},
{
"name": "CenterX",
"type": "esriFieldTypeDouble",
"alias": "CenterX",
"domain": null
},
{
"name": "CenterY",
"type": "esriFieldTypeDouble",
"alias": "CenterY",
"domain": null
},
{
"name": "ZOrder",
"type": "esriFieldTypeInteger",
"alias": "ZOrder",
"domain": null
},
{
"name": "YEAR",
"type": "esriFieldTypeSmallInteger",
"alias": "YEAR",
"domain": null
},
{
"name": "START_DATE",
"type": "esriFieldTypeDate",
"alias": "START_DATE",
"domain": null,
"length": 8
},
{
"name": "END_DATE",
"type": "esriFieldTypeDate",
"alias": "END_DATE",
"domain": null,
"length": 8
},
{
"name": "DATASET_ID",
"type": "esriFieldTypeString",
"alias": "DATASET_ID",
"domain": null,
"length": 25
},
{
"name": "SOURCE",
"type": "esriFieldTypeString",
"alias": "SOURCE",
"domain": null,
"length": 25
},
{
"name": "SENSOR",
"type": "esriFieldTypeString",
"alias": "SENSOR",
"domain": null,
"length": 25
},
{
"name": "Shape_Length",
"type": "esriFieldTypeDouble",
"alias": "Shape_Length",
"domain": null
},
{
"name": "Shape_Area",
"type": "esriFieldTypeDouble",
"alias": "Shape_Area",
"domain": null
}
],
"capabilities": "Catalog,Image,Metadata",
"defaultMosaicMethod": "Center",
"allowedMosaicMethods": "Center,NorthWest,ByAttribute",
"sortField": "",
"sortValue": null,
"mosaicOperator": "First",
"maxDownloadSizeLimit": 2048,
"defaultCompressionQuality": 75,
"defaultResamplingMethod": "Bilinear",
"maxImageHeight": 4100,
"maxImageWidth": 15000,
"maxRecordCount": 1000,
"maxDownloadImageCount": 20,
"maxMosaicImageCount": 20,
"allowRasterFunction": true,
"rasterFunctionInfos": [
{
"name": "None",
"description": "A No-Op Function.",
"help": ""
}
],
"rasterTypeInfos": [
{
"name": "Raster Dataset",
"description": "Supports all ArcGIS Raster Datasets",
"help": ""
}
],
"mensurationCapabilities": "None",
"hasHistograms": true,
"hasColormap": false,
"hasRasterAttributeTable": false,
"minScale": 0,
"maxScale": 0,
"exportTilesAllowed": false,
"hasMultidimensions": false,
"supportsStatistics": true,
"supportsAdvancedQueries": true,
"editFieldsInfo": null,
"ownershipBasedAccessControlForRasters": null,
"allowComputeTiePoints": false,
"useStandardizedQueries": true,
"advancedQueryCapabilities": {
"useStandardizedQueries": true,
"supportsStatistics": true,
"supportsOrderBy": true,
"supportsDistinct": true,
"supportsPagination": true
},
"spatialReference": {
"wkid": 3087,
"latestWkid": 3087
}
}