{ "currentVersion": 11.1, "serviceDescription": "
This imagery service contains natural color orthophotos covering counties that had imagery captured from October 2018 till June 2019. An orthophoto is remotely sensed image data in which displacement of features in the image caused by terrain relief and sensor orientation have been mathematically removed. Orthophotography combines the image characteristics of a photograph with the geometric qualities of a map.<\/span><\/p><\/div><\/div><\/div>",
"name": "Imagery/Aerial_Imagery_2019",
"description": " This imagery service contains natural color orthophotos covering counties that had imagery captured from October 2018 till June 2019. An orthophoto is remotely sensed image data in which displacement of features in the image caused by terrain relief and sensor orientation have been mathematically removed. Orthophotography combines the image characteristics of a photograph with the geometric qualities of a map.<\/span><\/p><\/div><\/div><\/div>",
"extent": {
"xmin": 51140.65799999982,
"ymin": 204379.0761741423,
"xmax": 795282.5426837693,
"ymax": 781692.0047999996,
"spatialReference": {
"wkid": 3087,
"latestWkid": 3087
}
},
"initialExtent": {
"xmin": 51140.65799999982,
"ymin": 204379.0761741423,
"xmax": 795282.5426837693,
"ymax": 781692.0047999996,
"spatialReference": {
"wkid": 3087,
"latestWkid": 3087
}
},
"fullExtent": {
"xmin": 51140.65799999982,
"ymin": 204379.0761741423,
"xmax": 795282.5426837693,
"ymax": 781692.0047999996,
"spatialReference": {
"wkid": 3087,
"latestWkid": 3087
}
},
"sortableFields": "",
"bandCount": 3,
"pixelType": "U8",
"minValues": [
0,
0,
0
],
"maxValues": [
255,
255,
255
],
"meanValues": [
85.74946000104194,
86.66818039868926,
72.31586035496787
],
"stdvValues": [
30.133195632539724,
26.698853358517063,
25.99609636184413
],
"hasMultidimensions": false,
"pixelSizeX": 0.07620015240030481,
"pixelSizeY": 0.07620015240030481,
"datasetFormat": "AMD",
"uncompressedSize": 221960966969820,
"blockWidth": 2048,
"blockHeight": 256,
"compressionType": "None",
"bandNames": [
"Band_1",
"Band_2",
"Band_3"
],
"allowCopy": true,
"allowAnalysis": true,
"itemAccess": false,
"minPixelSize": 0,
"maxPixelSize": 0,
"copyrightText": "FDOT",
"serviceDataType": "esriImageServiceDataTypeRGB",
"serviceSourceType": "esriImageServiceSourceTypeMosaicDataset",
"objectIdField": "OBJECTID",
"fields": [
{
"name": "OBJECTID",
"type": "esriFieldTypeOID",
"alias": "OBJECTID",
"domain": null
},
{
"name": "Shape",
"type": "esriFieldTypeGeometry",
"alias": "Shape",
"domain": null
},
{
"name": "Name",
"type": "esriFieldTypeString",
"alias": "Name",
"domain": null,
"length": 200
},
{
"name": "MinPS",
"type": "esriFieldTypeDouble",
"alias": "MinPS",
"domain": null
},
{
"name": "MaxPS",
"type": "esriFieldTypeDouble",
"alias": "MaxPS",
"domain": null
},
{
"name": "Category",
"type": "esriFieldTypeInteger",
"alias": "Category",
"domain": {
"type": "codedValue",
"name": "MosaicCatalogItemCategoryDomain",
"description": "Catalog item categories.",
"codedValues": [
{
"name": "Unknown",
"code": 0
},
{
"name": "Primary",
"code": 1
},
{
"name": "Overview",
"code": 2
},
{
"name": "Unprocessed Overview",
"code": 3
},
{
"name": "Partial Overview",
"code": 4
},
{
"name": "Inactive",
"code": 5
},
{
"name": "Uploaded",
"code": 253
},
{
"name": "Incomplete",
"code": 254
},
{
"name": "Custom",
"code": 255
}
],
"mergePolicy": "esriMPTDefaultValue",
"splitPolicy": "esriSPTDefaultValue"
}
},
{
"name": "DATASET_ID",
"type": "esriFieldTypeString",
"alias": "DATASET_ID",
"domain": null,
"length": 50
},
{
"name": "START_DATE",
"type": "esriFieldTypeString",
"alias": "START_DATE",
"domain": null,
"length": 50
},
{
"name": "END_DATE",
"type": "esriFieldTypeString",
"alias": "END_DATE",
"domain": null,
"length": 50
},
{
"name": "SOURCE",
"type": "esriFieldTypeString",
"alias": "SOURCE",
"domain": null,
"length": 50
},
{
"name": "YEAR",
"type": "esriFieldTypeSmallInteger",
"alias": "YEAR",
"domain": null
},
{
"name": "SENSOR",
"type": "esriFieldTypeString",
"alias": "SENSOR",
"domain": null,
"length": 50
}
],
"capabilities": "Catalog,Mensuration,Image,Metadata",
"defaultMosaicMethod": "Northwest",
"allowedMosaicMethods": "NorthWest,Center,LockRaster,ByAttribute",
"sortField": "",
"sortValue": null,
"sortAscending": true,
"mosaicOperator": "First",
"maxDownloadSizeLimit": 2048,
"defaultCompressionQuality": 75,
"defaultResamplingMethod": "Bilinear",
"maxImageHeight": 4100,
"maxImageWidth": 15000,
"maxRecordCount": 1000,
"maxDownloadImageCount": 20,
"maxMosaicImageCount": 20,
"allowRasterFunction": true,
"rasterFunctionInfos": [
{
"name": "None",
"description": "Make a Raster or Raster Dataset into a Function Raster Dataset.",
"help": ""
}
],
"rasterTypeInfos": [
{
"name": "Raster Dataset",
"description": "Supports all ArcGIS Raster Datasets",
"help": ""
}
],
"mensurationCapabilities": "Basic",
"hasHistograms": true,
"hasColormap": false,
"hasRasterAttributeTable": false,
"minScale": 0,
"maxScale": 0,
"exportTilesAllowed": false,
"supportsStatistics": true,
"supportsAdvancedQueries": true,
"editFieldsInfo": null,
"ownershipBasedAccessControlForRasters": null,
"allowComputeTiePoints": false,
"useStandardizedQueries": true,
"advancedQueryCapabilities": {
"useStandardizedQueries": true,
"supportsStatistics": true,
"supportsOrderBy": true,
"supportsDistinct": true,
"supportsPagination": true
},
"spatialReference": {
"wkid": 3087,
"latestWkid": 3087
}
}