{
 "currentVersion": 11.1,
 "serviceDescription": "This imagery service contains natural color orthophotos covering counties that had imagery captured from December 2019 till July 2020. An orthophoto is remotely sensed image data in which displacement of features in the image caused by terrain relief and sensor orientation have been mathematically removed. Orthophotography combines the image characteristics of a photograph with the geometric qualities of a map.\n\nContact: GIS.Librarian@FloridaDEP.gov\n",
 "name": "Imagery/Aerial_Imagery_2020",
 "description": "This imagery service contains natural color orthophotos covering counties that had imagery captured from December 2019 till July 2020. An orthophoto is remotely sensed image data in which displacement of features in the image caused by terrain relief and sensor orientation have been mathematically removed. Orthophotography combines the image characteristics of a photograph with the geometric qualities of a map.\n\nContact: GIS.Librarian@FloridaDEP.gov\n",
 "extent": {
  "xmin": 510925.86290000007,
  "ymin": 129538.12393667758,
  "xmax": 789906.5080612905,
  "ymax": 733619.7851,
  "spatialReference": {
   "wkid": 102967,
   "latestWkid": 6439
  }
 },
 "initialExtent": {
  "xmin": 510925.86290000007,
  "ymin": 129538.12393667758,
  "xmax": 789906.5080612905,
  "ymax": 733619.7851,
  "spatialReference": {
   "wkid": 102967,
   "latestWkid": 6439
  }
 },
 "fullExtent": {
  "xmin": 510925.86290000007,
  "ymin": 129538.12393667758,
  "xmax": 789906.5080612905,
  "ymax": 733619.7851,
  "spatialReference": {
   "wkid": 102967,
   "latestWkid": 6439
  }
 },
 "sortableFields": "",
 "bandCount": 4,
 "pixelType": "U8",
 "minValues": [
  0,
  3,
  6,
  6
 ],
 "maxValues": [
  243,
  243,
  238,
  238
 ],
 "meanValues": [
  73.95656750220259,
  79.29639353568217,
  71.23302170738039,
  71.23302170738039
 ],
 "stdvValues": [
  28.646250508952605,
  24.760227204877772,
  22.25274394846773,
  22.25274394846773
 ],
 "hasMultidimensions": false,
 "pixelSizeX": 0.07620015240030482,
 "pixelSizeY": 0.07620015240030481,
 "datasetFormat": "AMD",
 "uncompressedSize": 116096208660560,
 "blockWidth": 2048,
 "blockHeight": 256,
 "compressionType": "None",
 "bandNames": [
  "Red",
  "Green",
  "Blue",
  "Infrared"
 ],
 "allowCopy": true,
 "allowAnalysis": true,
 "itemAccess": false,
 "minPixelSize": 0,
 "maxPixelSize": 0,
 "copyrightText": "FDOT",
 "serviceDataType": "esriImageServiceDataTypeGeneric",
 "serviceSourceType": "esriImageServiceSourceTypeMosaicDataset",
 "objectIdField": "OBJECTID",
 "fields": [
  {
   "name": "OBJECTID",
   "type": "esriFieldTypeOID",
   "alias": "OBJECTID",
   "domain": null
  },
  {
   "name": "Shape",
   "type": "esriFieldTypeGeometry",
   "alias": "Shape",
   "domain": null
  },
  {
   "name": "Name",
   "type": "esriFieldTypeString",
   "alias": "Name",
   "domain": null,
   "length": 200
  },
  {
   "name": "LowPS",
   "type": "esriFieldTypeDouble",
   "alias": "LowPS",
   "domain": null
  },
  {
   "name": "Category",
   "type": "esriFieldTypeInteger",
   "alias": "Category",
   "domain": {
    "type": "codedValue",
    "name": "MosaicCatalogItemCategoryDomain",
    "description": "Catalog item categories.",
    "codedValues": [
     {
      "name": "Unknown",
      "code": 0
     },
     {
      "name": "Primary",
      "code": 1
     },
     {
      "name": "Overview",
      "code": 2
     },
     {
      "name": "Unprocessed Overview",
      "code": 3
     },
     {
      "name": "Partial Overview",
      "code": 4
     },
     {
      "name": "Inactive",
      "code": 5
     },
     {
      "name": "Uploaded",
      "code": 253
     },
     {
      "name": "Incomplete",
      "code": 254
     },
     {
      "name": "Custom",
      "code": 255
     }
    ],
    "mergePolicy": "esriMPTDefaultValue",
    "splitPolicy": "esriSPTDefaultValue"
   }
  },
  {
   "name": "END_DATE",
   "type": "esriFieldTypeString",
   "alias": "END_DATE",
   "domain": null,
   "length": 50
  },
  {
   "name": "DATASET_ID",
   "type": "esriFieldTypeString",
   "alias": "DATASET_ID",
   "domain": null,
   "length": 50
  },
  {
   "name": "YEAR",
   "type": "esriFieldTypeDouble",
   "alias": "YEAR",
   "domain": null
  },
  {
   "name": "START_DATE",
   "type": "esriFieldTypeString",
   "alias": "START_DATE",
   "domain": null,
   "length": 50
  }
 ],
 "capabilities": "Catalog,Image,Metadata",
 "defaultMosaicMethod": "Center",
 "allowedMosaicMethods": "Center,NorthWest,LockRaster,ByAttribute",
 "sortField": "",
 "sortValue": null,
 "sortAscending": true,
 "mosaicOperator": "First",
 "maxDownloadSizeLimit": 2048,
 "defaultCompressionQuality": 75,
 "defaultResamplingMethod": "Bilinear",
 "maxImageHeight": 4100,
 "maxImageWidth": 15000,
 "maxRecordCount": 1000,
 "maxDownloadImageCount": 20,
 "maxMosaicImageCount": 20,
 "allowRasterFunction": true,
 "rasterFunctionInfos": [
  {
   "name": "None",
   "description": "Make a Raster or Raster Dataset into a Function Raster Dataset.",
   "help": ""
  }
 ],
 "rasterTypeInfos": [
  {
   "name": "Raster Dataset",
   "description": "Supports all ArcGIS Raster Datasets",
   "help": ""
  }
 ],
 "mensurationCapabilities": "None",
 "hasHistograms": true,
 "hasColormap": false,
 "hasRasterAttributeTable": false,
 "minScale": 0,
 "maxScale": 0,
 "exportTilesAllowed": false,
 "supportsStatistics": true,
 "supportsAdvancedQueries": true,
 "editFieldsInfo": null,
 "ownershipBasedAccessControlForRasters": null,
 "allowComputeTiePoints": false,
 "useStandardizedQueries": true,
 "advancedQueryCapabilities": {
  "useStandardizedQueries": true,
  "supportsStatistics": true,
  "supportsOrderBy": true,
  "supportsDistinct": true,
  "supportsPagination": true
 },
 "spatialReference": {
  "wkid": 102967,
  "latestWkid": 6439
 }
}
