{ "currentVersion": 11.1, "serviceDescription": "
This is a rectified mosaic of the individual tiles obtained from FDOT. The mosaic includes areas of Polk and Hillsborough counties where phosphate mining occurred or may occur in the future. The aerial imagery was rectified in ERDAS IMAGINE software using Autosync. The goals for rectification of each individual tile used from the FDOT included 40 control points and a RMS less than 20 pixels (pixel = 1 meter x 1 meter). RMS only measures the error against the projected image that was used as a reference during rectification. The reference image used was the 1970's SWFWMD Aerial Photography. Points not included as control points may have a larger error. The rectified tiles where then compiled into a mosaic using Mosaic Pro within ERDAS IMAGINE.<\/span><\/span><\/p><\/div>",
"name": "Imagery/BMMR_1975_NonMan_Aerial",
"description": " This is a rectified mosaic of the individual tiles obtained from FDOT. The mosaic includes areas of Polk and Hillsborough counties where phosphate mining occurred or may occur in the future. The aerial imagery was rectified in ERDAS IMAGINE software using Autosync. The goals for rectification of each individual tile used from the FDOT included 40 control points and a RMS less than 20 pixels (pixel = 1 meter x 1 meter). RMS only measures the error against the projected image that was used as a reference during rectification. The reference image used was the 1970's SWFWMD Aerial Photography. Points not included as control points may have a larger error. The rectified tiles where then compiled into a mosaic using Mosaic Pro within ERDAS IMAGINE.<\/span><\/span><\/p><\/div>",
"extent": {
"xmin": 566915.5841999985,
"ymin": 401381.46055344446,
"xmax": 624729.8143583048,
"ymax": 450930.1781,
"spatialReference": {
"wkid": 3087,
"latestWkid": 3087
}
},
"initialExtent": {
"xmin": 566915.5841999985,
"ymin": 401381.46055344446,
"xmax": 624729.8143583048,
"ymax": 450930.1781,
"spatialReference": {
"wkid": 3087,
"latestWkid": 3087
}
},
"fullExtent": {
"xmin": 566915.5841999985,
"ymin": 401381.46055344446,
"xmax": 624729.8143583048,
"ymax": 450930.1781,
"spatialReference": {
"wkid": 3087,
"latestWkid": 3087
}
},
"sortableFields": "",
"bandCount": 1,
"pixelType": "U8",
"minValues": [
1
],
"maxValues": [
255
],
"meanValues": [
122.55204302498892
],
"stdvValues": [
68.50425724795198
],
"hasMultidimensions": false,
"pixelSizeX": 0.34654784335041455,
"pixelSizeY": 0.3465478433504145,
"datasetFormat": "AMD",
"uncompressedSize": 23852876762,
"blockWidth": 2048,
"blockHeight": 256,
"compressionType": "None",
"bandNames": [
"Band_1"
],
"allowCopy": true,
"allowAnalysis": true,
"itemAccess": false,
"minPixelSize": 0,
"maxPixelSize": 0,
"copyrightText": "Beaches, Mining, and ERP Support Program; Division of Water Resource Management; Florida DEP",
"serviceDataType": "esriImageServiceDataTypeGeneric",
"serviceSourceType": "esriImageServiceSourceTypeMosaicDataset",
"objectIdField": "OBJECTID",
"fields": [
{
"name": "OBJECTID",
"type": "esriFieldTypeOID",
"alias": "OBJECTID",
"domain": null
},
{
"name": "Shape",
"type": "esriFieldTypeGeometry",
"alias": "Shape",
"domain": null
},
{
"name": "Name",
"type": "esriFieldTypeString",
"alias": "Name",
"domain": null,
"length": 50
},
{
"name": "MinPS",
"type": "esriFieldTypeDouble",
"alias": "MinPS",
"domain": null
},
{
"name": "Category",
"type": "esriFieldTypeInteger",
"alias": "Category",
"domain": {
"type": "codedValue",
"name": "MosaicCatalogItemCategoryDomain",
"description": "Catalog item categories.",
"codedValues": [
{
"name": "Unknown",
"code": 0
},
{
"name": "Primary",
"code": 1
},
{
"name": "Overview",
"code": 2
},
{
"name": "Unprocessed Overview",
"code": 3
},
{
"name": "Partial Overview",
"code": 4
},
{
"name": "Uploaded",
"code": 253
},
{
"name": "Incomplete",
"code": 254
},
{
"name": "Custom",
"code": 255
}
],
"mergePolicy": "esriMPTDefaultValue",
"splitPolicy": "esriSPTDefaultValue"
}
}
],
"capabilities": "Catalog,Mensuration,Image,Metadata",
"defaultMosaicMethod": "Center",
"allowedMosaicMethods": "Center,NorthWest,ByAttribute",
"sortField": "",
"sortValue": null,
"sortAscending": true,
"mosaicOperator": "First",
"maxDownloadSizeLimit": 2048,
"defaultCompressionQuality": 75,
"defaultResamplingMethod": "Bilinear",
"maxImageHeight": 4100,
"maxImageWidth": 15000,
"maxRecordCount": 1000,
"maxDownloadImageCount": 20,
"maxMosaicImageCount": 20,
"allowRasterFunction": true,
"rasterFunctionInfos": [
{
"name": "None",
"description": "A No-Op Function.",
"help": ""
}
],
"rasterTypeInfos": [
{
"name": "Raster Dataset",
"description": "Supports all ArcGIS Raster Datasets",
"help": ""
}
],
"mensurationCapabilities": "Basic",
"hasHistograms": true,
"hasColormap": false,
"hasRasterAttributeTable": false,
"minScale": 0,
"maxScale": 0,
"exportTilesAllowed": false,
"supportsStatistics": true,
"supportsAdvancedQueries": true,
"editFieldsInfo": null,
"ownershipBasedAccessControlForRasters": null,
"allowComputeTiePoints": false,
"useStandardizedQueries": true,
"advancedQueryCapabilities": {
"useStandardizedQueries": true,
"supportsStatistics": true,
"supportsOrderBy": true,
"supportsDistinct": true,
"supportsPagination": true
},
"spatialReference": {
"wkid": 3087,
"latestWkid": 3087
}
}