{
 "currentVersion": 11.1,
 "serviceDescription": "Bureau staff acquired historical aerial images from the Department of Transportation from the 1980s. The geographic areas covered by the historical files are in Hillsborough, Polk, Manatee, Hardee, and Desoto in Central Florida where Mandatory Phosphate mining has occurred. Each individual image was rectified and a mosaic was created. Mosaic includes areas within the counties above that have had phosphate mining or will potentionaly be mined. Please notice that not the whole counties were rectified, but only those areas pertinent to phosphate mining.\n\nPlease contact GIS.Librarian@FloridaDEP.gov for more information.",
 "name": "Imagery/BMMR_Manpho_1980",
 "description": "Bureau staff acquired historical aerial images from the Department of Transportation from the 1980s. The geographic areas covered by the historical files are in Hillsborough, Polk, Manatee, Hardee, and Desoto in Central Florida where Mandatory Phosphate mining has occurred. Each individual image was rectified and a mosaic was created. Mosaic includes areas within the counties above that have had phosphate mining or will potentionaly be mined. Please notice that not the whole counties were rectified, but only those areas pertinent to phosphate mining.\n\nPlease contact GIS.Librarian@FloridaDEP.gov for more information.",
 "extent": {
  "xmin": 569762.2596922378,
  "ymin": 345030.2475966913,
  "xmax": 632232.9840192753,
  "ymax": 472207.76047479635,
  "spatialReference": {
   "wkid": 3087,
   "latestWkid": 3087
  }
 },
 "initialExtent": {
  "xmin": 569762.2596922378,
  "ymin": 345030.2475966913,
  "xmax": 632232.9840192753,
  "ymax": 472207.76047479635,
  "spatialReference": {
   "wkid": 3087,
   "latestWkid": 3087
  }
 },
 "fullExtent": {
  "xmin": 569762.2596922378,
  "ymin": 345030.2475966913,
  "xmax": 632232.9840192753,
  "ymax": 472207.76047479635,
  "spatialReference": {
   "wkid": 3087,
   "latestWkid": 3087
  }
 },
 "sortableFields": "",
 "bandCount": 1,
 "pixelType": "U8",
 "minValues": [
  0
 ],
 "maxValues": [
  255
 ],
 "meanValues": [
  120.13130775090804
 ],
 "stdvValues": [
  57.981852115793465
 ],
 "hasMultidimensions": false,
 "pixelSizeX": 0.3400340973281885,
 "pixelSizeY": 0.34003409732818834,
 "datasetFormat": "AMD",
 "uncompressedSize": 68713104052,
 "blockWidth": 2048,
 "blockHeight": 256,
 "compressionType": "None",
 "bandNames": [
  "Band_1"
 ],
 "allowCopy": true,
 "allowAnalysis": true,
 "itemAccess": false,
 "noDataValue": 0,
 "noDataValues": [
  0
 ],
 "minPixelSize": 0,
 "maxPixelSize": 0,
 "copyrightText": "FDEP Bureau of Mine Reclamation",
 "serviceDataType": "esriImageServiceDataTypeGeneric",
 "serviceSourceType": "esriImageServiceSourceTypeMosaicDataset",
 "objectIdField": "OBJECTID",
 "fields": [
  {
   "name": "OBJECTID",
   "type": "esriFieldTypeOID",
   "alias": "OBJECTID",
   "domain": null
  },
  {
   "name": "Shape",
   "type": "esriFieldTypeGeometry",
   "alias": "Shape",
   "domain": null
  },
  {
   "name": "Name",
   "type": "esriFieldTypeString",
   "alias": "Name",
   "domain": null,
   "length": 50
  },
  {
   "name": "MinPS",
   "type": "esriFieldTypeDouble",
   "alias": "MinPS",
   "domain": null
  },
  {
   "name": "Category",
   "type": "esriFieldTypeInteger",
   "alias": "Category",
   "domain": {
    "type": "codedValue",
    "name": "MosaicCatalogItemCategoryDomain",
    "description": "Catalog item categories.",
    "codedValues": [
     {
      "name": "Unknown",
      "code": 0
     },
     {
      "name": "Primary",
      "code": 1
     },
     {
      "name": "Overview",
      "code": 2
     },
     {
      "name": "Unprocessed Overview",
      "code": 3
     },
     {
      "name": "Partial Overview",
      "code": 4
     },
     {
      "name": "Uploaded",
      "code": 253
     },
     {
      "name": "Incomplete",
      "code": 254
     },
     {
      "name": "Custom",
      "code": 255
     }
    ],
    "mergePolicy": "esriMPTDefaultValue",
    "splitPolicy": "esriSPTDefaultValue"
   }
  }
 ],
 "capabilities": "Catalog,Mensuration,Image,Metadata",
 "defaultMosaicMethod": "Center",
 "allowedMosaicMethods": "Center,NorthWest,ByAttribute",
 "sortField": "",
 "sortValue": null,
 "sortAscending": true,
 "mosaicOperator": "First",
 "maxDownloadSizeLimit": 2048,
 "defaultCompressionQuality": 75,
 "defaultResamplingMethod": "Bilinear",
 "maxImageHeight": 4100,
 "maxImageWidth": 15000,
 "maxRecordCount": 1000,
 "maxDownloadImageCount": 20,
 "maxMosaicImageCount": 20,
 "allowRasterFunction": true,
 "rasterFunctionInfos": [
  {
   "name": "None",
   "description": "A No-Op Function.",
   "help": ""
  }
 ],
 "rasterTypeInfos": [
  {
   "name": "Raster Dataset",
   "description": "Supports all ArcGIS Raster Datasets",
   "help": ""
  }
 ],
 "mensurationCapabilities": "Basic",
 "hasHistograms": true,
 "hasColormap": false,
 "hasRasterAttributeTable": false,
 "minScale": 0,
 "maxScale": 0,
 "exportTilesAllowed": false,
 "supportsStatistics": true,
 "supportsAdvancedQueries": true,
 "editFieldsInfo": null,
 "ownershipBasedAccessControlForRasters": null,
 "allowComputeTiePoints": false,
 "useStandardizedQueries": true,
 "advancedQueryCapabilities": {
  "useStandardizedQueries": true,
  "supportsStatistics": true,
  "supportsOrderBy": true,
  "supportsDistinct": true,
  "supportsPagination": true
 },
 "spatialReference": {
  "wkid": 3087,
  "latestWkid": 3087
 }
}
