{
 "currentVersion": 11.1,
 "serviceDescription": "LiDAR dataset for use in FGS map journal 'Spring Inventory'. Contact Garrett Evans or Tom Greenhalgh.",
 "name": "Imagery/FGS_Spring_Inventory_TayCounty_LiDAR",
 "description": "LiDAR dataset for use in FGS map journal 'Spring Inventory'. Contact Garrett Evans or Tom Greenhalgh.",
 "extent": {
  "xmin": -83.9893798828125,
  "ymin": 29.669132276648128,
  "xmax": -83.31278449485944,
  "ymax": 30.2777296875,
  "spatialReference": {
   "wkid": 4269,
   "latestWkid": 4269
  }
 },
 "initialExtent": {
  "xmin": -83.9893798828125,
  "ymin": 29.669132276648128,
  "xmax": -83.31278449485944,
  "ymax": 30.2777296875,
  "spatialReference": {
   "wkid": 4269,
   "latestWkid": 4269
  }
 },
 "fullExtent": {
  "xmin": -83.9893798828125,
  "ymin": 29.669132276648128,
  "xmax": -83.31278449485944,
  "ymax": 30.2777296875,
  "spatialReference": {
   "wkid": 4269,
   "latestWkid": 4269
  }
 },
 "sortableFields": "",
 "bandCount": 1,
 "pixelType": "F32",
 "minValues": [
  -7.8499999046326
 ],
 "maxValues": [
  105.55999755859
 ],
 "meanValues": [
  21.026831739538
 ],
 "stdvValues": [
  12.066394070846
 ],
 "hasMultidimensions": false,
 "pixelSizeX": 9.697372661321424E-6,
 "pixelSizeY": 9.697372661321424E-6,
 "datasetFormat": "TIFF",
 "uncompressedSize": 17515032756,
 "blockWidth": 128,
 "blockHeight": 128,
 "compressionType": "None",
 "bandNames": [
  "Band_1"
 ],
 "allowCopy": true,
 "allowAnalysis": true,
 "itemAccess": false,
 "noDataValue": -3.4028230607370965E38,
 "noDataValues": [
  -3.4028230607370965E38
 ],
 "minPixelSize": 0,
 "maxPixelSize": 0,
 "copyrightText": "FGS, Garrett Evans, Tom Greenhalgh",
 "serviceDataType": "esriImageServiceDataTypeGeneric",
 "serviceSourceType": "esriImageServiceSourceTypeDataset",
 "objectIdField": "",
 "fields": [],
 "capabilities": "Mensuration,Image,Metadata",
 "defaultMosaicMethod": "Center",
 "allowedMosaicMethods": "",
 "sortField": "",
 "sortValue": null,
 "sortAscending": true,
 "mosaicOperator": "First",
 "defaultCompressionQuality": 75,
 "defaultResamplingMethod": "Bilinear",
 "maxImageHeight": 4100,
 "maxImageWidth": 15000,
 "allowRasterFunction": true,
 "rasterFunctionInfos": [
  {
   "name": "LiDAR",
   "description": "A raster function template.",
   "help": ""
  },
  {
   "name": "None",
   "description": "",
   "help": ""
  }
 ],
 "rasterTypeInfos": [
  {
   "name": "Raster Dataset",
   "description": "Supports all ArcGIS Raster Datasets",
   "help": ""
  }
 ],
 "mensurationCapabilities": "Basic",
 "hasHistograms": true,
 "hasColormap": false,
 "hasRasterAttributeTable": false,
 "minScale": 0,
 "maxScale": 0,
 "exportTilesAllowed": false,
 "supportsStatistics": false,
 "supportsAdvancedQueries": false,
 "editFieldsInfo": null,
 "ownershipBasedAccessControlForRasters": null,
 "allowComputeTiePoints": false,
 "useStandardizedQueries": true,
 "advancedQueryCapabilities": {
  "useStandardizedQueries": true,
  "supportsStatistics": false,
  "supportsOrderBy": false,
  "supportsDistinct": false,
  "supportsPagination": false
 },
 "spatialReference": {
  "wkid": 4269,
  "latestWkid": 4269
 }
}
