{ "currentVersion": 11.1, "serviceDescription": "
The Southwest Florida Water Management District (District) is responsible for the protection and management of natural systems and water quality within its geographic boundaries. One component of evaluating the ecological health of coastal ecosystems is to map and monitor submerged aquatic vegetation (SAV) communities. This project is a continuation of previous efforts to determine the status and trends (if any) of SAV resources in the coastal waters of the District. This imagery from the SWFWMD was used as a part of the 2007 Springs Coast Seagrass Mapping Project.This project will complete a detailed map of the selected benthic habitats along the Springs Coast region. This imagery layer should be used in conjunction with the Hard Bottom Habitats - Springs Coast layer available in DataCatalog/DataMiner.<\/span><\/span><\/p><\/div><\/div><\/div>",
"name": "Imagery/SWFWMD_1972_1975",
"description": " The Southwest Florida Water Management District (District) is responsible for the protection and management of natural systems and water quality within its geographic boundaries. One component of evaluating the ecological health of coastal ecosystems is to map and monitor submerged aquatic vegetation (SAV) communities. This project is a continuation of previous efforts to determine the status and trends (if any) of SAV resources in the coastal waters of the District. This imagery from the SWFWMD was used as a part of the 2007 Springs Coast Seagrass Mapping Project.This project will complete a detailed map of the selected benthic habitats along the Springs Coast region. This imagery layer should be used in conjunction with the Hard Bottom Habitats - Springs Coast layer available in DataCatalog/DataMiner.<\/span><\/span><\/p><\/div><\/div><\/div>",
"extent": {
"xmin": 509004.8354000002,
"ymin": 305975.7080000001,
"xmax": 672320.8354000002,
"ymax": 618375.7080000001,
"spatialReference": {
"wkid": 3087,
"latestWkid": 3087
}
},
"initialExtent": {
"xmin": 509004.8354000002,
"ymin": 305975.7080000001,
"xmax": 672320.8354000002,
"ymax": 618375.7080000001,
"spatialReference": {
"wkid": 3087,
"latestWkid": 3087
}
},
"fullExtent": {
"xmin": 509004.8354000002,
"ymin": 305975.7080000001,
"xmax": 672320.8354000002,
"ymax": 618375.7080000001,
"spatialReference": {
"wkid": 3087,
"latestWkid": 3087
}
},
"sortableFields": "",
"bandCount": 1,
"pixelType": "U8",
"minValues": [
0
],
"maxValues": [
255
],
"meanValues": [
121.96848898823896
],
"stdvValues": [
29.017649049431906
],
"hasMultidimensions": false,
"pixelSizeX": 1,
"pixelSizeY": 1,
"datasetFormat": "AMD",
"uncompressedSize": 51019918400,
"blockWidth": 2048,
"blockHeight": 256,
"compressionType": "None",
"bandNames": [
"Band_1"
],
"allowCopy": true,
"allowAnalysis": true,
"itemAccess": false,
"noDataValue": 256,
"noDataValues": [
256
],
"minPixelSize": 0,
"maxPixelSize": 0,
"copyrightText": "SWFWMD",
"serviceDataType": "esriImageServiceDataTypeGeneric",
"serviceSourceType": "esriImageServiceSourceTypeMosaicDataset",
"objectIdField": "OBJECTID",
"fields": [
{
"name": "OBJECTID",
"type": "esriFieldTypeOID",
"alias": "OBJECTID",
"domain": null
},
{
"name": "Shape",
"type": "esriFieldTypeGeometry",
"alias": "Shape",
"domain": null
},
{
"name": "Name",
"type": "esriFieldTypeString",
"alias": "Name",
"domain": null,
"length": 50
},
{
"name": "MinPS",
"type": "esriFieldTypeDouble",
"alias": "MinPS",
"domain": null
},
{
"name": "Category",
"type": "esriFieldTypeInteger",
"alias": "Category",
"domain": {
"type": "codedValue",
"name": "MosaicCatalogItemCategoryDomain",
"description": "Catalog item categories.",
"codedValues": [
{
"name": "Unknown",
"code": 0
},
{
"name": "Primary",
"code": 1
},
{
"name": "Overview",
"code": 2
},
{
"name": "Unprocessed Overview",
"code": 3
},
{
"name": "Partial Overview",
"code": 4
},
{
"name": "Uploaded",
"code": 253
},
{
"name": "Incomplete",
"code": 254
},
{
"name": "Custom",
"code": 255
}
],
"mergePolicy": "esriMPTDefaultValue",
"splitPolicy": "esriSPTDefaultValue"
}
}
],
"capabilities": "Catalog,Mensuration,Image,Metadata",
"defaultMosaicMethod": "Center",
"allowedMosaicMethods": "Center,NorthWest,ByAttribute",
"sortField": "",
"sortValue": null,
"sortAscending": true,
"mosaicOperator": "First",
"maxDownloadSizeLimit": 2048,
"defaultCompressionQuality": 75,
"defaultResamplingMethod": "Bilinear",
"maxImageHeight": 4100,
"maxImageWidth": 15000,
"maxRecordCount": 1000,
"maxDownloadImageCount": 20,
"maxMosaicImageCount": 20,
"allowRasterFunction": true,
"rasterFunctionInfos": [
{
"name": "None",
"description": "A No-Op Function.",
"help": ""
}
],
"rasterTypeInfos": [
{
"name": "Raster Dataset",
"description": "Supports all ArcGIS Raster Datasets",
"help": ""
}
],
"mensurationCapabilities": "Basic",
"hasHistograms": true,
"hasColormap": false,
"hasRasterAttributeTable": false,
"minScale": 0,
"maxScale": 0,
"exportTilesAllowed": false,
"supportsStatistics": true,
"supportsAdvancedQueries": true,
"editFieldsInfo": null,
"ownershipBasedAccessControlForRasters": null,
"allowComputeTiePoints": false,
"useStandardizedQueries": true,
"advancedQueryCapabilities": {
"useStandardizedQueries": true,
"supportsStatistics": true,
"supportsOrderBy": true,
"supportsDistinct": true,
"supportsPagination": true
},
"spatialReference": {
"wkid": 3087,
"latestWkid": 3087
}
}