<?xml version="1.0" encoding="UTF-8" standalone="no"?>
<metadata>
<idinfo>
<citation>
<citeinfo>
<origin>Advanced GeoSpatial Inc.</origin>
<pubdate>unknown</pubdate>
<title>Biscayne Aquifer Contamination Potential</title>
<geoform>raster digital data</geoform>
</citeinfo>
</citation>
<descript>
<abstract>The South Florida Surficial Aquifer system or Biscayne Aquifer FAVA Response theme grid is the relative vulnerability map for the Surficial Aquifer System. It was calculated using the ArcSDM extension and applying the weights of evidence method. A relative vulnerability class field is also in the table so that the grid can be symbolized into 4 vulnerability classes. These classes were developed based on posterior probability vs. cumulative area breaks.</abstract>
<purpose>Development of a relative vulnerability map for the Surficial Aquifer System in South Florida.</purpose>
</descript>
<timeperd>
<timeinfo>
<sngdate>
<caldate>20070101</caldate>
</sngdate>
</timeinfo>
<current>ground condition</current>
</timeperd>
<status>
<progress>Complete</progress>
<update>As needed</update>
</status>
<spdom>
<bounding>
<westbc>-80.934191</westbc>
<eastbc>-79.981197</eastbc>
<northbc>26.992059</northbc>
<southbc>25.214879</southbc>
</bounding>
</spdom>
<keywords>
<place>
<placekt>None</placekt>
<placekey>South Florida</placekey>
<placekey>Miami-Dade</placekey>
<placekey>Broward</placekey>
<placekey>Palm Beach</placekey>
</place>
<theme>
<themekey>Geoscientific Information</themekey>
<themekey>Geology and Geophysics</themekey>
<themekey>Vulnerability</themekey>
</theme>
</keywords>
<accconst>None</accconst>
<useconst>Maps generated as part of this project were developed by Advanced GeoSpatial Inc. (AGI) to provide FDEP with a ground-water resource management and protection tool to carry out agency responsibilities related to natural resource management and protection regarding the Floridan Aquifer System. Although efforts were made to ensure information in these maps is accurate and useful, neither FDEP nor AGI assumes responsibility for errors in the information and does not guarantee that the data is free from errors or inaccuracies. Similarly, AGI and FDEP assume no responsibility for consequences of inappropriate uses or interpretations of the data on these maps. Accordingly, these maps are distributed on an "as is" basis and the user assumes all risk as to their quality, results obtained from their use, and performance of the data. AGI and FDEP further make no warranties, either expressed or implied as to any other matter whatsoever, including, without limitation, the condition of the product, or its suitability for any particular purpose. The burden for determining suitability for use lies entirely with the end user. In no event shall AGI or FDEP, or their respective employees have any liability whatsoever for payment of any consequential, incidental, indirect, special, or tort damages of any kind, including, but not limited to, any loss of profits arising out of use of or reliance on the project results. AGI and FDEP bear no responsibility to inform users of any changes made to this data. Anyone using this data is advised that resolution implied by the data may far exceed actual accuracy and precision. Because this data was developed and collected with FDEP funding, no proprietary rights may be attached to it in whole or in part, nor may it be sold to FDEP or other government agency as part of any procurement of products or services.</useconst>
<ptcontac>
<cntinfo>
<cntorgp>
<cntorg>Florida Geological Survey</cntorg>
<cntper>Alan Baker</cntper>
</cntorgp>
<cntpos>Professional Geologist Administrator</cntpos>
<cntaddr>
<addrtype>mailing and physical</addrtype>
<address>3000 Commonwealth Blvd., Suite 1</address>
<city>Tallahassee</city>
<state>FL</state>
<postal>32303</postal>
<country>US</country>
</cntaddr>
<cntvoice>850-617-0337</cntvoice>
<cntemail>Alan.Baker@dep.state.fl.us</cntemail>
</cntinfo>
</ptcontac>
<ptcontac>
<cntinfo>
<cntorgp>
<cntorg>Florida Geological Survey</cntorg>
<cntper>James Cichon</cntper>
</cntorgp>
<cntpos>Environmental Consultant</cntpos>
<cntaddr>
<addrtype>mailing and physical</addrtype>
<address>3000 Commonwealth Blvd., Suite 1</address>
<city>Tallahassee</city>
<state>FL</state>
<postal>32304</postal>
<country>US</country>
</cntaddr>
<cntvoice>850-617-0335</cntvoice>
<cntemail>james.cichon@dep.state.fl.us</cntemail>
</cntinfo>
</ptcontac>
<datacred>Advanced GeoSpatial Inc.</datacred>
<native> Version 6.2 (Build 9200) ; Esri ArcGIS 10.3.1.4959</native>
<crossref>
<citeinfo>
<origin>Advanced GeoSpatial Inc.</origin>
<pubdate>unknown</pubdate>
<title>South Florida SAS FAVA Model Response Theme</title>
<serinfo>
<sername>Florida Aquifer Vulnerability Assessment: Contamination potential of Florida's principal aquifer systems</sername>
<issue>FGS Bulletin 67</issue>
</serinfo>
</citeinfo>
</crossref>
</idinfo>
<dataqual>
<lineage>
<srcinfo>
<srccite>
<citeinfo>
<origin>Florida Geological Survey</origin>
<pubdate>unknown</pubdate>
<title>Intermediate Confining Unit Thickness</title>
</citeinfo>
</srccite>
<typesrc>None</typesrc>
<srccitea>Intermediate Confining Unit Thickness</srccitea>
</srcinfo>
<procstep>
<procdesc>The South Florida SAS FAVA Response Theme grid is the relative vulnerability map for the Surficial Aquifer System. It was calculated using the ArcSDM extension and applying the weights of evidence method. An analysis extent (study area), training point theme, and modeling method (weights of evidence) are selected in the set analysis parameters. Weights are then calculated on each evidential theme and then the themes are generalized (into binary patterns). A generalization of 1 represents "more vulnerable" areas, 2 represents "less vulnerable areas and -99 represents missing data. A response theme is then calculated based on the association between training points and evidential themes. A relative vulnerability class field is also in the table so that the grid can be symbolized into 4 vulnerability classes .</procdesc>
<procdate>20080101</procdate>
<proccont>
<cntinfo>
<cntorgp>
<cntorg>Advanced GeoSpatial Inc.</cntorg>
</cntorgp>
<cntaddr>
<addrtype>mailing and physical</addrtype>
<address>1949 Raymond Diehl Rd.</address>
<address>Suite D</address>
<city>Tallahassee</city>
<state>FL</state>
<postal>32308</postal>
<country>US</country>
</cntaddr>
<cntvoice>850-580-4447</cntvoice>
</cntinfo>
</proccont>
</procstep>
</lineage>
</dataqual>
<spdoinfo>
<direct>Raster</direct>
<rastinfo>
<rasttype Sync="TRUE">Pixel</rasttype>
<rowcount Sync="TRUE">6491</rowcount>
<colcount Sync="TRUE">2987</colcount>
<rastxsz Sync="TRUE">30.000000</rastxsz>
<rastysz Sync="TRUE">30.000000</rastysz>
<rastbpp Sync="TRUE">8</rastbpp>
<vrtcount Sync="TRUE">1</vrtcount>
<rastorig Sync="TRUE">Upper Left</rastorig>
<rastcmap Sync="TRUE">FALSE</rastcmap>
<rastcomp Sync="TRUE">LZ77</rastcomp>
<rastband Sync="TRUE">1</rastband>
<rastdtyp Sync="TRUE">pixel codes</rastdtyp>
<rastifor Sync="TRUE">FGDBR</rastifor>
<rastplyr Sync="TRUE">TRUE</rastplyr>
</rastinfo>
</spdoinfo>
<spref>
<horizsys>
<planar>
<planci>
<plance Sync="TRUE">row and column</plance>
<coordrep>
<absres Sync="TRUE">30.000000</absres>
<ordres Sync="TRUE">30.000000</ordres>
</coordrep>
<plandu>meter</plandu>
</planci>
</planar>
<geodetic>
<horizdn>D North American 1983 HARN</horizdn>
<ellips>GRS 1980</ellips>
<semiaxis>6378137.0</semiaxis>
<denflat>298.257222101</denflat>
</geodetic>
</horizsys>
</spref>
<eainfo>
<detailed Name="VAT_BCYN_RESPONSE_1">
<enttyp>
<enttypl Sync="TRUE">VAT_BCYN_RESPONSE_1</enttypl>
<enttypd>Relative vulnerability grid of South Florida</enttypd>
<enttypt Sync="TRUE">Table</enttypt>
<enttypc Sync="TRUE">18</enttypc>
</enttyp>
<attr>
<attrlabl>SF_SOILK</attrlabl>
<attalias Sync="TRUE">SF_SOILK</attalias>
<attrtype Sync="TRUE">Integer</attrtype>
<attwidth Sync="TRUE">4</attwidth>
<atprecis Sync="TRUE">0</atprecis>
<attscale Sync="TRUE">0</attscale>
</attr>
<attr>
<attrlabl>OBJECTID</attrlabl>
<attrdef>Internal feature number.</attrdef>
<attrdefs>Esri</attrdefs>
<attrdomv>
<udom>Sequential unique whole numbers that are automatically generated.</udom>
</attrdomv>
<attalias Sync="TRUE">OBJECTID</attalias>
<attrtype Sync="TRUE">OID</attrtype>
<attwidth Sync="TRUE">4</attwidth>
<atprecis Sync="TRUE">0</atprecis>
<attscale Sync="TRUE">0</attscale>
</attr>
<attr>
<attrlabl>DTW_NB</attrlabl>
<attalias Sync="TRUE">DTW_NB</attalias>
<attrtype Sync="TRUE">Integer</attrtype>
<attwidth Sync="TRUE">4</attwidth>
<atprecis Sync="TRUE">0</atprecis>
<attscale Sync="TRUE">0</attscale>
</attr>
<attr>
<attrlabl>AREA_SQM</attrlabl>
<attalias Sync="TRUE">AREA_SQM</attalias>
<attrtype Sync="TRUE">Double</attrtype>
<attwidth Sync="TRUE">8</attwidth>
<atprecis Sync="TRUE">0</atprecis>
<attscale Sync="TRUE">0</attscale>
<attrdef>Area in sq meters</attrdef>
</attr>
<attr>
<attrlabl>TRNGPOINTS</attrlabl>
<attalias Sync="TRUE">TRNGPOINTS</attalias>
<attrtype Sync="TRUE">Integer</attrtype>
<attwidth Sync="TRUE">4</attwidth>
<atprecis Sync="TRUE">0</atprecis>
<attscale Sync="TRUE">0</attscale>
</attr>
<attr>
<attrlabl>PST_PROB</attrlabl>
<attrdef>Posterior Probability</attrdef>
<attalias Sync="TRUE">PST_PROB</attalias>
<attrtype Sync="TRUE">Double</attrtype>
<attwidth Sync="TRUE">8</attwidth>
<atprecis Sync="TRUE">0</atprecis>
<attscale Sync="TRUE">0</attscale>
</attr>
<attr>
<attrlabl>CONFIDENCE</attrlabl>
<attalias Sync="TRUE">CONFIDENCE</attalias>
<attrtype Sync="TRUE">Double</attrtype>
<attwidth Sync="TRUE">8</attwidth>
<atprecis Sync="TRUE">0</atprecis>
<attscale Sync="TRUE">0</attscale>
</attr>
<attr>
<attrlabl>VALUE</attrlabl>
<attrdef>Number of Unique conditions</attrdef>
<attalias Sync="TRUE">VALUE</attalias>
<attrtype Sync="TRUE">Integer</attrtype>
<attwidth Sync="TRUE">4</attwidth>
<atprecis Sync="TRUE">0</atprecis>
<attscale Sync="TRUE">0</attscale>
</attr>
<attr>
<attrlabl>COUNT</attrlabl>
<attrdef>Number of cells per unique condition</attrdef>
<attalias Sync="TRUE">COUNT</attalias>
<attrtype Sync="TRUE">Integer</attrtype>
<attwidth Sync="TRUE">4</attwidth>
<atprecis Sync="TRUE">0</atprecis>
<attscale Sync="TRUE">0</attscale>
</attr>
<attr>
<attrlabl>VUL_DESCRIP</attrlabl>
<attrdef>Vulnerability description</attrdef>
<attalias Sync="TRUE">VUL_DESCRIP</attalias>
<attrtype Sync="TRUE">String</attrtype>
<attwidth Sync="TRUE">25</attwidth>
<atprecis Sync="TRUE">0</atprecis>
<attscale Sync="TRUE">0</attscale>
</attr>
<attr>
<attrlabl>SF_KBUFF30</attrlabl>
<attalias Sync="TRUE">SF_KBUFF30</attalias>
<attrtype Sync="TRUE">Integer</attrtype>
<attwidth Sync="TRUE">4</attwidth>
<atprecis Sync="TRUE">0</atprecis>
<attscale Sync="TRUE">0</attscale>
</attr>
<attr>
<attrlabl>CONFIDENCE_NUM</attrlabl>
<attalias Sync="TRUE">CONFIDENCE_NUM</attalias>
<attrtype Sync="TRUE">String</attrtype>
<attwidth Sync="TRUE">25</attwidth>
<atprecis Sync="TRUE">0</atprecis>
<attscale Sync="TRUE">0</attscale>
</attr>
</detailed>
</eainfo>
<metainfo>
<metd>20170509</metd>
<metc>
<cntinfo>
<cntorgp>
<cntorg>Florida Department of Environmental Protection (FDEP) OTIS/GIS Section</cntorg>
</cntorgp>
<cntaddr>
<addrtype>mailing and physical</addrtype>
<address>2600 Blair Stone Rd MS 6520</address>
<city>Tallahassee</city>
<state>FL</state>
<postal>32399-2400</postal>
<country>US</country>
</cntaddr>
<cntemail>GIS.Librarian@dep.state.fl.us</cntemail>
</cntinfo>
</metc>
<metstdn>FGDC Content Standard for Digital Geospatial Metadata</metstdn>
<metstdv>FGDC-STD-001-1998</metstdv>
<mettc>local time</mettc>
</metainfo>
<Esri>
<DataProperties>
<itemProps>
<itemName Sync="TRUE">BCYN_RESPONSE_1</itemName>
<nativeExtBox>
<westBL Sync="TRUE">708508.704501</westBL>
<eastBL Sync="TRUE">798118.704501</eastBL>
<southBL Sync="TRUE">141035.486383</southBL>
<northBL Sync="TRUE">335765.486383</northBL>
<exTypeCode Sync="TRUE">1</exTypeCode>
</nativeExtBox>
<imsContentType Sync="TRUE">002</imsContentType>
</itemProps>
<coordRef>
<type Sync="TRUE">Projected</type>
<geogcsn Sync="TRUE">GCS_NAD_1983_2011</geogcsn>
<csUnits Sync="TRUE">Linear Unit: Meter (1.000000)</csUnits>
<projcsn Sync="TRUE">NAD_1983_2011_Florida_GDL_Albers</projcsn>
<peXml Sync="TRUE">&lt;ProjectedCoordinateSystem xsi:type='typens:ProjectedCoordinateSystem' xmlns:xsi='http://www.w3.org/2001/XMLSchema-instance' xmlns:xs='http://www.w3.org/2001/XMLSchema' xmlns:typens='http://www.esri.com/schemas/ArcGIS/10.6'&gt;&lt;WKT&gt;PROJCS[&amp;quot;NAD_1983_2011_Florida_GDL_Albers&amp;quot;,GEOGCS[&amp;quot;GCS_NAD_1983_2011&amp;quot;,DATUM[&amp;quot;D_NAD_1983_2011&amp;quot;,SPHEROID[&amp;quot;GRS_1980&amp;quot;,6378137.0,298.257222101]],PRIMEM[&amp;quot;Greenwich&amp;quot;,0.0],UNIT[&amp;quot;Degree&amp;quot;,0.0174532925199433]],PROJECTION[&amp;quot;Albers&amp;quot;],PARAMETER[&amp;quot;False_Easting&amp;quot;,400000.0],PARAMETER[&amp;quot;False_Northing&amp;quot;,0.0],PARAMETER[&amp;quot;Central_Meridian&amp;quot;,-84.0],PARAMETER[&amp;quot;Standard_Parallel_1&amp;quot;,24.0],PARAMETER[&amp;quot;Standard_Parallel_2&amp;quot;,31.5],PARAMETER[&amp;quot;Latitude_Of_Origin&amp;quot;,24.0],UNIT[&amp;quot;Meter&amp;quot;,1.0],AUTHORITY[&amp;quot;EPSG&amp;quot;,6439]]&lt;/WKT&gt;&lt;XOrigin&gt;-19550100&lt;/XOrigin&gt;&lt;YOrigin&gt;-7526400&lt;/YOrigin&gt;&lt;XYScale&gt;225743210.67916927&lt;/XYScale&gt;&lt;ZOrigin&gt;-100000&lt;/ZOrigin&gt;&lt;ZScale&gt;10000&lt;/ZScale&gt;&lt;MOrigin&gt;-100000&lt;/MOrigin&gt;&lt;MScale&gt;10000&lt;/MScale&gt;&lt;XYTolerance&gt;0.001&lt;/XYTolerance&gt;&lt;ZTolerance&gt;0.00020000000000000001&lt;/ZTolerance&gt;&lt;MTolerance&gt;0.00020000000000000001&lt;/MTolerance&gt;&lt;HighPrecision&gt;true&lt;/HighPrecision&gt;&lt;WKID&gt;102967&lt;/WKID&gt;&lt;LatestWKID&gt;6439&lt;/LatestWKID&gt;&lt;/ProjectedCoordinateSystem&gt;</peXml>
</coordRef>
</DataProperties>
<SyncDate>20200406</SyncDate>
<SyncTime>15000300</SyncTime>
<ModDate>20200406</ModDate>
<ModTime>15000300</ModTime>
<ArcGISFormat>1.0</ArcGISFormat>
<scaleRange>
<minScale>150000000</minScale>
<maxScale>5000</maxScale>
</scaleRange>
<ArcGISProfile>FGDC</ArcGISProfile>
</Esri>
<mdLang>
<languageCode value="eng">
</languageCode>
<countryCode Sync="TRUE" value="USA">
</countryCode>
</mdLang>
<mdChar>
<CharSetCd value="004">
</CharSetCd>
</mdChar>
<mdHrLv>
<ScopeCd value="005">
</ScopeCd>
</mdHrLv>
<mdContact>
<rpOrgName>Florida Department of Environmental Protection (FDEP) OTIS/GIS Section</rpOrgName>
<rpCntInfo>
<cntAddress addressType="both">
<delPoint>2600 Blair Stone Rd MS 6520</delPoint>
<city>Tallahassee</city>
<adminArea>FL</adminArea>
<postCode>32399-2400</postCode>
<country>US</country>
<eMailAdd>GIS.Librarian@dep.state.fl.us</eMailAdd>
</cntAddress>
</rpCntInfo>
<role>
<RoleCd value="010">
</RoleCd>
</role>
</mdContact>
<mdDateSt Sync="TRUE">20200406</mdDateSt>
<mdStanName>ArcGIS Metadata</mdStanName>
<mdStanVer>1.0</mdStanVer>
<dataIdInfo>
<idCitation>
<resTitle>Biscayne Aquifer Contamination Potential</resTitle>
<date>
<pubDate date="unknown">2017-05-10T00:00:00</pubDate>
</date>
<presForm>
<PresFormCd value="005">
</PresFormCd>
</presForm>
<presForm>
<fgdcGeoform>raster digital data</fgdcGeoform>
</presForm>
<citRespParty>
<rpIndName>Alan Baker</rpIndName>
<rpOrgName>Florida Geological Survey</rpOrgName>
<rpPosName>Professional Geologist Administrator</rpPosName>
<rpCntInfo>
<cntPhone>
<voiceNum tddtty="">850-617-0337</voiceNum>
</cntPhone>
<cntAddress addressType="both">
<delPoint>3000 Commonwealth Blvd., Suite 1</delPoint>
<city>Tallahassee</city>
<adminArea>FL</adminArea>
<postCode>32303</postCode>
<country>US</country>
<eMailAdd>Alan.Baker@dep.state.fl.us</eMailAdd>
</cntAddress>
</rpCntInfo>
<role>
<RoleCd value="006">
</RoleCd>
</role>
<displayName>Alan Baker</displayName>
</citRespParty>
</idCitation>
<idAbs>&lt;div style='text-align:Left;'&gt;&lt;div&gt;&lt;div&gt;&lt;p&gt;&lt;span&gt;The South Florida Surficial Aquifer system or Biscayne Aquifer FAVA Response theme grid is the relative vulnerability map for the Surficial Aquifer System. It was calculated using the ArcSDM extension and applying the weights of evidence method. A relative vulnerability class field is also in the table so that the grid can be symbolized into 4 vulnerability classes. These classes were developed based on posterior probability vs. cumulative area breaks.&lt;/span&gt;&lt;/p&gt;&lt;/div&gt;&lt;/div&gt;&lt;/div&gt;</idAbs>
<idPurp>Development of a relative vulnerability map for the Surficial Aquifer System in South Florida.</idPurp>
<idCredit>Advanced GeoSpatial Inc.</idCredit>
<idStatus>
<ProgCd value="001">
</ProgCd>
</idStatus>
<idPoC>
<rpIndName>Alan Baker</rpIndName>
<rpOrgName>Florida Geological Survey</rpOrgName>
<rpPosName>Professional Geologist Administrator</rpPosName>
<rpCntInfo>
<cntPhone>
<voiceNum tddtty="">850-617-0337</voiceNum>
</cntPhone>
<cntAddress addressType="both">
<delPoint>3000 Commonwealth Blvd., Suite 1</delPoint>
<city>Tallahassee</city>
<adminArea>FL</adminArea>
<postCode>32303</postCode>
<country>US</country>
<eMailAdd>Alan.Baker@dep.state.fl.us</eMailAdd>
</cntAddress>
</rpCntInfo>
<role>
<RoleCd value="007">
</RoleCd>
</role>
</idPoC>
<resMaint>
<maintFreq>
<MaintFreqCd value="009">
</MaintFreqCd>
</maintFreq>
</resMaint>
<placeKeys>
<keyword>Palm Beach</keyword>
<keyword>Miami-Dade</keyword>
<keyword>South Florida</keyword>
<keyword>Broward</keyword>
</placeKeys>
<themeKeys>
<thesaName>
<resTitle>ISO 19115 Topic Category</resTitle>
</thesaName>
<keyword>Geoscientific Information</keyword>
<keyword>Geology and Geophysics</keyword>
<keyword>Vulnerability</keyword>
</themeKeys>
<searchKeys>
<keyword>Geoscientific Information</keyword>
<keyword>Geology and Geophysics</keyword>
<keyword>Vulnerability</keyword>
<keyword>Palm Beach</keyword>
<keyword>Miami-Dade</keyword>
<keyword>South Florida</keyword>
<keyword>Broward</keyword>
</searchKeys>
<resConst>
<Consts>
<useLimit>&lt;div style='text-align:Left;'&gt;&lt;div&gt;&lt;div&gt;&lt;p&gt;&lt;span&gt;Maps generated as part of this project were developed by Advanced GeoSpatial Inc. (AGI) to provide FDEP with a ground-water resource management and protection tool to carry out agency responsibilities related to natural resource management and protection regarding the Floridan Aquifer System. Although efforts were made to ensure information in these maps is accurate and useful, neither FDEP nor AGI assumes responsibility for errors in the information and does not guarantee that the data is free from errors or inaccuracies. Similarly, AGI and FDEP assume no responsibility for consequences of inappropriate uses or interpretations of the data on these maps. Accordingly, these maps are distributed on an "as is" basis and the user assumes all risk as to their quality, results obtained from their use, and performance of the data. AGI and FDEP further make no warranties, either expressed or implied as to any other matter whatsoever, including, without limitation, the condition of the product, or its suitability for any particular purpose. The burden for determining suitability for use lies entirely with the end user. In no event shall AGI or FDEP, or their respective employees have any liability whatsoever for payment of any consequential, incidental, indirect, special, or tort damages of any kind, including, but not limited to, any loss of profits arising out of use of or reliance on the project results. AGI and FDEP bear no responsibility to inform users of any changes made to this data. Anyone using this data is advised that resolution implied by the data may far exceed actual accuracy and precision. Because this data was developed and collected with FDEP funding, no proprietary rights may be attached to it in whole or in part, nor may it be sold to FDEP or other government agency as part of any procurement of products or services.&lt;/span&gt;&lt;/p&gt;&lt;/div&gt;&lt;/div&gt;&lt;/div&gt;</useLimit>
</Consts>
</resConst>
<aggrInfo>
<aggrDSName>
<resTitle>South Florida SAS FAVA Model Response Theme</resTitle>
<date>
<pubDate date="unknown">
</pubDate>
</date>
<citRespParty>
<rpOrgName>Advanced GeoSpatial Inc.</rpOrgName>
<role>
<RoleCd value="006">
</RoleCd>
</role>
</citRespParty>
<datasetSeries>
<seriesName>Florida Aquifer Vulnerability Assessment: Contamination potential of Florida's principal aquifer systems</seriesName>
<issId>FGS Bulletin 67</issId>
</datasetSeries>
</aggrDSName>
<assocType>
<AscTypeCd value="001">
</AscTypeCd>
</assocType>
</aggrInfo>
<dataLang>
<languageCode value="eng">
</languageCode>
<countryCode Sync="TRUE" value="USA">
</countryCode>
</dataLang>
<envirDesc Sync="TRUE"> Version 6.2 (Build 9200) ; Esri ArcGIS 10.6.1.9270</envirDesc>
<dataExt>
<exDesc>ground condition</exDesc>
<tempEle>
<TempExtent>
<exTemp>
<TM_Instant>
<tmPosition>2007-01-01</tmPosition>
</TM_Instant>
</exTemp>
</TempExtent>
</tempEle>
</dataExt>
<dataExt>
<geoEle>
<GeoBndBox>
<westBL>-80.934191</westBL>
<eastBL>-79.981197</eastBL>
<southBL>25.214879</southBL>
<northBL>26.992059</northBL>
</GeoBndBox>
</geoEle>
</dataExt>
<spatRpType>
<SpatRepTypCd Sync="TRUE" value="002">
</SpatRepTypCd>
</spatRpType>
<dataExt>
<geoEle>
<GeoBndBox esriExtentType="search">
<exTypeCode Sync="TRUE">1</exTypeCode>
<westBL Sync="TRUE">-80.934191</westBL>
<eastBL Sync="TRUE">-79.981197</eastBL>
<northBL Sync="TRUE">26.992059</northBL>
<southBL Sync="TRUE">25.214879</southBL>
</GeoBndBox>
</geoEle>
</dataExt>
<dataChar>
<CharSetCd value="004">
</CharSetCd>
</dataChar>
<tpCat>
<TopicCatCd value="008">
</TopicCatCd>
</tpCat>
</dataIdInfo>
<dqInfo>
<dqScope>
<scpLvl>
<ScopeCd value="005">
</ScopeCd>
</scpLvl>
</dqScope>
<dataLineage>
<dataSource type="">
<srcCitatn>
<resTitle>Intermediate Confining Unit Thickness</resTitle>
<resAltTitle>Intermediate Confining Unit Thickness</resAltTitle>
<date>
<pubDate date="unknown">
</pubDate>
</date>
<citRespParty>
<rpOrgName>Florida Geological Survey</rpOrgName>
<role>
<RoleCd value="006">
</RoleCd>
</role>
</citRespParty>
</srcCitatn>
</dataSource>
<prcStep>
<stepDesc>The South Florida SAS FAVA Response Theme grid is the relative vulnerability map for the Surficial Aquifer System. It was calculated using the ArcSDM extension and applying the weights of evidence method. An analysis extent (study area), training point theme, and modeling method (weights of evidence) are selected in the set analysis parameters. Weights are then calculated on each evidential theme and then the themes are generalized (into binary patterns). A generalization of 1 represents "more vulnerable" areas, 2 represents "less vulnerable areas and -99 represents missing data. A response theme is then calculated based on the association between training points and evidential themes. A relative vulnerability class field is also in the table so that the grid can be symbolized into 4 vulnerability classes .</stepDesc>
<stepDateTm>2008-01-01</stepDateTm>
<stepProc>
<rpOrgName>Advanced GeoSpatial Inc.</rpOrgName>
<rpCntInfo>
<cntPhone>
<voiceNum>850-580-4447</voiceNum>
</cntPhone>
<cntAddress addressType="both">
<delPoint>1949 Raymond Diehl Rd.</delPoint>
<delPoint>Suite D</delPoint>
<city>Tallahassee</city>
<adminArea>FL</adminArea>
<postCode>32308</postCode>
<country>US</country>
</cntAddress>
</rpCntInfo>
<role>
<RoleCd value="009">
</RoleCd>
</role>
</stepProc>
</prcStep>
<prcStep>
