<?xml version="1.0" encoding="UTF-8" standalone="no"?>
<metadata>
<idinfo>
<citation>
<citeinfo>
<origin>Florida Geological Survey</origin>
<pubdate>Unknown</pubdate>
<title>Floridan Aquifer System Contamination Potential </title>
<geoform Sync="TRUE">SDE raster digital data</geoform>
<serinfo>
<sername>Florida Aquifer Vulnerability Assessment: Contamination potential of Florida's principal aquifer systems</sername>
<issue>FGS Bulletin 67</issue>
</serinfo>
<onlink Sync="FALSE">withheld</onlink>
<ftname Sync="FALSE">FAS_RESPONSE</ftname>
</citeinfo>
</citation>
<descript>
<abstract>The Floridan Aquifer System Response theme grid is the relative vulnerability map for the Floridan Aquifer System. It was calculated using the ArcSDM extension and applying the weights of evidence and logistical regression method. The total number of unique conditions, number of training points per unique condition, evidential theme generalizations and posterior probability are contained in the table. A relative vulnerability class field is also in the table so that the grid can be symbolized based on FAVA vulnerability zones.</abstract>
<purpose>Development of a relative vulnerability map for the Floridan Aquifer System</purpose>
<langdata Sync="TRUE">en</langdata>
</descript>
<timeperd>
<timeinfo>
<sngdate>
<caldate>unknown</caldate>
</sngdate>
</timeinfo>
<current>publication date</current>
</timeperd>
<status>
<progress>Complete</progress>
<update>As needed</update>
</status>
<spdom>
<bounding>
<westbc Sync="TRUE">-87.639226</westbc>
<eastbc Sync="TRUE">-79.872480</eastbc>
<northbc Sync="TRUE">31.042857</northbc>
<southbc Sync="TRUE">25.090983</southbc>
</bounding>
<lboundng>
<leftbc Sync="TRUE">52668.027344</leftbc>
<rightbc Sync="TRUE">793968.027344</rightbc>
<bottombc Sync="TRUE">127156.671875</bottombc>
<topbc Sync="TRUE">781606.671875</topbc>
</lboundng>
</spdom>
<keywords>
<theme>
<themekt>ISO 19115 Topic Category</themekt>
<themekey>Geoscientific Information</themekey>
<themekey>Vulnerability</themekey>
<themekey>Environmental Monitoring and Modeling</themekey>
<themekey>Geology and Geophysics</themekey>
</theme>
<place>
<placekey>Florida</placekey>
<placekey>Floridan Aquifer System</placekey>
</place>
</keywords>
<accconst>none</accconst>
<useconst>DISCLAIMER:
This geologic data was developed by the Florida Department of Environmental Protection (FDEP) - Florida Geological Survey (FGS) to carry out agency responsibilities related to management, protection, and development of Florida's natural resources. Although efforts have been made to make the information accurate and useful, the FDEP/FGS assumes no responsibility for errors in the information and does not guarantee that the data are free from errors or inaccuracies. Similarly FDEP/FGS assumes no responsibility for the consequences of inappropriate uses or interpretations of the data. As such, these digital data are distributed on "as is" basis and the user assumes all risk as to their quality, the results obtained from their use, and the performance of the data. FDEP/FGS bears no responsibility to inform users of any subsequent changes made to this data. Anyone using this data is advised that precision implied by the data may far exceed actual precision. Comments on this data are invited and FDEP/FGS would appreciate that documented errors be brought to staff attention. The development of these data sets represents a major investment of staff time and effort. As a professional responsibility, we expect that the FDEP/FGS will receive proper credit when you utilize these data sets. Further, since part of this data was developed and collected with U.S. Government or State of Florida funding, no proprietary rights may be attached to it in whole or in part, nor may it be sold to the U.S. Government or the Florida State Government as part of any procurement of products or services.</useconst>
<ptcontac>
<cntinfo>
<cntorgp>
<cntorg>Florida Geological Survey</cntorg>
</cntorgp>
<cntpos>Geographic Information Systems</cntpos>
<cntaddr>
<addrtype>mailing and physical address</addrtype>
<address>Gunter Building MS #720</address>
<address>903 W. Tennessee St.</address>
<city>Tallahassee</city>
<state>FL</state>
<postal>32304-7700</postal>
<country>USA</country>
</cntaddr>
<cntvoice>850-488-4191</cntvoice>
<cntfax>850-488-8086</cntfax>
</cntinfo>
</ptcontac>
<datacred>Florida Geological Survey</datacred>
<native Sync="FALSE">ESRI ArcCatalog 9.3.1.4000</native>
<natvform Sync="FALSE">Raster Dataset</natvform>
</idinfo>
<dataqual>
<lineage>
<procstep>
<procdesc>The Floridan Aquifer Response theme grid is the relative vulnerability map for the Floridan Aquifer System. It was calculated using the ArcSDM extension and applying the weights of evidence and logistic regression methods. An analysis extent (study area), training point theme (fas_training_pts.shp), and modeling method (weights of evidence, logistic regression) are selected in the set analysis parameters. Weights are then calculated on each evidential theme and then the themes are generalized (into binary patterens, ias_thk is the exception with three classes). A generalization of 1 represents "more vulnerable" areas, 2 represents "less vulnerable areas and -99 represents missing data. A response theme is then calculated based on the association between training points and evidential themes. The total number of unique conditions, number of training points per unique condition, evidential theme generalizations and logistic regression posterior probability are contained in the table. A relative vulnerability class field is also in the table so that the grid can be symbolized based on FAVA vulnerability zones.</procdesc>
<procdate>Unknown</procdate>
<proccont>
<cntinfo>
<cntorgp>
<cntorg>Florida Geological Survey</cntorg>
</cntorgp>
<cntaddr>
<addrtype>mailing and physical address</addrtype>
<address>Gunter Building MS #720</address>
<address>903 W. Tennessee St.</address>
<city>Tallahassee</city>
<state>FL</state>
<postal>32304-7700</postal>
<country>USA</country>
</cntaddr>
<cntvoice>850-488-4191</cntvoice>
<cntfax>850-488-8086</cntfax>
</cntinfo>
</proccont>
</procstep>
<procstep>
<procdesc>Raster data added to ArcSDE 9.3 and published in DataMiner.</procdesc>
<procdate>20081215</procdate>
</procstep>
</lineage>
</dataqual>
<spdoinfo>
<direct Sync="TRUE">Raster</direct>
<rastinfo>
<rasttype Sync="TRUE">Pixel</rasttype>
<rowcount Sync="TRUE">21815</rowcount>
<colcount Sync="TRUE">24710</colcount>
<vrtcount Sync="TRUE">1</vrtcount>
<rastxsz Sync="TRUE">30.000000</rastxsz>
<rastysz Sync="TRUE">30.000000</rastysz>
<rastbpp Sync="TRUE">16</rastbpp>
<rastorig Sync="TRUE">Upper Left</rastorig>
<rastcmap Sync="TRUE">FALSE</rastcmap>
<rastcomp Sync="TRUE">LZ77</rastcomp>
<rastband Sync="TRUE">1</rastband>
<rastdtyp Sync="TRUE">pixel codes</rastdtyp>
<rastifor Sync="TRUE">SDR</rastifor>
<rastplyr Sync="TRUE">TRUE</rastplyr>
</rastinfo>
</spdoinfo>
<spref>
<horizsys>
<planar>
<planci>
<plance Sync="TRUE">row and column</plance>
<coordrep>
<absres Sync="TRUE">30.000000</absres>
<ordres Sync="TRUE">30.000000</ordres>
</coordrep>
<plandu Sync="TRUE">meters</plandu>
</planci>
</planar>
<geodetic>
<horizdn Sync="TRUE">D_North_American_1983_HARN</horizdn>
<ellips Sync="TRUE">Geodetic Reference System 80</ellips>
<semiaxis Sync="TRUE">6378137.000000</semiaxis>
<denflat Sync="TRUE">298.257222</denflat>
</geodetic>
<cordsysn>
<geogcsn Sync="TRUE">GCS_North_American_1983_HARN</geogcsn>
<projcsn Sync="TRUE">NAD_1983_HARN_Albers</projcsn>
</cordsysn>
</horizsys>
<vertdef>
<altsys>
<altres>1.000000</altres>
<altenc>Explicit elevation coordinate included with horizontal coordinates</altenc>
</altsys>
</vertdef>
</spref>
<eainfo>
<detailed Name="SDE_VAT_21">
<enttyp>
<enttypl Sync="FALSE">SDE_VAT_21</enttypl>
<enttypt Sync="TRUE">Table</enttypt>
<enttypc Sync="TRUE">77</enttypc>
</enttyp>
<attr>
<attrlabl Sync="TRUE">OBJECTID</attrlabl>
<attalias Sync="TRUE">OBJECTID</attalias>
<attrtype Sync="TRUE">OID</attrtype>
<attwidth Sync="TRUE">4</attwidth>
<atprecis Sync="TRUE">10</atprecis>
<attscale Sync="TRUE">0</attscale>
<attrdef Sync="TRUE">Internal feature number.</attrdef>
<attrdefs Sync="TRUE">Esri</attrdefs>
<attrdomv>
<udom Sync="TRUE">Sequential unique whole numbers that are automatically generated.</udom>
</attrdomv>
</attr>
<attr>
<attrlabl>AREA_SQM</attrlabl>
<attalias Sync="TRUE">AREA_SQM</attalias>
<attrtype Sync="TRUE">Double</attrtype>
<attwidth Sync="TRUE">8</attwidth>
<atprecis Sync="TRUE">38</atprecis>
<attscale Sync="TRUE">8</attscale>
<attrdef Sync="FALSE">Area (sq meters)</attrdef>
<attrdefs Sync="TRUE">ESRI</attrdefs>
<attrdomv>
<udom Sync="TRUE">
</udom>
</attrdomv>
</attr>
<attr>
<attrlabl>TRNGPOINTS</attrlabl>
<attalias Sync="TRUE">TRNGPOINTS</attalias>
<attrtype Sync="TRUE">Integer</attrtype>
<attwidth Sync="TRUE">4</attwidth>
<atprecis Sync="TRUE">10</atprecis>
<attscale Sync="TRUE">0</attscale>
<attrdef Sync="FALSE">Number of training points per unique condition</attrdef>
<attrdefs Sync="TRUE">
</attrdefs>
<attrdomv>
<udom Sync="TRUE">
</udom>
</attrdomv>
</attr>
<attr>
<attrlabl>VUL_INT</attrlabl>
<attalias Sync="TRUE">VUL_INT</attalias>
<attrtype Sync="TRUE">Integer</attrtype>
<attwidth Sync="TRUE">4</attwidth>
<atprecis Sync="TRUE">10</atprecis>
<attscale Sync="TRUE">0</attscale>
<attrdef Sync="FALSE">Logistic regression standard deviation</attrdef>
<attrdefs Sync="TRUE">
</attrdefs>
<attrdomv>
<udom Sync="TRUE">
</udom>
</attrdomv>
</attr>
<attr>
<attrlabl>VUL_CLASS2</attrlabl>
<attalias Sync="TRUE">VUL_CLASS2</attalias>
<attrtype Sync="TRUE">String</attrtype>
<attwidth Sync="TRUE">16</attwidth>
<atprecis Sync="TRUE">0</atprecis>
<attscale Sync="TRUE">0</attscale>
<attrdef Sync="FALSE">Vulnerability class</attrdef>
<attrdefs Sync="TRUE">
</attrdefs>
<attrdomv>
<udom Sync="TRUE">
</udom>
</attrdomv>
</attr>
<attr>
<attrlabl>SOIL_PERM</attrlabl>
<attalias Sync="TRUE">SOIL_PERM</attalias>
<attrtype Sync="TRUE">Double</attrtype>
<attwidth Sync="TRUE">8</attwidth>
<atprecis Sync="TRUE">38</atprecis>
<attscale Sync="TRUE">8</attscale>
<attrdef Sync="FALSE">Generalization of soil permeability evidential theme</attrdef>
<attrdefs Sync="TRUE">
</attrdefs>
<attrdomv>
<udom Sync="TRUE">
</udom>
</attrdomv>
</attr>
<attr>
<attrlabl>IAS_THK</attrlabl>
<attalias Sync="TRUE">IAS_THK</attalias>
<attrtype Sync="TRUE">Double</attrtype>
<attwidth Sync="TRUE">8</attwidth>
<atprecis Sync="TRUE">38</atprecis>
<attscale Sync="TRUE">8</attscale>
<attrdef Sync="FALSE">Generalization of IAS thickness evidential theme</attrdef>
<attrdefs Sync="TRUE">
</attrdefs>
<attrdomv>
<udom Sync="TRUE">
</udom>
</attrdomv>
</attr>
<attr>
<attrlabl>K_BUFF60M</attrlabl>
<attrdef>Generalization of proximity to effective karst evidential theme</attrdef>
<attrdomv>
<udom>Sequential unique whole numbers that are automatically generated.</udom>
</attrdomv>
<attalias Sync="TRUE">K_BUFF60M</attalias>
<attrtype Sync="TRUE">Double</attrtype>
<attwidth Sync="TRUE">8</attwidth>
<atprecis Sync="TRUE">38</atprecis>
<attscale Sync="TRUE">8</attscale>
</attr>
<attr>
<attrlabl>HEAD_DIFF</attrlabl>
<attrdef>Generalization of hydraulic head difference evidential theme</attrdef>
<attalias Sync="TRUE">HEAD_DIFF</attalias>
<attrtype Sync="TRUE">Double</attrtype>
<attwidth Sync="TRUE">8</attwidth>
<atprecis Sync="TRUE">38</atprecis>
<attscale Sync="TRUE">8</attscale>
</attr>
<attr>
<attrlabl>LRPOST_PROB</attrlabl>
<attrdef>Logistic regression posterior probability - The probability that a unit cell contains a training point after considering the evidential themes.</attrdef>
<attrdomv>
<udom>.</udom>
</attrdomv>
<attalias Sync="TRUE">LRPOST_PROB</attalias>
<attrtype Sync="TRUE">Double</attrtype>
<attwidth Sync="TRUE">8</attwidth>
<atprecis Sync="TRUE">38</atprecis>
<attscale Sync="TRUE">8</attscale>
</attr>
<attr>
<attrlabl>VALUE</attrlabl>
<attalias Sync="TRUE">VALUE</attalias>
<attrtype Sync="TRUE">Integer</attrtype>
<attwidth Sync="TRUE">4</attwidth>
<atprecis Sync="TRUE">10</atprecis>
<attscale Sync="TRUE">0</attscale>
<attrdef Sync="FALSE">Number of unique conditions</attrdef>
<attrdefs Sync="TRUE">ESRI</attrdefs>
<attrdomv>
<udom Sync="TRUE">
</udom>
</attrdomv>
</attr>
<attr>
<attrlabl>COUNT</attrlabl>
<attrdef>Number of cells per unique condition</attrdef>
<attalias Sync="TRUE">COUNT</attalias>
<attrtype Sync="TRUE">Integer</attrtype>
<attwidth Sync="TRUE">4</attwidth>
<atprecis Sync="TRUE">10</atprecis>
<attscale Sync="TRUE">0</attscale>
</attr>
<attr>
<attrlabl>LR_STD_DEV</attrlabl>
<attalias Sync="TRUE">LR_STD_DEV</attalias>
<attrtype Sync="TRUE">Double</attrtype>
<attwidth Sync="TRUE">8</attwidth>
<atprecis Sync="TRUE">38</atprecis>
<attscale Sync="TRUE">8</attscale>
</attr>
</detailed>
</eainfo>
<distinfo>
<distrib>
<cntinfo>
<cntorgp>
<cntorg>Florida Geological Survey</cntorg>
</cntorgp>
<cntaddr>
<addrtype>mailing and physical address</addrtype>
<address>Gunter Building MS #720</address>
<address>903 W. Tennessee St.</address>
<city>Tallahassee</city>
<state>FL</state>
<postal>32304-7700</postal>
<country>USA</country>
</cntaddr>
<cntvoice>850-488-4191</cntvoice>
<cntfax>850-488-8086</cntfax>
</cntinfo>
</distrib>
<resdesc>Downloadable Data</resdesc>
<stdorder>
<digform>
<digtinfo>
<transize>17.594</transize>
</digtinfo>
</digform>
</stdorder>
</distinfo>
<metainfo>
<metd Sync="TRUE">20130130</metd>
<metc>
<cntinfo>
<cntorgp>
<cntorg>Florida Department of Environmental Protection (FDEP) OTIS/GIS Section</cntorg>
</cntorgp>
<cntaddr>
<addrtype>mailing and physical address</addrtype>
<city>Tallahassee</city>
<state>FL</state>
<postal>32399-2400</postal>
<country>USA</country>
<address>2600 Blair Stone Rd</address>
<address>MS 6520</address>
</cntaddr>
<cntemail>GIS.Librarian@dep.state.fl.us</cntemail>
</cntinfo>
</metc>
<metstdn Sync="TRUE">FGDC Content Standards for Digital Geospatial Metadata</metstdn>
<metstdv Sync="TRUE">FGDC-STD-001-1998</metstdv>
<mettc Sync="TRUE">local time</mettc>
<langmeta Sync="TRUE">en</langmeta>
</metainfo>
<Esri>
<MetaID>{096B2789-BA0D-4FDD-A2F7-CEE73F9E6874}</MetaID>
<CreaDate>20101215</CreaDate>
<CreaTime>10331500</CreaTime>
<SyncOnce>FALSE</SyncOnce>
<SyncDate>20190322</SyncDate>
<SyncTime>13571000</SyncTime>
<ModDate>20190322</ModDate>
<ModTime>13571000</ModTime>
<ArcGISProfile>FGDC</ArcGISProfile>
<DataProperties>
<itemProps>
<itemName Sync="FALSE">FAS_RESPONSE</itemName>
<nativeExtBox>
<westBL Sync="TRUE">52668.027344</westBL>
<eastBL Sync="TRUE">793968.027344</eastBL>
<southBL Sync="TRUE">127156.671875</southBL>
<northBL Sync="TRUE">781606.671875</northBL>
<exTypeCode Sync="TRUE">1</exTypeCode>
</nativeExtBox>
<imsContentType export="False">002</imsContentType>
</itemProps>
<coordRef>
<type Sync="TRUE">Projected</type>
<geogcsn Sync="TRUE">GCS_North_American_1983_HARN</geogcsn>
<csUnits Sync="TRUE">Linear Unit: Meter (1.000000)</csUnits>
<projcsn Sync="TRUE">NAD_1983_HARN_Albers</projcsn>
<peXml Sync="TRUE">&lt;ProjectedCoordinateSystem xsi:type='typens:ProjectedCoordinateSystem' xmlns:xsi='http://www.w3.org/2001/XMLSchema-instance' xmlns:xs='http://www.w3.org/2001/XMLSchema' xmlns:typens='http://www.esri.com/schemas/ArcGIS/10.6'&gt;&lt;WKT&gt;PROJCS[&amp;quot;NAD_1983_HARN_Albers&amp;quot;,GEOGCS[&amp;quot;GCS_North_American_1983_HARN&amp;quot;,DATUM[&amp;quot;D_North_American_1983_HARN&amp;quot;,SPHEROID[&amp;quot;GRS_1980&amp;quot;,6378137.0,298.257222101]],PRIMEM[&amp;quot;Greenwich&amp;quot;,0.0],UNIT[&amp;quot;Degree&amp;quot;,0.0174532925199433]],PROJECTION[&amp;quot;Albers&amp;quot;],PARAMETER[&amp;quot;False_Easting&amp;quot;,400000.0],PARAMETER[&amp;quot;False_Northing&amp;quot;,0.0],PARAMETER[&amp;quot;Central_Meridian&amp;quot;,-84.0],PARAMETER[&amp;quot;Standard_Parallel_1&amp;quot;,24.0],PARAMETER[&amp;quot;Standard_Parallel_2&amp;quot;,31.5],PARAMETER[&amp;quot;Latitude_Of_Origin&amp;quot;,24.0],UNIT[&amp;quot;Meter&amp;quot;,1.0]]&lt;/WKT&gt;&lt;XOrigin&gt;-19550100&lt;/XOrigin&gt;&lt;YOrigin&gt;-7526400&lt;/YOrigin&gt;&lt;XYScale&gt;225743210.67916927&lt;/XYScale&gt;&lt;ZOrigin&gt;0&lt;/ZOrigin&gt;&lt;ZScale&gt;1&lt;/ZScale&gt;&lt;MOrigin&gt;0&lt;/MOrigin&gt;&lt;MScale&gt;1&lt;/MScale&gt;&lt;XYTolerance&gt;0.001&lt;/XYTolerance&gt;&lt;ZTolerance&gt;2&lt;/ZTolerance&gt;&lt;MTolerance&gt;2&lt;/MTolerance&gt;&lt;HighPrecision&gt;true&lt;/HighPrecision&gt;&lt;/ProjectedCoordinateSystem&gt;</peXml>
</coordRef>
</DataProperties>
<ArcGISFormat>1.0</ArcGISFormat>
<scaleRange>
<minScale>150000000</minScale>
<maxScale>5000</maxScale>
</scaleRange>
</Esri>
<mdLang>
<languageCode value="eng">
</languageCode>
<countryCode Sync="TRUE" value="USA">
</countryCode>
</mdLang>
<mdChar>
<CharSetCd value="004">
</CharSetCd>
</mdChar>
<mdHrLv>
<ScopeCd value="005">
</ScopeCd>
</mdHrLv>
<mdContact>
<rpOrgName>Florida Department of Environmental Protection (FDEP) OTIS/GIS Section</rpOrgName>
<rpCntInfo>
<cntAddress addressType="both">
<delPoint>MS 6520</delPoint>
<delPoint>2600 Blair Stone Rd</delPoint>
<city>Tallahassee</city>
<adminArea>FL</adminArea>
<postCode>32399-2400</postCode>
<country>US</country>
<eMailAdd>GIS.Librarian@dep.state.fl.us</eMailAdd>
</cntAddress>
</rpCntInfo>
<role>
<RoleCd value="010">
</RoleCd>
</role>
</mdContact>
<mdStanName>ArcGIS Metadata</mdStanName>
<mdStanVer>1.0</mdStanVer>
<distInfo>
<distFormat>
<formatName Sync="FALSE">Raster Dataset</formatName>
<formatVer>10.2</formatVer>
</distFormat>
<distTranOps>
<onLineSrc>
<linkage>http://publicfiles.dep.state.fl.us/OTIS/GIS/data/FAS_RESPONSE.zip</linkage>
<orName>File Geodatabase</orName>
<orFunct>
<OnFunctCd value="001">
</OnFunctCd>
</orFunct>
</onLineSrc>
<onLineSrc>
<linkage>http://publicfiles.dep.state.fl.us/OTIS/GIS/data/fas_response_tiff.zip</linkage>
<orName>Source TiFF</orName>
<orFunct>
<OnFunctCd value="001">
</OnFunctCd>
</orFunct>
</onLineSrc>
</distTranOps>
</distInfo>
<dataIdInfo>
<idCitation>
<resTitle>Floridan Aquifer System Contamination Potential</resTitle>
<date>
<pubDate date="unknown">2008-12-15T00:00:00</pubDate>
</date>
<datasetSeries>
<seriesName>Florida Aquifer Vulnerability Assessment: Contamination potential of Florida's principal aquifer systems</seriesName>
<issId>FGS Bulletin 67</issId>
</datasetSeries>
<presForm>
<PresFormCd Sync="TRUE" value="011">
</PresFormCd>
<fgdcGeoform>raster digital data</fgdcGeoform>
</presForm>
<citRespParty>
<editorSource>external</editorSource>
<editorDigest>3c804d5139e2967f4cf5726da9844bb</editorDigest>
<rpIndName>Alan Baker</rpIndName>
<rpOrgName>Florida Geological Survey</rpOrgName>
<rpPosName>Professional Geologist Administrator</rpPosName>
<rpCntInfo>
<cntAddress addressType="both">
<delPoint>3000 Commonwealth Blvd., Suite 1</delPoint>
<city>Tallahassee</city>
<adminArea>FL</adminArea>
<postCode>32303</postCode>
<eMailAdd>Alan.Baker@dep.state.fl.us</eMailAdd>
<country>US</country>
</cntAddress>
<cntPhone>
<voiceNum tddtty="">850-617-0337</voiceNum>
</cntPhone>
</rpCntInfo>
<displayName>Alan Baker</displayName>
<editorSave>True</editorSave>
<displayName>Alan Baker</displayName>
<role>
<RoleCd value="006">
</RoleCd>
</role>
</citRespParty>
</idCitation>
<idAbs>&lt;div style='text-align:Left;'&gt;&lt;div&gt;&lt;div&gt;&lt;p&gt;&lt;span&gt;The Floridan Aquifer System Response theme grid is the relative vulnerability map for the Floridan Aquifer System. It was calculated using the ArcSDM extension and applying the weights of evidence and logistical regression method. The total number of unique conditions, number of training points per unique condition, evidential theme generalizations and posterior probability are contained in the table. A relative vulnerability class field is also in the table so that the grid can be symbolized based on FAVA vulnerability zones.&lt;/span&gt;&lt;/p&gt;&lt;/div&gt;&lt;/div&gt;&lt;/div&gt;</idAbs>
<idPurp>Development of a relative vulnerability map for the Floridan Aquifer System</idPurp>
<idCredit>Florida Geological Survey</idCredit>
<idStatus>
<ProgCd value="001">
</ProgCd>
</idStatus>
<resMaint>
<maintFreq>
<MaintFreqCd value="009">
</MaintFreqCd>
</maintFreq>
</resMaint>
<placeKeys>
<keyword>Floridan Aquifer System</keyword>
<keyword>Florida</keyword>
</placeKeys>
<themeKeys>
<thesaName>
<resTitle>ISO 19115 Topic Category</resTitle>
</thesaName>
<keyword>Geoscientific Information</keyword>
<keyword>Environmental Monitoring and Modeling</keyword>
<keyword>Vulnerability</keyword>
<keyword>Geology and Geophysics</keyword>
</themeKeys>
<searchKeys>
<keyword>Floridan Aquifer System</keyword>
<keyword>Florida</keyword>
<keyword>Geoscientific Information</keyword>
<keyword>Environmental Monitoring and Modeling</keyword>
<keyword>Vulnerability</keyword>
<keyword>Geology and Geophysics</keyword>
</searchKeys>
<resConst>
<Consts>
<useLimit>&lt;div style='text-align:Left;'&gt;&lt;div&gt;&lt;div&gt;&lt;p&gt;&lt;span&gt;DISCLAIMER: This geologic data was developed by the Florida Department of Environmental Protection (FDEP) - Florida Geological Survey (FGS) to carry out agency responsibilities related to management, protection, and development of Florida's natural resources. Although efforts have been made to make the information accurate and useful, the FDEP/FGS assumes no responsibility for errors in the information and does not guarantee that the data are free from errors or inaccuracies. Similarly FDEP/FGS assumes no responsibility for the consequences of inappropriate uses or interpretations of the data. As such, these digital data are distributed on "as is" basis and the user assumes all risk as to their quality, the results obtained from their use, and the performance of the data. FDEP/FGS bears no responsibility to inform users of any subsequent changes made to this data. Anyone using this data is advised that precision implied by the data may far exceed actual precision. Comments on this data are invited and FDEP/FGS would appreciate that documented errors be brought to staff attention. The development of these data sets represents a major investment of staff time and effort. As a professional responsibility, we expect that the FDEP/FGS will receive proper credit when you utilize these data sets. Further, since part of this data was developed and collected with U.S. Government or State of Florida funding, no proprietary rights may be attached to it in whole or in part, nor may it be sold to the U.S. Government or the Florida State Government as part of any procurement of products or services.&lt;/span&gt;&lt;/p&gt;&lt;/div&gt;&lt;/div&gt;&lt;/div&gt;</useLimit>
</Consts>
</resConst>
<dataLang>
<languageCode value="eng">
</languageCode>
<countryCode Sync="TRUE" value="USA">
</countryCode>
</dataLang>
<dataExt>
<exDesc>publication date</exDesc>
<tempEle>
<TempExtent>
<exTemp>
<TM_Instant>
<tmPosition date="unknown">2008-12-15T00:00:00</tmPosition>
</TM_Instant>
</exTemp>
</TempExtent>
</tempEle>
</dataExt>
<envirDesc Sync="TRUE"> Version 6.2 (Build 9200) ; Esri ArcGIS 10.6.1.9270</envirDesc>
<spatRpType>
<SpatRepTypCd Sync="TRUE" value="002">
</SpatRepTypCd>
</spatRpType>
<dataExt>
<geoEle>
<GeoBndBox esriExtentType="search">
<exTypeCode Sync="TRUE">1</exTypeCode>
<westBL Sync="TRUE">-87.639226</westBL>
<eastBL Sync="TRUE">-79.872480</eastBL>
<northBL Sync="TRUE">31.042857</northBL>
<southBL Sync="TRUE">25.090983</southBL>
</GeoBndBox>
</geoEle>
</dataExt>
<resConst>
<LegConsts>
<accessConsts>
