{ "currentVersion": 10.71, "serviceDescription": "
The top of the Floridan Aquifer System was created by using FGS well core and cuttings data. The surface was interpolated by using the kriging method of the ArcGIS Geostatistical Analyst extension.<\/span><\/p><\/div><\/div><\/div>",
"name": "OpenData/FAS_TOP",
"description": " The top of the Floridan Aquifer System was created by using FGS well core and cuttings data. The surface was interpolated by using the kriging method of the ArcGIS Geostatistical Analyst extension.<\/span><\/p><\/div><\/div><\/div>",
"extent": {
"xmin": 49797.27190464776,
"ymin": 57454.08285952732,
"xmax": 797037.2719046478,
"ymax": 784414.0828595273,
"spatialReference": {
"wkid": 102967,
"latestWkid": 6439
}
},
"initialExtent": {
"xmin": 49797.27190464776,
"ymin": 57454.08285952732,
"xmax": 797037.2719046478,
"ymax": 784414.0828595273,
"spatialReference": {
"wkid": 102967,
"latestWkid": 6439
}
},
"fullExtent": {
"xmin": 49797.27190464776,
"ymin": 57454.08285952732,
"xmax": 797037.2719046478,
"ymax": 784414.0828595273,
"spatialReference": {
"wkid": 102967,
"latestWkid": 6439
}
},
"pixelSizeX": 390,
"pixelSizeY": 390,
"bandCount": 1,
"pixelType": "S16",
"minPixelSize": 0,
"maxPixelSize": 0,
"copyrightText": "Florida Geological Survey",
"serviceDataType": "esriImageServiceDataTypeGeneric",
"minValues": [
-1439
],
"maxValues": [
162
],
"meanValues": [
-300.95483687562023
],
"stdvValues": [
361.53914590782244
],
"objectIdField": "",
"fields": [],
"capabilities": "Mensuration,Image,Metadata",
"defaultMosaicMethod": "Center",
"allowedMosaicMethods": "",
"sortField": "",
"sortValue": null,
"mosaicOperator": "First",
"defaultCompressionQuality": 75,
"defaultResamplingMethod": "Bilinear",
"maxImageHeight": 4100,
"maxImageWidth": 15000,
"allowRasterFunction": true,
"rasterFunctionInfos": [
{
"name": "FAS_TOP_6439",
"description": "A raster function template.",
"help": ""
},
{
"name": "None",
"description": "",
"help": ""
}
],
"rasterTypeInfos": [
{
"name": "Raster Dataset",
"description": "Supports all ArcGIS Raster Datasets",
"help": ""
}
],
"mensurationCapabilities": "Basic",
"hasHistograms": true,
"hasColormap": false,
"hasRasterAttributeTable": false,
"minScale": 0,
"maxScale": 0,
"exportTilesAllowed": false,
"hasMultidimensions": false,
"supportsStatistics": false,
"supportsAdvancedQueries": false,
"editFieldsInfo": null,
"ownershipBasedAccessControlForRasters": null,
"allowComputeTiePoints": false,
"useStandardizedQueries": true,
"advancedQueryCapabilities": {
"useStandardizedQueries": true,
"supportsStatistics": false,
"supportsOrderBy": false,
"supportsDistinct": false,
"supportsPagination": false
},
"spatialReference": {
"wkid": 102967,
"latestWkid": 6439
}
}