<?xml version="1.0" encoding="UTF-8" standalone="no"?>
<metadata xml:lang="en">
<Esri>
<CreaDate>20161110</CreaDate>
<CreaTime>11103000</CreaTime>
<ArcGISFormat>1.0</ArcGISFormat>
<ArcGISstyle>ISO 19139 Metadata Implementation Specification</ArcGISstyle>
<SyncOnce>FALSE</SyncOnce>
<DataProperties>
<itemProps>
<itemName Sync="TRUE">may2012grd</itemName>
<nativeExtBox>
<westBL Sync="TRUE">50676.150529</westBL>
<eastBL Sync="TRUE">794676.150529</eastBL>
<southBL Sync="TRUE">57882.660000</southBL>
<northBL Sync="TRUE">781382.660000</northBL>
<exTypeCode Sync="TRUE">1</exTypeCode>
</nativeExtBox>
<imsContentType Sync="TRUE">002</imsContentType>
</itemProps>
<coordRef>
<type Sync="TRUE">Projected</type>
<geogcsn Sync="TRUE">GCS_North_American_1983_HARN</geogcsn>
<csUnits Sync="TRUE">Linear Unit: Meter (1.000000)</csUnits>
<projcsn Sync="TRUE">NAD_1983_HARN_Albers</projcsn>
<peXml Sync="TRUE">&lt;ProjectedCoordinateSystem xsi:type='typens:ProjectedCoordinateSystem' xmlns:xsi='http://www.w3.org/2001/XMLSchema-instance' xmlns:xs='http://www.w3.org/2001/XMLSchema' xmlns:typens='http://www.esri.com/schemas/ArcGIS/10.3'&gt;&lt;WKT&gt;PROJCS[&amp;quot;NAD_1983_HARN_Albers&amp;quot;,GEOGCS[&amp;quot;GCS_North_American_1983_HARN&amp;quot;,DATUM[&amp;quot;D_North_American_1983_HARN&amp;quot;,SPHEROID[&amp;quot;GRS_1980&amp;quot;,6378137.0,298.257222101]],PRIMEM[&amp;quot;Greenwich&amp;quot;,0.0],UNIT[&amp;quot;Degree&amp;quot;,0.0174532925199433]],PROJECTION[&amp;quot;Albers&amp;quot;],PARAMETER[&amp;quot;False_Easting&amp;quot;,400000.0],PARAMETER[&amp;quot;False_Northing&amp;quot;,0.0],PARAMETER[&amp;quot;Central_Meridian&amp;quot;,-84.0],PARAMETER[&amp;quot;Standard_Parallel_1&amp;quot;,24.0],PARAMETER[&amp;quot;Standard_Parallel_2&amp;quot;,31.5],PARAMETER[&amp;quot;Latitude_Of_Origin&amp;quot;,24.0],UNIT[&amp;quot;Meter&amp;quot;,1.0]]&lt;/WKT&gt;&lt;XOrigin&gt;-19550100&lt;/XOrigin&gt;&lt;YOrigin&gt;-7526400&lt;/YOrigin&gt;&lt;XYScale&gt;225743210.67916927&lt;/XYScale&gt;&lt;ZOrigin&gt;-100000&lt;/ZOrigin&gt;&lt;ZScale&gt;10000&lt;/ZScale&gt;&lt;MOrigin&gt;-100000&lt;/MOrigin&gt;&lt;MScale&gt;10000&lt;/MScale&gt;&lt;XYTolerance&gt;0.001&lt;/XYTolerance&gt;&lt;ZTolerance&gt;0.001&lt;/ZTolerance&gt;&lt;MTolerance&gt;0.001&lt;/MTolerance&gt;&lt;HighPrecision&gt;true&lt;/HighPrecision&gt;&lt;/ProjectedCoordinateSystem&gt;</peXml>
</coordRef>
<RasterProperties>
<General>
<PixelDepth Sync="TRUE">32</PixelDepth>
<HasColormap Sync="TRUE">FALSE</HasColormap>
<CompressionType Sync="TRUE">None</CompressionType>
<NumBands Sync="TRUE">1</NumBands>
<Format Sync="TRUE">GRID</Format>
<HasPyramids Sync="TRUE">TRUE</HasPyramids>
<SourceType Sync="TRUE">continuous</SourceType>
<PixelType Sync="TRUE">floating point</PixelType>
<NoDataValue Sync="TRUE">-3.4028235e+038</NoDataValue>
</General>
</RasterProperties>
</DataProperties>
<SyncDate>20170405</SyncDate>
<SyncTime>15315700</SyncTime>
<ModDate>20170405</ModDate>
<ModTime>15315700</ModTime>
<scaleRange>
<minScale>150000000</minScale>
<maxScale>5000</maxScale>
</scaleRange>
<ArcGISProfile>ISO19139</ArcGISProfile>
</Esri>
<mdLang>
<languageCode value="eng">
</languageCode>
<countryCode Sync="TRUE" value="USA">
</countryCode>
</mdLang>
<mdChar>
<CharSetCd value="004">
</CharSetCd>
</mdChar>
<mdHrLv>
<ScopeCd value="005">
</ScopeCd>
</mdHrLv>
<mdHrLvName Sync="TRUE">dataset</mdHrLvName>
<mdContact>
<rpIndName>James Cichon</rpIndName>
<rpOrgName>Florida Geological Survey</rpOrgName>
<rpPosName>Environmental Consultant</rpPosName>
<rpCntInfo>
<cntPhone>
<voiceNum>850-617-0335</voiceNum>
</cntPhone>
<cntAddress>
<delPoint>903 W. Tennessee St.</delPoint>
<city>Tallahassee</city>
<adminArea>FL</adminArea>
<postCode>32304</postCode>
<country>US</country>
<eMailAdd>james.cichon@dep.state.fl.us</eMailAdd>
</cntAddress>
</rpCntInfo>
<role>
<RoleCd value="006">
</RoleCd>
</role>
</mdContact>
<mdDateSt Sync="TRUE">20170405</mdDateSt>
<mdStanName>ArcGIS Metadata</mdStanName>
<mdStanVer>1.0</mdStanVer>
<distInfo>
<distFormat>
<formatName Sync="TRUE">Raster Dataset</formatName>
<formatVer>1</formatVer>
</distFormat>
</distInfo>
<dataIdInfo>
<idCitation>
<resTitle Sync="FALSE">Upper Floridan Aquifer Potentiometric Surface May 2012</resTitle>
<date>
<pubDate>2014-07-16T00:00:00</pubDate>
</date>
<citRespParty>
<rpIndName>James Cichon</rpIndName>
<rpOrgName>Florida Geological Survey</rpOrgName>
<rpPosName>Environmental Consultant</rpPosName>
<rpCntInfo>
<cntPhone>
<voiceNum>850-617-0335</voiceNum>
</cntPhone>
<cntAddress>
<delPoint>903 W. Tennessee St.</delPoint>
<city>Tallahassee</city>
<adminArea>FL</adminArea>
<postCode>32304</postCode>
<country>US</country>
<eMailAdd>james.cichon@dep.state.fl.us</eMailAdd>
</cntAddress>
</rpCntInfo>
<role>
<RoleCd value="006">
</RoleCd>
</role>
</citRespParty>
<presForm>
<PresFormCd value="005">
</PresFormCd>
</presForm>
</idCitation>
<idAbs>&lt;div style='text-align:Left;'&gt;&lt;div&gt;&lt;p&gt;&lt;span&gt;The raster is created from the finalized contour lines for May 2012, An estimated zero contour line is placed along the coast from Bay County to Pinellas County and along Volusia County. This contour aids in making a more reasonable surface along the coast, since water level vaues are less than the 10 foot contour interval shown on the contour map (see potentiometric contour map). Using the Topo to Raster tool, a 500 X 500 meter grid is created by using the May 2012 contour lines, the estimated zero contour line, estimated water value points along the suwannee river and the May 2012 water level data. The interpolated elevation value in each cell is in feet mean sea level.&lt;/span&gt;&lt;/p&gt;&lt;/div&gt;&lt;/div&gt;</idAbs>
<idPurp>To provide a raster of the estimated potentiometric surface of the upper Floridan aquifer for May 2012.</idPurp>
<idCredit>James Cichon, FGS and water management district reviewers.</idCredit>
<idStatus>
<ProgCd value="001">
</ProgCd>
</idStatus>
<idPoC>
<rpIndName>James Cichon</rpIndName>
<rpOrgName>Florida Geological Survey</rpOrgName>
<rpPosName>Environmental Consultant</rpPosName>
<rpCntInfo>
<cntPhone>
<voiceNum>850-617-0335</voiceNum>
</cntPhone>
<cntAddress>
<delPoint>903 W. Tennessee St.</delPoint>
<city>Tallahassee</city>
<adminArea>FL</adminArea>
<postCode>32304</postCode>
<country>US</country>
<eMailAdd>james.cichon@dep.state.fl.us</eMailAdd>
</cntAddress>
</rpCntInfo>
<role>
<RoleCd value="006">
</RoleCd>
</role>
</idPoC>
<resMaint>
<maintFreq>
<MaintFreqCd value="009">
</MaintFreqCd>
</maintFreq>
</resMaint>
<otherKeys>
<keyword>water level elevation</keyword>
<keyword>pot map</keyword>
<keyword>water level</keyword>
<keyword>Floridan aquifer</keyword>
<keyword>potentiometric surface</keyword>
</otherKeys>
<searchKeys>
<keyword>water level elevation</keyword>
<keyword>pot map</keyword>
<keyword>water level</keyword>
<keyword>Floridan aquifer</keyword>
<keyword>potentiometric surface</keyword>
</searchKeys>
<resConst>
<Consts>
<useLimit>&lt;div style='text-align:Left;'&gt;&lt;div&gt;&lt;p&gt;&lt;span&gt;This geologic data was developed by the Florida Department of Environmental Protection (FDEP) - Florida Geological Survey (FGS) to carry out agency responsibilities related to management, protection, and development of Florida's natural resources. Although efforts have been made to make the information accurate and useful, the FDEP/FGS assumes no responsibility for errors in the information and does not guarantee that the data are free from errors or inaccuracies. Similarly FDEP/FGS assumes no responsibility for the consequences of inappropriate uses or interpretations of the data. As such, these digital data are distributed on "as is" basis and the user assumes all risk as to their quality, the results obtained from their use, and the performance of the data. FDEP/FGS bears no responsibility to inform users of any subsequent changes made to this data. Anyone using this data is advised that precision implied by the data may far exceed actual precision. Comments on this data are invited and FDEP/FGS wouldappreciate that documented errors be brought to staff attention. The development of these data sets represents a major investment of staff time and effort. As a professional responsibility, we expect that the FDEP/FGS will receive proper credit when you utilize these data sets. Further, since part of this data was developed and collected with U.S. Government or State of Florida funding, no proprietary rights may be attached to it in whole or in part, nor may it be sold to the U.S. Government or the Florida State Government as part of any procurement of products or services.&lt;/span&gt;&lt;/p&gt;&lt;/div&gt;&lt;/div&gt;</useLimit>
</Consts>
</resConst>
<spatRpType>
<SpatRepTypCd value="001">
</SpatRepTypCd>
</spatRpType>
<dataLang>
<languageCode value="eng">
</languageCode>
<countryCode Sync="TRUE" value="USA">
</countryCode>
</dataLang>
<dataChar>
<CharSetCd value="004">
</CharSetCd>
</dataChar>
<envirDesc Sync="TRUE"> Version 6.2 (Build 9200) ; Esri ArcGIS 10.3.1.4959</envirDesc>
<dataExt>
<geoEle>
<GeoBndBox>
<exTypeCode>true</exTypeCode>
<westBL>-87.369487</westBL>
<eastBL>-79.799895</eastBL>
<southBL>24.48093</southBL>
<northBL>31.039335</northBL>
</GeoBndBox>
</geoEle>
</dataExt>
<dataExt>
<geoEle>
<GeoBndBox>
<exTypeCode>true</exTypeCode>
<westBL>-87.114962</westBL>
<eastBL>-79.788683</eastBL>
<southBL>24.525889</southBL>
<northBL>31.080035</northBL>
</GeoBndBox>
</geoEle>
</dataExt>
<dataExt>
<geoEle>
<GeoBndBox>
<exTypeCode>true</exTypeCode>
<westBL>-87.224366</westBL>
<eastBL>-79.816189</eastBL>
<southBL>25.305056</southBL>
<northBL>31.110833</northBL>
</GeoBndBox>
</geoEle>
</dataExt>
<dataExt>
<geoEle>
<GeoBndBox>
<exTypeCode>true</exTypeCode>
<westBL>-87.119115</westBL>
<eastBL>-79.719387</eastBL>
<southBL>25.310292</southBL>
<northBL>31.082091</northBL>
</GeoBndBox>
</geoEle>
</dataExt>
<dataExt>
<geoEle>
<GeoBndBox>
<exTypeCode>true</exTypeCode>
<westBL>-87.123236</westBL>
<eastBL>-79.540403</eastBL>
<southBL>24.518803</southBL>
<northBL>31.080035</northBL>
</GeoBndBox>
</geoEle>
</dataExt>
<dataExt>
<exDesc>Extent of the Floridan aquifer.</exDesc>
<geoEle>
<GeoBndBox>
<exTypeCode>true</exTypeCode>
<westBL>-87.118876</westBL>
<eastBL>-79.89151</eastBL>
<southBL>25.759784</southBL>
<northBL>31.023708</northBL>
</GeoBndBox>
</geoEle>
</dataExt>
<dataExt>
<geoEle>
<GeoBndBox>
<exTypeCode>true</exTypeCode>
<westBL>-87.649847</westBL>
<eastBL>-79.799974</eastBL>
<southBL>24.376206</southBL>
<northBL>31.218452</northBL>
</GeoBndBox>
</geoEle>
</dataExt>
<dataExt>
<geoEle>
<GeoBndBox esriExtentType="search">
<exTypeCode Sync="TRUE">1</exTypeCode>
<westBL Sync="TRUE">-87.660014</westBL>
<eastBL Sync="TRUE">-79.865146</eastBL>
<northBL Sync="TRUE">31.040837</northBL>
<southBL Sync="TRUE">24.466186</southBL>
</GeoBndBox>
</geoEle>
</dataExt>
<tpCat>
<TopicCatCd value="006">
</TopicCatCd>
</tpCat>
</dataIdInfo>
<mdMaint>
<maintFreq>
<MaintFreqCd value="009">
</MaintFreqCd>
</maintFreq>
</mdMaint>
<spatRepInfo>
<Georect>
<numDims Sync="TRUE">2</numDims>
<axisDimension type="002">
<dimSize Sync="TRUE">1488</dimSize>
<dimResol>
<value Sync="TRUE" uom="m">500.000000</value>
</dimResol>
</axisDimension>
<axisDimension type="001">
<dimSize Sync="TRUE">1447</dimSize>
<dimResol>
<value Sync="TRUE" uom="m">500.000000</value>
</dimResol>
</axisDimension>
<cellGeo>
<CellGeoCd Sync="TRUE" value="002">
</CellGeoCd>
</cellGeo>
<tranParaAv Sync="TRUE">1</tranParaAv>
<chkPtAv Sync="TRUE">0</chkPtAv>
<cornerPts gmlID="ID0EZHAC">
<pos Sync="TRUE">50676.150529 57882.660000</pos>
</cornerPts>
<cornerPts gmlID="ID0E6HAC">
<pos Sync="TRUE">50676.150529 781382.660000</pos>
</cornerPts>
<cornerPts gmlID="ID0EFIAC">
<pos Sync="TRUE">794676.150529 781382.660000</pos>
</cornerPts>
<cornerPts gmlID="ID0ETHAC">
<pos Sync="TRUE">794676.150529 57882.660000</pos>
</cornerPts>
<centerPt gmlID="ID0ELIAC">
<pos Sync="TRUE">422676.150529 419632.660000</pos>
</centerPt>
<ptInPixel>
<PixOrientCd Sync="TRUE" value="001">
</PixOrientCd>
</ptInPixel>
</Georect>
</spatRepInfo>
<spatRepInfo>
<VectSpatRep>
<topLvl>
<TopoLevCd value="001">
</TopoLevCd>
</topLvl>
<geometObjs>
<geoObjTyp>
<GeoObjTypCd value="002">
</GeoObjTypCd>
</geoObjTyp>
<geoObjCnt>94</geoObjCnt>
</geometObjs>
</VectSpatRep>
</spatRepInfo>
<refSysInfo>
<RefSystem>
<refSysID>
<identCode code="0">
</identCode>
<idCodeSpace>EPSG</idCodeSpace>
<idVersion>8.1.1</idVersion>
</refSysID>
</RefSystem>
</refSysInfo>
<contInfo>
<ImgDesc>
<attDesc>Water level surface</attDesc>
<contentTyp>
<ContentTypCd Sync="TRUE" value="003">
</ContentTypCd>
</contentTyp>
<covDim>
<Band>
<dimDescrp Sync="TRUE">may2012grd</dimDescrp>
<maxVal Sync="TRUE">205.857849</maxVal>
<minVal Sync="TRUE">-74.350006</minVal>
<valUnit>
<UOM gmlID="ID0AAAAAGAAA" type="length">
<gmlIdent codeSpace="GML_UomSymbol">Unified Code of Units of Measure</gmlIdent>
<unitSymbol codeSpace="http://aurora.regenstrief.org/UCUM">[ft_us]</unitSymbol>
</UOM>
</valUnit>
<bitsPerVal Sync="TRUE">32</bitsPerVal>
</Band>
</covDim>
<trianInd>false</trianInd>
<radCalDatAv>false</radCalDatAv>
<camCalInAv>false</camCalInAv>
<filmDistInAv>false</filmDistInAv>
<lensDistInAv>false</lensDistInAv>
</ImgDesc>
</contInfo>
</metadata>
