{ "currentVersion": 11.1, "serviceDescription": "
The raster is created from the finalized contour lines for May 2015, An estimated zero contour line is placed along the coast from Bay County to Pinellas County and along Volusia County. This contour aids in making a more reasonable surface along the coast, since water level vaues are less than the 10 foot contour interval shown on the contour map (see potentiometric contour map). Using the Topo to Raster tool, a 500 X 500 meter grid is created by using the May 2015 contour lines, the estimated zero contour line, estimated water value points along the suwannee river and the May 2015 water level data. The interpolated elevation value in each cell is in feet mean sea level, datum NGVD29.<\/span><\/p><\/div><\/div><\/div>",
"name": "OpenData/FGS_POTMAP_MAY_2016",
"description": " The raster is created from the finalized contour lines for May 2015, An estimated zero contour line is placed along the coast from Bay County to Pinellas County and along Volusia County. This contour aids in making a more reasonable surface along the coast, since water level vaues are less than the 10 foot contour interval shown on the contour map (see potentiometric contour map). Using the Topo to Raster tool, a 500 X 500 meter grid is created by using the May 2015 contour lines, the estimated zero contour line, estimated water value points along the suwannee river and the May 2015 water level data. The interpolated elevation value in each cell is in feet mean sea level, datum NGVD29.<\/span><\/p><\/div><\/div><\/div>",
"extent": {
"xmin": 50676.150529011444,
"ymin": 57882.65999999829,
"xmax": 794676.1505290114,
"ymax": 781382.6599999983,
"spatialReference": {
"wkid": 102967,
"latestWkid": 6439
}
},
"initialExtent": {
"xmin": 50676.150529011444,
"ymin": 57882.65999999829,
"xmax": 794676.1505290114,
"ymax": 781382.6599999983,
"spatialReference": {
"wkid": 102967,
"latestWkid": 6439
}
},
"fullExtent": {
"xmin": 50676.150529011444,
"ymin": 57882.65999999829,
"xmax": 794676.1505290114,
"ymax": 781382.6599999983,
"spatialReference": {
"wkid": 102967,
"latestWkid": 6439
}
},
"sortableFields": "",
"bandCount": 1,
"pixelType": "F32",
"minValues": [
-66.50396728515625
],
"maxValues": [
215.6768341064453
],
"meanValues": [
41.87341638919735
],
"stdvValues": [
29.13861140371058
],
"hasMultidimensions": false,
"pixelSizeX": 500,
"pixelSizeY": 500,
"datasetFormat": "GRID",
"uncompressedSize": 8612544,
"blockWidth": 256,
"blockHeight": 16,
"compressionType": "None",
"bandNames": [
"may2016grd_1"
],
"allowCopy": true,
"allowAnalysis": true,
"itemAccess": false,
"noDataValue": -3.4028234663852886E38,
"noDataValues": [
-3.4028234663852886E38
],
"minPixelSize": 0,
"maxPixelSize": 0,
"copyrightText": "James Cichon, FGS and water management district reviewers.",
"serviceDataType": "esriImageServiceDataTypeThematic",
"serviceSourceType": "esriImageServiceSourceTypeDataset",
"objectIdField": "",
"fields": [],
"capabilities": "Mensuration,Image,Metadata",
"defaultMosaicMethod": "Center",
"allowedMosaicMethods": "",
"sortField": "",
"sortValue": null,
"sortAscending": true,
"mosaicOperator": "First",
"defaultCompressionQuality": 75,
"defaultResamplingMethod": "Bilinear",
"maxImageHeight": 4100,
"maxImageWidth": 15000,
"allowRasterFunction": true,
"rasterFunctionInfos": [
{
"name": "May2016",
"description": "A raster function template.",
"help": ""
},
{
"name": "None",
"description": "",
"help": ""
}
],
"rasterTypeInfos": [
{
"name": "Raster Dataset",
"description": "Supports all ArcGIS Raster Datasets",
"help": ""
}
],
"mensurationCapabilities": "Basic",
"hasHistograms": false,
"hasColormap": false,
"hasRasterAttributeTable": false,
"minScale": 0,
"maxScale": 0,
"exportTilesAllowed": false,
"supportsStatistics": false,
"supportsAdvancedQueries": false,
"editFieldsInfo": null,
"ownershipBasedAccessControlForRasters": null,
"allowComputeTiePoints": false,
"useStandardizedQueries": true,
"advancedQueryCapabilities": {
"useStandardizedQueries": true,
"supportsStatistics": false,
"supportsOrderBy": false,
"supportsDistinct": false,
"supportsPagination": false
},
"spatialReference": {
"wkid": 102967,
"latestWkid": 6439
}
}