<?xml version="1.0" encoding="UTF-8" standalone="no"?>
<metadata xml:lang="en">
<Esri>
<CreaDate>20221129</CreaDate>
<CreaTime>10131900</CreaTime>
<ArcGISFormat>1.0</ArcGISFormat>
<SyncOnce>FALSE</SyncOnce>
<DataProperties>
<itemProps>
<itemName Sync="TRUE">may2019grd</itemName>
<itemLocation>
<linkage Sync="TRUE">file://\\prodgisfs\Imagery\source\FGS_POTMAP\potMapGrids\may2019grd</linkage>
<protocol Sync="TRUE">Local Area Network</protocol>
</itemLocation>
<nativeExtBox>
<westBL Sync="TRUE">-87.639227</westBL>
<eastBL Sync="TRUE">-79.809437</eastBL>
<southBL Sync="TRUE">24.354697</southBL>
<northBL Sync="TRUE">31.042643</northBL>
<exTypeCode Sync="TRUE">1</exTypeCode>
</nativeExtBox>
<imsContentType Sync="TRUE">002</imsContentType>
</itemProps>
<coordRef>
<type Sync="TRUE">Geographic</type>
<geogcsn Sync="TRUE">GCS_WGS_1984</geogcsn>
<csUnits Sync="TRUE">Angular Unit: Degree (0.017453)</csUnits>
<peXml Sync="TRUE">&lt;GeographicCoordinateSystem xsi:type='typens:GeographicCoordinateSystem' xmlns:xsi='http://www.w3.org/2001/XMLSchema-instance' xmlns:xs='http://www.w3.org/2001/XMLSchema' xmlns:typens='http://www.esri.com/schemas/ArcGIS/2.9.0'&gt;&lt;WKT&gt;GEOGCS[&amp;quot;GCS_WGS_1984&amp;quot;,DATUM[&amp;quot;D_WGS_1984&amp;quot;,SPHEROID[&amp;quot;WGS_1984&amp;quot;,6378137.0,298.257223563]],PRIMEM[&amp;quot;Greenwich&amp;quot;,0.0],UNIT[&amp;quot;Degree&amp;quot;,0.0174532925199433],AUTHORITY[&amp;quot;EPSG&amp;quot;,4326]]&lt;/WKT&gt;&lt;XOrigin&gt;-400&lt;/XOrigin&gt;&lt;YOrigin&gt;-400&lt;/YOrigin&gt;&lt;XYScale&gt;11258999068426.238&lt;/XYScale&gt;&lt;ZOrigin&gt;-100000&lt;/ZOrigin&gt;&lt;ZScale&gt;10000&lt;/ZScale&gt;&lt;MOrigin&gt;-100000&lt;/MOrigin&gt;&lt;MScale&gt;10000&lt;/MScale&gt;&lt;XYTolerance&gt;8.983152841195215e-09&lt;/XYTolerance&gt;&lt;ZTolerance&gt;0.001&lt;/ZTolerance&gt;&lt;MTolerance&gt;0.001&lt;/MTolerance&gt;&lt;HighPrecision&gt;true&lt;/HighPrecision&gt;&lt;LeftLongitude&gt;-180&lt;/LeftLongitude&gt;&lt;WKID&gt;4326&lt;/WKID&gt;&lt;LatestWKID&gt;4326&lt;/LatestWKID&gt;&lt;/GeographicCoordinateSystem&gt;</peXml>
</coordRef>
<RasterProperties>
<General>
<PixelDepth Sync="TRUE">32</PixelDepth>
<HasColormap Sync="TRUE">FALSE</HasColormap>
<CompressionType Sync="TRUE">None</CompressionType>
<NumBands Sync="TRUE">1</NumBands>
<Format Sync="TRUE">GRID</Format>
<HasPyramids Sync="TRUE">TRUE</HasPyramids>
<SourceType Sync="TRUE">continuous</SourceType>
<PixelType Sync="TRUE">floating point</PixelType>
<NoDataValue Sync="TRUE">-3.4028231e+38</NoDataValue>
</General>
</RasterProperties>
</DataProperties>
<SyncDate>20221129</SyncDate>
<SyncTime>10153300</SyncTime>
<ModDate>20221129</ModDate>
<ModTime>10153300</ModTime>
<scaleRange>
<minScale>150000000</minScale>
<maxScale>5000</maxScale>
</scaleRange>
</Esri>
<mdLang>
<languageCode Sync="TRUE" value="eng"/>
<countryCode Sync="TRUE" value="USA"/>
</mdLang>
<mdChar>
<CharSetCd value="004"/>
</mdChar>
<mdHrLv>
<ScopeCd value="005"/>
</mdHrLv>
<mdHrLvName Sync="TRUE">dataset</mdHrLvName>
<mdContact>
<rpOrgName>Florida Department of Environmental Protection (FDEP) OTIS/GIS Section</rpOrgName>
<rpCntInfo>
<cntAddress addressType="both">
<delPoint>2600 Blair Stone Rd MS 6520</delPoint>
<city>Tallahassee</city>
<adminArea>FL</adminArea>
<postCode>32399-2400</postCode>
<country>US</country>
<eMailAdd>GIS.Librarian@dep.state.fl.us</eMailAdd>
</cntAddress>
</rpCntInfo>
<role>
<RoleCd value="007"/>
</role>
</mdContact>
<mdDateSt Sync="TRUE">20221129</mdDateSt>
<mdStanName>ArcGIS Metadata</mdStanName>
<mdStanVer>1.0</mdStanVer>
<distInfo>
<distFormat>
<formatName Sync="TRUE">Raster Dataset</formatName>
</distFormat>
</distInfo>
<dataIdInfo>
<idCitation>
<resTitle>FGS_POTMAP_MAY_2019</resTitle>
<date>
<pubDate>2019-07-18T00:00:00</pubDate>
</date>
<citRespParty>
<rpOrgName>Clint Kromhout, Florida Geological Survey, Professional Geologist Administrator</rpOrgName>
<role>
<RoleCd value="006"/>
</role>
</citRespParty>
<presForm>
<PresFormCd value="005"/>
</presForm>
<presForm>
<fgdcGeoform>remote-sensing image</fgdcGeoform>
</presForm>
</idCitation>
<idAbs>&lt;DIV STYLE="text-align:Left;"&gt;&lt;DIV&gt;&lt;P&gt;&lt;SPAN&gt;The raster is created from the finalized contour lines for May 2019, An estimated zero contour line is placed along the coast from Bay County to Pinellas County and along Volusia County. This contour aids in making a more reasonable surface along the coast, since water level values are less than the 10 foot contour interval shown on the contour map (see potentiometric contour map). Using the Topo to Raster tool, a 500 X 500 meter grid is created by using the May 2019 contour lines, the estimated zero contour line, estimated water value points along the Suwannee River and the May 2019 water level data. The interpolated elevation value in each cell is in feet mean sea level, datum NGVD29.&lt;/SPAN&gt;&lt;/P&gt;&lt;/DIV&gt;&lt;/DIV&gt;</idAbs>
<idPurp>To provide a raster of the estimated potentiometric surface of the upper Floridan aquifer for May 2019.</idPurp>
<idCredit>FGS and Water Management District reviewers.</idCredit>
<idStatus>
<ProgCd value="001"/>
</idStatus>
<idPoC>
<rpIndName>Clint Kromhout</rpIndName>
<rpOrgName>Florida Geological Survey</rpOrgName>
<rpPosName>Professional Geologist Administrator</rpPosName>
<rpCntInfo>
<cntPhone>
<voiceNum tddtty="">850-617-0332</voiceNum>
</cntPhone>
<cntAddress addressType="both">
<delPoint>3000 Commonwealth Boulevard, Suite 1</delPoint>
<city>Tallahassee</city>
<adminArea>FL</adminArea>
<postCode>32303</postCode>
<country>US</country>
<eMailAdd>Clint.Kromhout@FloridaDEP.gov</eMailAdd>
</cntAddress>
</rpCntInfo>
<role>
<RoleCd value="007"/>
</role>
</idPoC>
<idPoC>
<rpIndName>Alan Baker</rpIndName>
<rpOrgName>Florida Geological Survey</rpOrgName>
<rpPosName>Professional Geologist Administrator</rpPosName>
<rpCntInfo>
<cntPhone>
<voiceNum tddtty="">850-617-0337</voiceNum>
</cntPhone>
<cntAddress addressType="both">
<delPoint>3000 Commonwealth Boulevard, Suite 1</delPoint>
<city>Tallahassee</city>
<adminArea>Fl</adminArea>
<postCode>32303</postCode>
<country>US</country>
<eMailAdd>alan.baker@floridadep.gov</eMailAdd>
</cntAddress>
</rpCntInfo>
<role>
<RoleCd value="007"/>
</role>
</idPoC>
<idPoC>
<rpIndName>Amanda Kubes</rpIndName>
<rpOrgName>Florida Geological Survey</rpOrgName>
<rpPosName>Environmental Specialist III</rpPosName>
<rpCntInfo>
<cntPhone>
<voiceNum tddtty="">850-617-0328</voiceNum>
</cntPhone>
<cntAddress addressType="both">
<delPoint>3000 Commonwealth Blvd</delPoint>
<city>Tallahassee</city>
<adminArea>FL</adminArea>
<postCode>32303</postCode>
<eMailAdd>Amanda.kubes@floridadep.gov</eMailAdd>
</cntAddress>
</rpCntInfo>
<role>
<RoleCd value="007"/>
</role>
</idPoC>
<idPoC>
<rpIndName>Garrett Evans</rpIndName>
<rpOrgName>Florida Geological Survey</rpOrgName>
<rpPosName>Environmental Specialist III</rpPosName>
<rpCntInfo>
<cntPhone>
<voiceNum tddtty="">850-617-0327</voiceNum>
</cntPhone>
<cntAddress addressType="both">
<delPoint>3000 Commonwealth Blvd</delPoint>
<city>Tallahassee</city>
<adminArea>Fl</adminArea>
<postCode>32303</postCode>
<country>US</country>
<eMailAdd>Garret.evans@floridadep.gove</eMailAdd>
</cntAddress>
</rpCntInfo>
<role>
<RoleCd value="007"/>
</role>
</idPoC>
<idPoC>
<rpIndName>Tommy Neet</rpIndName>
<rpOrgName>Florida Geological Survey</rpOrgName>
<rpPosName>Environmental Specialist II</rpPosName>
<rpCntInfo>
<cntPhone>
<voiceNum tddtty=""> 850-617-0330</voiceNum>
</cntPhone>
<cntAddress addressType="both">
<delPoint>3000 Commonwealth Blvd</delPoint>
<city>Tallahassee</city>
<adminArea>Fl</adminArea>
<postCode>32303</postCode>
<country>US</country>
<eMailAdd>tommy.neet@floridadep.gov</eMailAdd>
</cntAddress>
</rpCntInfo>
<role>
<RoleCd value="007"/>
</role>
</idPoC>
<resMaint>
<maintFreq>
<MaintFreqCd value="009"/>
</maintFreq>
</resMaint>
<themeKeys>
<keyword>water level elevation</keyword>
<keyword>pot map</keyword>
<keyword>water level</keyword>
<keyword>Floridan aquifer</keyword>
<keyword>potentiometric surface</keyword>
</themeKeys>
<searchKeys>
<keyword>water level elevation</keyword>
<keyword>pot map</keyword>
<keyword>water level</keyword>
<keyword>Floridan aquifer</keyword>
<keyword>potentiometric surface</keyword>
</searchKeys>
<spatRpType>
<SpatRepTypCd value="002"/>
</spatRpType>
<envirDesc> Version 6.2 (Build 9200) ; Esri ArcGIS 10.6.1.9270</envirDesc>
<dataExt>
<geoEle>
<GeoBndBox>
<exTypeCode>true</exTypeCode>
<westBL>-87.453616</westBL>
<eastBL>-79.813616</eastBL>
<northBL>31.063501</northBL>
<southBL>24.503501</southBL>
</GeoBndBox>
</geoEle>
</dataExt>
<dataExt>
<exDesc>Date data added on the Open Data site</exDesc>
<tempEle>
<TempExtent>
<exTemp>
<TM_Instant>
<tmPosition>2019-07-18T00:00:00</tmPosition>
</TM_Instant>
</exTemp>
</TempExtent>
</tempEle>
</dataExt>
<dataLang>
<languageCode Sync="TRUE" value="eng"/>
<countryCode Sync="TRUE" value="USA"/>
</dataLang>
<dataExt>
<geoEle>
<GeoBndBox esriExtentType="search">
<exTypeCode Sync="TRUE">1</exTypeCode>
<westBL Sync="TRUE">-87.639227</westBL>
<eastBL Sync="TRUE">-79.809437</eastBL>
<northBL Sync="TRUE">31.042643</northBL>
<southBL Sync="TRUE">24.354697</southBL>
</GeoBndBox>
</geoEle>
</dataExt>
<dataChar>
<CharSetCd value="004"/>
</dataChar>
<resConst>
<Consts>
<useLimit/>
</Consts>
</resConst>
</dataIdInfo>
<dqInfo>
<dqScope>
<scpLvl>
<ScopeCd value="005"/>
</scpLvl>
</dqScope>
<report type="DQConcConsis">
<measDesc>Potentiometric Surface Levels</measDesc>
</report>
<report type="DQCompOm">
<measDesc>Potentiometric surface levels</measDesc>
</report>
<dataLineage>
<prcStep>
<stepDesc>New raster mosaic for September 2017 obtained from FGS and published as a image service on the Open Data site.</stepDesc>
<stepDateTm>2019-07-18T00:00:00</stepDateTm>
<stepProc>
<rpOrgName>Florida Department of Environmental Protection (FDEP) OTIS/GIS Section</rpOrgName>
<rpCntInfo>
<cntPhone>
<voiceNum>850-245-8238</voiceNum>
</cntPhone>
<cntAddress addressType="both">
<delPoint>2600 Blair Stone Rd MS 6520</delPoint>
<city>Tallahassee</city>
<adminArea>FL</adminArea>
<postCode>32399-2400</postCode>
<country>US</country>
<eMailAdd>GIS.Librarian@dep.state.fl.us</eMailAdd>
</cntAddress>
</rpCntInfo>
<role>
<RoleCd value="009"/>
</role>
</stepProc>
</prcStep>
<prcStep>
<stepDesc>New raster mosaic for May 2019 obtained from FGS and published as a image service on the Open Data site.</stepDesc>
<stepDateTm>2022-09-26T00:00:00</stepDateTm>
<stepProc>
<rpIndName>Tommy Neet</rpIndName>
<rpOrgName>Florida Geological Survey</rpOrgName>
<rpPosName>Environmental Specialist II</rpPosName>
<rpCntInfo>
<cntPhone>
<voiceNum> 850-617-0330</voiceNum>
</cntPhone>
<cntAddress addressType="both">
<delPoint>3000 Commonwealth Blvd</delPoint>
<city>Tallahassee</city>
<adminArea>Fl</adminArea>
<postCode>32303</postCode>
<country>US</country>
<eMailAdd>tommy.neet@floridadep.gov</eMailAdd>
</cntAddress>
</rpCntInfo>
<role>
<RoleCd value="009"/>
</role>
</stepProc>
</prcStep>
<prcStep>
<stepDesc>New raster mosaic for May 2019 obtained from FGS and published as a image service on the Open Data site.</stepDesc>
<stepDateTm>2022-11-18T00:00:00</stepDateTm>
<stepProc>
<rpOrgName>Florida Department of Environmental Protection (FDEP) OTIS/GIS Section</rpOrgName>
<rpCntInfo>
<cntAddress addressType="both">
<delPoint>2600 Blair Stone Rd MS 6520</delPoint>
<city>Tallahassee</city>
<adminArea>FL</adminArea>
<postCode>32399-2400</postCode>
<country>US</country>
<eMailAdd>GIS.Librarian@dep.state.fl.us</eMailAdd>
</cntAddress>
</rpCntInfo>
<role>
<RoleCd value="007"/>
</role>
<editorSave>False</editorSave>
<displayName>Florida Department of Environmental Protection (FDEP) OTIS/GIS Section</displayName>
</stepProc>
</prcStep>
</dataLineage>
</dqInfo>
<spatRepInfo>
<Georect>
<numDims>2</numDims>
<axisDimension type="001">
<dimSize>1854</dimSize>
<dimResol>
<value Sync="TRUE" uom="deg">0.004798</value>
</dimResol>
</axisDimension>
<axisDimension type="002">
<dimSize>1490</dimSize>
<dimResol>
<value Sync="TRUE" uom="deg">0.004798</value>
</dimResol>
</axisDimension>
<cellGeo>
<CellGeoCd Sync="TRUE" value="002"/>
</cellGeo>
<tranParaAv Sync="TRUE">1</tranParaAv>
<chkPtAv Sync="TRUE">0</chkPtAv>
<cornerPts>
<pos Sync="TRUE">-87.639227 24.354697</pos>
</cornerPts>
<cornerPts>
<pos Sync="TRUE">-87.639227 31.042643</pos>
</cornerPts>
<cornerPts>
<pos Sync="TRUE">-79.809437 31.042643</pos>
</cornerPts>
<cornerPts>
<pos Sync="TRUE">-79.809437 24.354697</pos>
</cornerPts>
<centerPt>
<pos Sync="TRUE">-83.724332 27.698670</pos>
</centerPt>
<ptInPixel>
<PixOrientCd Sync="TRUE" value="001"/>
</ptInPixel>
</Georect>
</spatRepInfo>
<refSysInfo>
<RefSystem>
<refSysID>
<identCode Sync="TRUE" code="4326"/>
<idCodeSpace Sync="TRUE">EPSG</idCodeSpace>
<idVersion Sync="TRUE">6.2(3.0.1)</idVersion>
</refSysID>
</RefSystem>
</refSysInfo>
<contInfo>
<ImgDesc>
<contentTyp>
<ContentTypCd Sync="TRUE" value="003"/>
</contentTyp>
<covDim>
<Band>
<dimDescrp Sync="TRUE">TopoToRaster</dimDescrp>
<maxVal Sync="TRUE">215.878082</maxVal>
<minVal Sync="TRUE">-70.882736</minVal>
<bitsPerVal Sync="TRUE">32</bitsPerVal>
<valUnit>
<UOM type="length"/>
</valUnit>
</Band>
</covDim>
</ImgDesc>
</contInfo>
</metadata>
