{ "currentVersion": 11.1, "serviceDescription": "
The raster is created from the finalized contour lines for May 2019, An estimated zero contour line is placed along the coast from Bay County to Pinellas County and along Volusia County. This contour aids in making a more reasonable surface along the coast, since water level values are less than the 10 foot contour interval shown on the contour map (see potentiometric contour map). Using the Topo to Raster tool, a 500 X 500 meter grid is created by using the May 2019 contour lines, the estimated zero contour line, estimated water value points along the Suwannee River and the May 2019 water level data. The interpolated elevation value in each cell is in feet mean sea level, datum NGVD29.<\/span><\/p><\/div><\/div>",
"name": "OpenData/FGS_POTMAP_MAY_2019",
"description": " The raster is created from the finalized contour lines for May 2019, An estimated zero contour line is placed along the coast from Bay County to Pinellas County and along Volusia County. This contour aids in making a more reasonable surface along the coast, since water level values are less than the 10 foot contour interval shown on the contour map (see potentiometric contour map). Using the Topo to Raster tool, a 500 X 500 meter grid is created by using the May 2019 contour lines, the estimated zero contour line, estimated water value points along the Suwannee River and the May 2019 water level data. The interpolated elevation value in each cell is in feet mean sea level, datum NGVD29.<\/span><\/p><\/div><\/div>",
"extent": {
"xmin": -87.6392268143,
"ymin": 24.354697359076,
"xmax": -79.809436630172,
"ymax": 31.042643141352,
"spatialReference": {
"wkid": 4326,
"latestWkid": 4326
}
},
"initialExtent": {
"xmin": -87.6392268143,
"ymin": 24.354697359076,
"xmax": -79.809436630172,
"ymax": 31.042643141352,
"spatialReference": {
"wkid": 4326,
"latestWkid": 4326
}
},
"fullExtent": {
"xmin": -87.6392268143,
"ymin": 24.354697359076,
"xmax": -79.809436630172,
"ymax": 31.042643141352,
"spatialReference": {
"wkid": 4326,
"latestWkid": 4326
}
},
"sortableFields": "",
"bandCount": 1,
"pixelType": "F32",
"minValues": [
-70.88273620605469
],
"maxValues": [
215.87808227539062
],
"meanValues": [
41.403351698050244
],
"stdvValues": [
27.67538724648288
],
"hasMultidimensions": false,
"pixelSizeX": 0.004797665554000001,
"pixelSizeY": 0.004797665554,
"datasetFormat": "GRID",
"uncompressedSize": 9100032,
"blockWidth": 256,
"blockHeight": 16,
"compressionType": "None",
"bandNames": [
"TopoToRaster"
],
"allowCopy": true,
"allowAnalysis": true,
"itemAccess": false,
"noDataValue": -3.4028230607370965E38,
"noDataValues": [
-3.4028230607370965E38
],
"minPixelSize": 0,
"maxPixelSize": 0,
"copyrightText": "FGS and Water Management District reviewers.",
"serviceDataType": "esriImageServiceDataTypeGeneric",
"serviceSourceType": "esriImageServiceSourceTypeDataset",
"objectIdField": "",
"fields": [],
"capabilities": "Mensuration,Image,Metadata",
"defaultMosaicMethod": "Center",
"allowedMosaicMethods": "",
"sortField": "",
"sortValue": null,
"sortAscending": true,
"mosaicOperator": "First",
"defaultCompressionQuality": 75,
"defaultResamplingMethod": "Bilinear",
"maxImageHeight": 4100,
"maxImageWidth": 15000,
"allowRasterFunction": true,
"rasterFunctionInfos": [
{
"name": "Raster Function Template",
"description": "FGS_POTMAP_MAY_2019",
"help": ""
},
{
"name": "September2019",
"description": "FGS POTMAP SEPTEMBER 2019",
"help": ""
},
{
"name": "None",
"description": "",
"help": ""
}
],
"rasterTypeInfos": [
{
"name": "Raster Dataset",
"description": "Supports all ArcGIS Raster Datasets",
"help": ""
}
],
"mensurationCapabilities": "Basic",
"hasHistograms": true,
"hasColormap": false,
"hasRasterAttributeTable": false,
"minScale": 0,
"maxScale": 0,
"exportTilesAllowed": false,
"supportsStatistics": false,
"supportsAdvancedQueries": false,
"editFieldsInfo": null,
"ownershipBasedAccessControlForRasters": null,
"allowComputeTiePoints": false,
"useStandardizedQueries": true,
"advancedQueryCapabilities": {
"useStandardizedQueries": true,
"supportsStatistics": false,
"supportsOrderBy": false,
"supportsDistinct": false,
"supportsPagination": false
},
"spatialReference": {
"wkid": 4326,
"latestWkid": 4326
}
}