<?xml version="1.0" encoding="UTF-8" standalone="no"?>
<metadata xml:lang="en">
<Esri>
<CreaDate>20170829</CreaDate>
<CreaTime>15422500</CreaTime>
<ArcGISFormat>1.0</ArcGISFormat>
<ArcGISstyle>FGDC CSDGM Metadata</ArcGISstyle>
<SyncOnce>FALSE</SyncOnce>
<DataProperties>
<itemProps>
<itemName Sync="TRUE">sept2016grd</itemName>
<imsContentType Sync="TRUE">002</imsContentType>
<nativeExtBox>
<westBL Sync="TRUE">50676.150529</westBL>
<eastBL Sync="TRUE">794676.150529</eastBL>
<southBL Sync="TRUE">57882.660000</southBL>
<northBL Sync="TRUE">854382.660000</northBL>
<exTypeCode Sync="TRUE">1</exTypeCode>
</nativeExtBox>
</itemProps>
<coordRef>
<type Sync="TRUE">Projected</type>
<geogcsn Sync="TRUE">GCS_North_American_1983_HARN</geogcsn>
<csUnits Sync="TRUE">Linear Unit: Meter (1.000000)</csUnits>
<projcsn Sync="TRUE">FDEP_Albers_HARN</projcsn>
<peXml Sync="TRUE">&lt;ProjectedCoordinateSystem xsi:type='typens:ProjectedCoordinateSystem' xmlns:xsi='http://www.w3.org/2001/XMLSchema-instance' xmlns:xs='http://www.w3.org/2001/XMLSchema' xmlns:typens='http://www.esri.com/schemas/ArcGIS/10.3'&gt;&lt;WKT&gt;PROJCS[&amp;quot;FDEP_Albers_HARN&amp;quot;,GEOGCS[&amp;quot;GCS_North_American_1983_HARN&amp;quot;,DATUM[&amp;quot;D_North_American_1983_HARN&amp;quot;,SPHEROID[&amp;quot;GRS_1980&amp;quot;,6378137.0,298.257222101]],PRIMEM[&amp;quot;Greenwich&amp;quot;,0.0],UNIT[&amp;quot;Degree&amp;quot;,0.0174532925199433]],PROJECTION[&amp;quot;Albers&amp;quot;],PARAMETER[&amp;quot;False_Easting&amp;quot;,400000.0],PARAMETER[&amp;quot;False_Northing&amp;quot;,0.0],PARAMETER[&amp;quot;central_meridian&amp;quot;,-84.0],PARAMETER[&amp;quot;Standard_Parallel_1&amp;quot;,24.0],PARAMETER[&amp;quot;Standard_Parallel_2&amp;quot;,31.5],PARAMETER[&amp;quot;latitude_of_origin&amp;quot;,24.0],UNIT[&amp;quot;Meter&amp;quot;,1.0]]&lt;/WKT&gt;&lt;XOrigin&gt;-19550100&lt;/XOrigin&gt;&lt;YOrigin&gt;-7526400&lt;/YOrigin&gt;&lt;XYScale&gt;225743210.67916927&lt;/XYScale&gt;&lt;ZOrigin&gt;-100000&lt;/ZOrigin&gt;&lt;ZScale&gt;10000&lt;/ZScale&gt;&lt;MOrigin&gt;-100000&lt;/MOrigin&gt;&lt;MScale&gt;10000&lt;/MScale&gt;&lt;XYTolerance&gt;0.001&lt;/XYTolerance&gt;&lt;ZTolerance&gt;0.001&lt;/ZTolerance&gt;&lt;MTolerance&gt;0.001&lt;/MTolerance&gt;&lt;HighPrecision&gt;true&lt;/HighPrecision&gt;&lt;/ProjectedCoordinateSystem&gt;</peXml>
</coordRef>
<RasterProperties>
<General>
<PixelDepth Sync="TRUE">32</PixelDepth>
<HasColormap Sync="TRUE">FALSE</HasColormap>
<CompressionType Sync="TRUE">None</CompressionType>
<NumBands Sync="TRUE">1</NumBands>
<Format Sync="TRUE">GRID</Format>
<HasPyramids Sync="TRUE">FALSE</HasPyramids>
<SourceType Sync="TRUE">continuous</SourceType>
<PixelType Sync="TRUE">floating point</PixelType>
<NoDataValue Sync="TRUE">-3.4028235e+038</NoDataValue>
</General>
</RasterProperties>
</DataProperties>
<SyncDate>20170829</SyncDate>
<SyncTime>15560000</SyncTime>
<ModDate>20170829</ModDate>
<ModTime>15560000</ModTime>
<scaleRange>
<minScale>150000000</minScale>
<maxScale>5000</maxScale>
</scaleRange>
<ArcGISProfile>FGDC</ArcGISProfile>
</Esri>
<dataIdInfo>
<envirDesc Sync="FALSE">Esri ArcGIS 10.3.1.4959</envirDesc>
<dataLang>
<languageCode Sync="TRUE" value="eng">
</languageCode>
<countryCode Sync="TRUE" value="USA">
</countryCode>
</dataLang>
<idCitation>
<resTitle Sync="FALSE">Upper Floridan Aquifer Potentiometric Surface September 2016</resTitle>
<presForm>
<PresFormCd Sync="TRUE" value="005">
</PresFormCd>
</presForm>
<date>
<pubDate>2017-08-29T00:00:00</pubDate>
</date>
<citRespParty>
<rpIndName>James Cichon</rpIndName>
<rpOrgName>Florida Geological Survey</rpOrgName>
<rpPosName>Environmental Consultant</rpPosName>
<rpCntInfo>
<cntAddress addressType="both">
<delPoint>3000 Commonwealth Blvd</delPoint>
<city>Tallahassee</city>
<adminArea>FL</adminArea>
<postCode>32303</postCode>
<eMailAdd>james.cichon@dep.state.fl.us</eMailAdd>
<country>US</country>
</cntAddress>
<cntPhone>
<voiceNum tddtty="">850-617-0335</voiceNum>
</cntPhone>
</rpCntInfo>
<displayName>James Cichon</displayName>
<role>
<RoleCd value="006">
</RoleCd>
</role>
</citRespParty>
</idCitation>
<spatRpType>
<SpatRepTypCd Sync="TRUE" value="002">
</SpatRepTypCd>
</spatRpType>
<dataExt>
<geoEle>
<GeoBndBox esriExtentType="search">
<exTypeCode Sync="TRUE">1</exTypeCode>
<westBL Sync="TRUE">-87.682850</westBL>
<eastBL Sync="TRUE">-79.839351</eastBL>
<northBL Sync="TRUE">31.699136</northBL>
<southBL Sync="TRUE">24.466186</southBL>
</GeoBndBox>
</geoEle>
</dataExt>
<idPurp>To provide a raster of the estimated potentiometric surface of the upper Floridan aquifer for September 2016.</idPurp>
<idAbs>&lt;DIV STYLE="text-align:Left;"&gt;&lt;P&gt;&lt;SPAN&gt;The raster is created from the finalized contour lines for September 2015, An estimated zero contour line is placed along the coast from Bay County to Pinellas County and along Volusia County. This contour aids in making a more reasonable surface along the coast, since water level vaues are less than the 10 foot contour interval shown on the contour map (see potentiometric contour map). Using the Topo to Raster tool, a 500 X 500 meter grid is created by using the September 2015 contour lines, the estimated zero contour line, estimated water value points along the suwannee river and the September 2015 water level data. The interpolated elevation value in each cell is in feet mean sea level, datum NGVD29.&lt;/SPAN&gt;&lt;/P&gt;&lt;/DIV&gt;</idAbs>
<idCredit>James Cichon, FGS and water management district reviewers.</idCredit>
<searchKeys>
<keyword>water level elevation</keyword>
<keyword>pot map</keyword>
<keyword>water level</keyword>
<keyword>Floridan aquifer</keyword>
<keyword>potentiometric surface</keyword>
</searchKeys>
<dataChar>
<CharSetCd value="004">
</CharSetCd>
</dataChar>
<idStatus>
<ProgCd value="001">
</ProgCd>
</idStatus>
<idPoC>
<rpIndName>James Cichon</rpIndName>
<rpOrgName>Florida Geological Survey</rpOrgName>
<rpPosName>Environmental Consultant</rpPosName>
<rpCntInfo>
<cntAddress addressType="both">
<delPoint>3000 Commonwealth Blvd</delPoint>
<city>Tallahassee</city>
<adminArea>FL</adminArea>
<postCode>32303</postCode>
<eMailAdd>james.cichon@dep.state.fl.us</eMailAdd>
<country>US</country>
</cntAddress>
<cntPhone>
<voiceNum tddtty="">850-617-0335</voiceNum>
</cntPhone>
</rpCntInfo>
<displayName>James Cichon</displayName>
<role>
<RoleCd value="006">
</RoleCd>
</role>
<displayName>James Cichon</displayName>
</idPoC>
<resMaint>
<maintFreq>
<MaintFreqCd value="009">
</MaintFreqCd>
</maintFreq>
</resMaint>
<resConst>
<Consts>
<useLimit/>
</Consts>
</resConst>
</dataIdInfo>
<mdLang>
<languageCode Sync="TRUE" value="eng">
</languageCode>
<countryCode Sync="TRUE" value="USA">
</countryCode>
</mdLang>
<mdChar>
<CharSetCd Sync="TRUE" value="004">
</CharSetCd>
</mdChar>
<distInfo>
<distFormat>
<formatName Sync="TRUE">Raster Dataset</formatName>
</distFormat>
</distInfo>
<mdHrLv>
<ScopeCd Sync="TRUE" value="005">
</ScopeCd>
</mdHrLv>
<mdHrLvName Sync="TRUE">dataset</mdHrLvName>
<refSysInfo>
<RefSystem>
<refSysID>
<identCode Sync="TRUE" code="0">
</identCode>
</refSysID>
</RefSystem>
</refSysInfo>
<spatRepInfo>
<Georect>
<cellGeo>
<CellGeoCd Sync="TRUE" value="002">
</CellGeoCd>
</cellGeo>
<numDims Sync="TRUE">2</numDims>
<tranParaAv Sync="TRUE">1</tranParaAv>
<chkPtAv Sync="TRUE">0</chkPtAv>
<cornerPts>
<pos Sync="TRUE">50676.150529 57882.660000</pos>
</cornerPts>
<cornerPts>
<pos Sync="TRUE">50676.150529 854382.660000</pos>
</cornerPts>
<cornerPts>
<pos Sync="TRUE">794676.150529 854382.660000</pos>
</cornerPts>
<cornerPts>
<pos Sync="TRUE">794676.150529 57882.660000</pos>
</cornerPts>
<centerPt>
<pos Sync="TRUE">422676.150529 456132.660000</pos>
</centerPt>
<axisDimension type="002">
<dimSize Sync="TRUE">1488</dimSize>
<dimResol>
<value Sync="TRUE" uom="m">500.000000</value>
</dimResol>
</axisDimension>
<axisDimension type="001">
<dimSize Sync="TRUE">1593</dimSize>
<dimResol>
<value Sync="TRUE" uom="m">500.000000</value>
</dimResol>
</axisDimension>
<ptInPixel>
<PixOrientCd Sync="TRUE" value="001">
</PixOrientCd>
</ptInPixel>
</Georect>
</spatRepInfo>
<contInfo>
<ImgDesc>
<contentTyp>
<ContentTypCd Sync="TRUE" value="003">
</ContentTypCd>
</contentTyp>
<covDim>
<Band>
<dimDescrp Sync="TRUE">sept2016grd5</dimDescrp>
<maxVal Sync="TRUE">213.562866</maxVal>
<minVal Sync="TRUE">-69.935867</minVal>
<bitsPerVal Sync="TRUE">32</bitsPerVal>
<valUnit>
<UOM type="length">
</UOM>
</valUnit>
</Band>
</covDim>
</ImgDesc>
</contInfo>
<mdDateSt Sync="TRUE">20170829</mdDateSt>
<mdContact>
<rpIndName>James Cichon</rpIndName>
<rpOrgName>Florida Geological Survey</rpOrgName>
<rpPosName>Environmental Consultant</rpPosName>
<rpCntInfo>
<cntAddress addressType="both">
<delPoint>3000 Commonwealth Blvd</delPoint>
<city>Tallahassee</city>
<adminArea>FL</adminArea>
<postCode>32303</postCode>
<eMailAdd>james.cichon@dep.state.fl.us</eMailAdd>
<country>US</country>
</cntAddress>
<cntPhone>
<voiceNum tddtty="">850-617-0335</voiceNum>
</cntPhone>
</rpCntInfo>
<displayName>James Cichon</displayName>
<role>
<RoleCd value="006">
</RoleCd>
</role>
<displayName>James Cichon</displayName>
</mdContact>
<mdMaint>
<maintFreq>
<MaintFreqCd value="009">
</MaintFreqCd>
</maintFreq>
</mdMaint>
</metadata>
