<?xml version="1.0" encoding="UTF-8" standalone="no"?>
<metadata>
<idinfo>
<citation>
<citeinfo>
<origin>Advanced GeoSpatial Inc.</origin>
<pubdate>Unknown</pubdate>
<title>Intermediate Aquifer System Contamination Potential (FAVA II)</title>
<geoform Sync="TRUE">raster digital data</geoform>
<onlink Sync="FALSE">withheld</onlink>
<ftname Sync="TRUE">response</ftname>
</citeinfo>
</citation>
<descript>
<abstract>The IAS FAVA Response theme grid is the relative vulnerability map for the Intermediate Aquifer System. It was calculated using the ArcSDM extension and applying the weights of evidence method. A relative vulnerability class field is also in the table so that the grid can be symbolized into 3 vulnerability classes. These classes were developed based on posterior probability vs. cumulative area breaks.</abstract>
<purpose>Development of a relative vulnerability map for the Intermediate Aquifer System.</purpose>
<langdata Sync="TRUE">en</langdata>
</descript>
<timeperd>
<timeinfo>
<sngdate>
<caldate>2007</caldate>
</sngdate>
</timeinfo>
<current>ground condition</current>
</timeperd>
<status>
<progress>Complete</progress>
<update>As needed</update>
</status>
<spdom>
<bounding>
<westbc Sync="TRUE">-82.761480</westbc>
<eastbc Sync="TRUE">-80.664730</eastbc>
<northbc Sync="TRUE">28.181810</northbc>
<southbc Sync="TRUE">25.652243</southbc>
</bounding>
<lboundng>
<leftbc Sync="TRUE">524142.757542</leftbc>
<rightbc Sync="TRUE">726882.757542</rightbc>
<bottombc Sync="TRUE">187484.546875</bottombc>
<topbc Sync="TRUE">464624.546875</topbc>
</lboundng>
</spdom>
<keywords>
<place>
<placekey>Florida</placekey>
</place>
<theme>
<themekey>Geoscientific Information</themekey>
<themekey>Vulnerability</themekey>
<themekey>Geology and Geophysics</themekey>
</theme>
</keywords>
<accconst>none</accconst>
<useconst>Maps generated as part of this project were developed by Advanced GeoSpatial Inc. (AGI) to provide FDEP with a ground-water resource management and protection tool to carry out agency responsibilities related to natural resource management and protection regarding the Floridan Aquifer System. Although efforts were made to ensure information in these maps is accurate and useful, neither FDEP nor AGI assumes responsibility for errors in the information and does not guarantee that the data is free from errors or inaccuracies. Similarly, AGI and FDEP assume no responsibility for consequences of inappropriate uses or interpretations of the data on these maps. Accordingly, these maps are distributed on an "as is" basis and the user assumes all risk as to their quality, results obtained from their use, and performance of the data. AGI and FDEP further make no warranties, either expressed or implied as to any other matter whatsoever, including, without limitation, the condition of the product, or its suitability for any particular purpose. The burden for determining suitability for use lies entirely with the end user. In no event shall AGI or FDEP, or their respective employees have any liability whatsoever for payment of any consequential, incidental, indirect, special, or tort damages of any kind, including, but not limited to, any loss of profits arising out of use of or reliance on the project results. AGI and FDEP bear no responsibility to inform users of any changes made to this data. Anyone using this data is advised that resolution implied by the data may far exceed actual accuracy and precision. Because this data was developed and collected with FDEP funding, no proprietary rights may be attached to it in whole or in part, nor may it be sold to FDEP or other government agency as part of any procurement of products or services.</useconst>
<ptcontac>
<cntinfo>
<cntorgp>
<cntorg>Florida Geological Survey</cntorg>
</cntorgp>
<cntaddr>
<addrtype>mailing and physical address</addrtype>
<address>Gunter Building</address>
<address>903 W. Tennessee St.</address>
<city>Tallahassee</city>
<state>FL</state>
<postal>32308</postal>
</cntaddr>
<cntvoice>850-488-4191</cntvoice>
</cntinfo>
</ptcontac>
<datacred>Advanced GeoSpatial Inc.</datacred>
<native Sync="FALSE">ESRI ArcCatalog 9.2.6.1500</native>
<crossref>
<citeinfo>
<origin>Advanced GeoSpatial Inc.</origin>
<pubdate>Unknown</pubdate>
<pubtime>Unknown</pubtime>
<title>IAS FAVA Model Response Theme</title>
<serinfo>
<sername>Florida Aquifer Vulnerability Assessment: Contamination potential of Florida's principal aquifer systems</sername>
<issue>FGS Bulletin 67</issue>
</serinfo>
</citeinfo>
</crossref>
<natvform Sync="TRUE">Raster Dataset</natvform>
</idinfo>
<dataqual>
<lineage>
<srcinfo>
<srccite>
<citeinfo>
<origin>Florida Geological Survey</origin>
<pubdate>Unknown</pubdate>
<pubtime>Unknown</pubtime>
<title>Intermediate Confining Unit Thickness</title>
</citeinfo>
</srccite>
</srcinfo>
<procstep>
<procdesc>The IAS FAVA Response Theme grid is the relative vulnerability map for the Intermediate Aquifer System. It was calculated using the ArcSDM extension and applying the weights of evidence method. An analysis extent (study area), training point theme, and modeling method (weights of evidence) are selected in the set analysis parameters. Weights are then calculated on each evidential theme and then the themes are generalized (into binary patterns). A generalization of 1 represents "more vulnerable" areas, 2 represents "less vulnerable areas and -99 represents missing data. A response theme is then calculated based on the association between training points and evidential themes. A relative vulnerability class field is also in the table so that the grid can be symbolized into 3 vulnerability classes .</procdesc>
<procdate>2009</procdate>
<proccont>
<cntinfo>
<cntorgp>
<cntorg>Advanced GeoSpatial Inc.</cntorg>
</cntorgp>
<cntaddr>
<addrtype>mailing and physical address</addrtype>
<address>1949 Raymond Diehl Rd.</address>
<address>Suite D</address>
<city>Tallahassee</city>
<state>FL</state>
<postal>32308</postal>
<country>US</country>
</cntaddr>
<cntvoice>850-580-4447</cntvoice>
</cntinfo>
</proccont>
</procstep>
<procstep>
<procdesc>Metadata imported.</procdesc>
<srcused>withheld</srcused>
</procstep>
<procstep>
<procdesc Sync="TRUE">Metadata imported.</procdesc>
<srcused Sync="FALSE">withheld</srcused>
<date Sync="TRUE">20090803</date>
<time Sync="TRUE">11515600</time>
</procstep>
<procstep>
<procdesc Sync="TRUE">Dataset copied.</procdesc>
<srcused Sync="FALSE">withheld</srcused>
<date Sync="TRUE">20090902</date>
<time Sync="TRUE">13575200</time>
</procstep>
</lineage>
</dataqual>
<spdoinfo>
<direct Sync="TRUE">Raster</direct>
<rastinfo>
<rasttype Sync="TRUE">Pixel</rasttype>
<rowcount Sync="TRUE">9238</rowcount>
<colcount Sync="TRUE">6758</colcount>
<vrtcount Sync="TRUE">1</vrtcount>
<rastxsz Sync="TRUE">30.000000</rastxsz>
<rastysz Sync="TRUE">30.000000</rastysz>
<rastbpp Sync="TRUE">8</rastbpp>
<rastorig Sync="TRUE">Upper Left</rastorig>
<rastcmap Sync="TRUE">FALSE</rastcmap>
<rastcomp Sync="TRUE">LZ77</rastcomp>
<rastband Sync="TRUE">1</rastband>
<rastdtyp Sync="TRUE">pixel codes</rastdtyp>
<rastplyr Sync="TRUE">TRUE</rastplyr>
<rastifor Sync="TRUE">FGDBR</rastifor>
</rastinfo>
</spdoinfo>
<spref>
<horizsys>
<planar>
<planci>
<plance Sync="TRUE">row and column</plance>
<coordrep>
<absres Sync="TRUE">30.000000</absres>
<ordres Sync="TRUE">30.000000</ordres>
</coordrep>
<plandu Sync="TRUE">meters</plandu>
</planci>
</planar>
<geodetic>
<horizdn Sync="TRUE">D_North_American_1983_HARN</horizdn>
<ellips Sync="TRUE">Geodetic Reference System 80</ellips>
<semiaxis Sync="TRUE">6378137.000000</semiaxis>
<denflat Sync="TRUE">298.257222</denflat>
</geodetic>
<cordsysn>
<geogcsn Sync="TRUE">GCS_North_American_1983_HARN</geogcsn>
<projcsn Sync="TRUE">NAD_1983_HARN_Albers</projcsn>
</cordsysn>
</horizsys>
<vertdef>
<depthsys>
<depthdu>feet</depthdu>
</depthsys>
</vertdef>
</spref>
<eainfo>
<detailed Name="VAT_IAS_RESPONSE_2">
<attr>
<attrlabl>COUNT</attrlabl>
<attalias Sync="FALSE">COUNT</attalias>
<attrtype Sync="TRUE">Integer</attrtype>
<attwidth Sync="TRUE">4</attwidth>
<atprecis Sync="TRUE">0</atprecis>
<attscale Sync="TRUE">0</attscale>
</attr>
<attr>
<attrlabl Sync="TRUE">IAS_OVB2</attrlabl>
<attalias Sync="FALSE">IAS_OVB2</attalias>
<attrtype Sync="TRUE">OID</attrtype>
<attwidth Sync="TRUE">4</attwidth>
<atprecis Sync="TRUE">0</atprecis>
<attscale Sync="TRUE">0</attscale>
<attrdef Sync="TRUE">Internal feature number.</attrdef>
<attrdefs Sync="TRUE">Esri</attrdefs>
<attrdomv>
<udom Sync="TRUE">Sequential unique whole numbers that are automatically generated.</udom>
</attrdomv>
</attr>
<attr>
<attrlabl Sync="TRUE">IAS_AVPED</attrlabl>
<attalias Sync="FALSE">IAS_AVPED</attalias>
<attrtype Sync="TRUE">Double</attrtype>
<attwidth Sync="TRUE">8</attwidth>
<atprecis Sync="TRUE">0</atprecis>
<attscale Sync="TRUE">0</attscale>
<attrdef Sync="TRUE">Internal feature number.</attrdef>
<attrdefs Sync="TRUE">Esri</attrdefs>
<attrdomv>
<udom Sync="TRUE">Sequential unique whole numbers that are automatically generated.</udom>
</attrdomv>
</attr>
<attr>
<attrlabl Sync="TRUE">AREA_SQM</attrlabl>
<attalias Sync="FALSE">AREA_SQM</attalias>
<attrtype Sync="TRUE">Integer</attrtype>
<attwidth Sync="TRUE">4</attwidth>
<atprecis Sync="TRUE">0</atprecis>
<attscale Sync="TRUE">0</attscale>
<attrdef Sync="TRUE">Internal feature number.</attrdef>
<attrdefs Sync="TRUE">Esri</attrdefs>
<attrdomv>
<udom Sync="TRUE">Sequential unique whole numbers that are automatically generated.</udom>
</attrdomv>
</attr>
<attr>
<attrlabl Sync="TRUE">TRNGPOINTS</attrlabl>
<attalias Sync="FALSE">TRNGPOINTS</attalias>
<attrtype Sync="TRUE">Double</attrtype>
<attwidth Sync="TRUE">8</attwidth>
<atprecis Sync="TRUE">0</atprecis>
<attscale Sync="TRUE">0</attscale>
<attrdef Sync="TRUE">Internal feature number.</attrdef>
<attrdefs Sync="TRUE">Esri</attrdefs>
<attrdomv>
<udom Sync="TRUE">Sequential unique whole numbers that are automatically generated.</udom>
</attrdomv>
</attr>
<attr>
<attrlabl Sync="TRUE">ID_30127</attrlabl>
<attalias Sync="FALSE">ID_30127</attalias>
<attrtype Sync="TRUE">Double</attrtype>
<attwidth Sync="TRUE">8</attwidth>
<atprecis Sync="TRUE">0</atprecis>
<attscale Sync="TRUE">0</attscale>
<attrdef Sync="TRUE">Internal feature number.</attrdef>
<attrdefs Sync="TRUE">Esri</attrdefs>
<attrdomv>
<udom Sync="TRUE">Sequential unique whole numbers that are automatically generated.</udom>
</attrdomv>
</attr>
<attr>
<attrlabl Sync="TRUE">POST_PROB_30127</attrlabl>
<attalias Sync="FALSE">POST_PROB_30127</attalias>
<attrtype Sync="TRUE">Double</attrtype>
<attwidth Sync="TRUE">8</attwidth>
<atprecis Sync="TRUE">0</atprecis>
<attscale Sync="TRUE">0</attscale>
<attrdef Sync="TRUE">Internal feature number.</attrdef>
<attrdefs Sync="TRUE">Esri</attrdefs>
<attrdomv>
<udom Sync="TRUE">Sequential unique whole numbers that are automatically generated.</udom>
</attrdomv>
</attr>
<attr>
<attrlabl Sync="TRUE">PSTPRBNRM_30127</attrlabl>
<attalias Sync="FALSE">PSTPRBNRM_30127</attalias>
<attrtype Sync="TRUE">Double</attrtype>
<attwidth Sync="TRUE">8</attwidth>
<atprecis Sync="TRUE">0</atprecis>
<attscale Sync="TRUE">0</attscale>
<attrdef Sync="TRUE">Internal feature number.</attrdef>
<attrdefs Sync="TRUE">Esri</attrdefs>
<attrdomv>
<udom Sync="TRUE">Sequential unique whole numbers that are automatically generated.</udom>
</attrdomv>
</attr>
<attr>
<attrlabl Sync="TRUE">POST_LOGIT_30127</attrlabl>
<attalias Sync="FALSE">POST_LOGIT_30127</attalias>
<attrtype Sync="TRUE">Double</attrtype>
<attwidth Sync="TRUE">8</attwidth>
<atprecis Sync="TRUE">0</atprecis>
<attscale Sync="TRUE">0</attscale>
<attrdef Sync="TRUE">
</attrdef>
<attrdefs Sync="TRUE">
</attrdefs>
<attrdomv>
<udom Sync="TRUE">Sequential unique whole numbers that are automatically generated.</udom>
</attrdomv>
</attr>
<attr>
<attrlabl Sync="TRUE">SUM_WEIGHT_30127</attrlabl>
<attalias Sync="FALSE">SUM_WEIGHT_30127</attalias>
<attrtype Sync="TRUE">Double</attrtype>
<attwidth Sync="TRUE">8</attwidth>
<atprecis Sync="TRUE">0</atprecis>
<attscale Sync="TRUE">0</attscale>
<attrdef Sync="TRUE">
</attrdef>
<attrdefs Sync="TRUE">
</attrdefs>
<attrdomv>
<udom Sync="TRUE">Sequential unique whole numbers that are automatically generated.</udom>
</attrdomv>
</attr>
<attr>
<attrlabl>VALUE</attrlabl>
<attalias Sync="FALSE">VALUE</attalias>
<attrtype Sync="TRUE">Double</attrtype>
<attwidth Sync="TRUE">8</attwidth>
<atprecis Sync="TRUE">0</atprecis>
<attscale Sync="TRUE">0</attscale>
<attrdef Sync="TRUE">
</attrdef>
<attrdefs Sync="TRUE">
</attrdefs>
<attrdomv>
<udom Sync="TRUE">Sequential unique whole numbers that are automatically generated.</udom>
</attrdomv>
</attr>
<attr>
<attrlabl Sync="TRUE">UNCERTAINT_30127</attrlabl>
<attalias Sync="FALSE">UNCERTAINT_30127</attalias>
<attrtype Sync="TRUE">Double</attrtype>
<attwidth Sync="TRUE">8</attwidth>
<atprecis Sync="TRUE">0</atprecis>
<attscale Sync="TRUE">0</attscale>
<attrdef Sync="TRUE">Internal feature number.</attrdef>
<attrdefs Sync="TRUE">
</attrdefs>
<attrdomv>
<udom Sync="TRUE">Sequential unique whole numbers that are automatically generated.</udom>
</attrdomv>
</attr>
<attr>
<attrlabl Sync="TRUE">MSNG_DATA_30127</attrlabl>
<attalias Sync="FALSE">MSNG_DATA_30127</attalias>
<attrtype Sync="TRUE">String</attrtype>
<attwidth Sync="TRUE">30</attwidth>
<atprecis Sync="TRUE">0</atprecis>
<attscale Sync="TRUE">0</attscale>
<attrdef Sync="TRUE">
</attrdef>
<attrdefs Sync="TRUE">
</attrdefs>
<attrdomv>
<udom Sync="TRUE">Sequential unique whole numbers that are automatically generated.</udom>
</attrdomv>
</attr>
<attr>
<attrlabl Sync="TRUE">TOT_UNCRTY_30127</attrlabl>
<attalias Sync="FALSE">TOT_UNCRTY_30127</attalias>
<attrtype Sync="TRUE">Double</attrtype>
<attwidth Sync="TRUE">8</attwidth>
<atprecis Sync="TRUE">0</atprecis>
<attscale Sync="TRUE">0</attscale>
<attrdef Sync="TRUE">
</attrdef>
<attrdefs Sync="TRUE">
</attrdefs>
<attrdomv>
<udom Sync="TRUE">Sequential unique whole numbers that are automatically generated.</udom>
</attrdomv>
</attr>
<attr>
<attrlabl Sync="TRUE">VUL_CLASS_30127</attrlabl>
<attalias Sync="FALSE">VUL_CLASS_30127</attalias>
<attrtype Sync="TRUE">Integer</attrtype>
<attwidth Sync="TRUE">4</attwidth>
<atprecis Sync="TRUE">0</atprecis>
<attscale Sync="TRUE">0</attscale>
<attrdef Sync="TRUE">
</attrdef>
<attrdefs Sync="TRUE">
</attrdefs>
<attrdomv>
<udom Sync="TRUE">Sequential unique whole numbers that are automatically generated.</udom>
</attrdomv>
</attr>
<attr>
<attrlabl Sync="TRUE">CONFIDENCE_30127</attrlabl>
<attalias Sync="FALSE">CONFIDENCE_30127</attalias>
<attrtype Sync="TRUE">Integer</attrtype>
<attwidth Sync="TRUE">4</attwidth>
<atprecis Sync="TRUE">0</atprecis>
<attscale Sync="TRUE">0</attscale>
<attrdef Sync="TRUE">
</attrdef>
<attrdefs Sync="TRUE">
</attrdefs>
<attrdomv>
<udom Sync="TRUE">Sequential unique whole numbers that are automatically generated.</udom>
</attrdomv>
</attr>
<attr>
<attrlabl>Value</attrlabl>
<attrdef>Number of Unique conditions</attrdef>
<attalias Sync="FALSE">VALUE</attalias>
<attrtype Sync="TRUE">Integer</attrtype>
<attwidth Sync="TRUE">4</attwidth>
<atprecis Sync="TRUE">0</atprecis>
<attscale Sync="TRUE">0</attscale>
</attr>
<attr>
<attrlabl>Count</attrlabl>
<attrdef>Number of cells per unique condition</attrdef>
<attalias Sync="FALSE">COUNT</attalias>
<attrtype Sync="TRUE">Integer</attrtype>
<attwidth Sync="TRUE">4</attwidth>
<atprecis Sync="TRUE">0</atprecis>
<attscale Sync="TRUE">0</attscale>
</attr>
<attr>
<attrlabl Sync="TRUE">CTDS_BUFF</attrlabl>
<attalias Sync="FALSE">CTDS_BUFF</attalias>
<attrtype Sync="TRUE">String</attrtype>
<attwidth Sync="TRUE">30</attwidth>
<atprecis Sync="TRUE">0</atprecis>
<attscale Sync="TRUE">0</attscale>
</attr>
<enttyp>
<enttypl Sync="FALSE">BASE.IAS_RESPONSE_2</enttypl>
<enttypd>Relative vulnerability grid of the Intermediate Aquifer System</enttypd>
<enttypt Sync="TRUE">Table</enttypt>
<enttypc Sync="TRUE">16</enttypc>
</enttyp>
<attr>
<attrlabl Sync="TRUE">PCT_CONF</attrlabl>
<attalias Sync="TRUE">PCT_CONF</attalias>
<attrtype Sync="TRUE">String</attrtype>
<attwidth Sync="TRUE">30</attwidth>
<atprecis Sync="TRUE">0</atprecis>
<attscale Sync="TRUE">0</attscale>
</attr>
</detailed>
</eainfo>
<distinfo>
<distrib>
<cntinfo>
<cntorgp>
<cntorg>Florida Geological Survey</cntorg>
</cntorgp>
<cntaddr>
<addrtype>mailing and physical address</addrtype>
<address>Gunter Building</address>
<address>903 W. Tennessee St.</address>
<city>Tallahassee</city>
<state>FL</state>
<postal>32304</postal>
</cntaddr>
<cntvoice>850-488-4191</cntvoice>
</cntinfo>
</distrib>
<resdesc>Downloadable Data</resdesc>
<stdorder>
<digform>
<digtinfo>
<transize Sync="TRUE">3.591</transize>
<dssize Sync="TRUE">3.591</dssize>
</digtinfo>
</digform>
</stdorder>
</distinfo>
<metainfo>
<metd Sync="TRUE">20090902</metd>
<metc>
<cntinfo>
<cntorgp>
<cntorg>Advanced GeoSpatial Inc.</cntorg>
<cntper>James Cichon</cntper>
</cntorgp>
<cntaddr>
<addrtype>mailing and physical address</addrtype>
<address>1949 Raymond Diehl Rd.</address>
<address>Suite D</address>
<city>Tallahassee</city>
<state>FL</state>
<postal>32308</postal>
<country>US</country>
</cntaddr>
<cntvoice>850-580-4447</cntvoice>
</cntinfo>
</metc>
<metstdn Sync="TRUE">FGDC Content Standards for Digital Geospatial Metadata</metstdn>
<metstdv Sync="TRUE">FGDC-STD-001-1998</metstdv>
<mettc Sync="TRUE">local time</mettc>
<metextns>
<onlink>http://www.esri.com/metadata/esriprof80.html</onlink>
<metprof>ESRI Metadata Profile</metprof>
</metextns>
<metextns>
<onlink>http://www.esri.com/metadata/esriprof80.html</onlink>
<metprof>ESRI Metadata Profile</metprof>
</metextns>
<metextns>
<onlink>http://www.esri.com/metadata/esriprof80.html</onlink>
<metprof>ESRI Metadata Profile</metprof>
</metextns>
<metextns>
<onlink>http://www.esri.com/metadata/esriprof80.html</onlink>
<metprof>ESRI Metadata Profile</metprof>
</metextns>
<metextns>
<onlink>http://www.esri.com/metadata/esriprof80.html</onlink>
<metprof>ESRI Metadata Profile</metprof>
</metextns>
<metextns>
<onlink>http://www.esri.com/metadata/esriprof80.html</onlink>
<metprof>ESRI Metadata Profile</metprof>
</metextns>
<langmeta Sync="TRUE">en</langmeta>
</metainfo>
<Esri>
<CreaDate>20170501</CreaDate>
<CreaTime>11300000</CreaTime>
<SyncOnce>FALSE</SyncOnce>
<SyncDate>20170510</SyncDate>
<SyncTime>13290500</SyncTime>
<ModDate>20170510</ModDate>
<ModTime>13290500</ModTime>
<ArcGISstyle>ISO 19139 Metadata Implementation Specification</ArcGISstyle>
<DataProperties>
<itemProps>
<itemName Sync="TRUE">IAS_RESPONSE_2</itemName>
<nativeExtBox>
<westBL Sync="TRUE">524142.757542</westBL>
<eastBL Sync="TRUE">726882.757542</eastBL>
<southBL Sync="TRUE">187484.546875</southBL>
<northBL Sync="TRUE">464624.546875</northBL>
<exTypeCode Sync="TRUE">1</exTypeCode>
</nativeExtBox>
<imsContentType export="False">002</imsContentType>
</itemProps>
<coordRef>
<type Sync="TRUE">Projected</type>
<geogcsn Sync="TRUE">GCS_North_American_1983_HARN</geogcsn>
<csUnits Sync="TRUE">Linear Unit: Meter (1.000000)</csUnits>
<projcsn Sync="TRUE">NAD_1983_HARN_Albers</projcsn>
<peXml Sync="TRUE">&lt;ProjectedCoordinateSystem xsi:type='typens:ProjectedCoordinateSystem' xmlns:xsi='http://www.w3.org/2001/XMLSchema-instance' xmlns:xs='http://www.w3.org/2001/XMLSchema' xmlns:typens='http://www.esri.com/schemas/ArcGIS/10.3'&gt;&lt;WKT&gt;PROJCS[&amp;quot;NAD_1983_HARN_Albers&amp;quot;,GEOGCS[&amp;quot;GCS_North_American_1983_HARN&amp;quot;,DATUM[&amp;quot;D_North_American_1983_HARN&amp;quot;,SPHEROID[&amp;quot;GRS_1980&amp;quot;,6378137.0,298.257222101]],PRIMEM[&amp;quot;Greenwich&amp;quot;,0.0],UNIT[&amp;quot;Degree&amp;quot;,0.0174532925199433]],PROJECTION[&amp;quot;Albers&amp;quot;],PARAMETER[&amp;quot;False_Easting&amp;quot;,400000.0],PARAMETER[&amp;quot;False_Northing&amp;quot;,0.0],PARAMETER[&amp;quot;Central_Meridian&amp;quot;,-84.0],PARAMETER[&amp;quot;Standard_Parallel_1&amp;quot;,24.0],PARAMETER[&amp;quot;Standard_Parallel_2&amp;quot;,31.5],PARAMETER[&amp;quot;Latitude_Of_Origin&amp;quot;,24.0],UNIT[&amp;quot;Meter&amp;quot;,1.0]]&lt;/WKT&gt;&lt;XOrigin&gt;-19550100&lt;/XOrigin&gt;&lt;YOrigin&gt;-7526400&lt;/YOrigin&gt;&lt;XYScale&gt;225743210.67916927&lt;/XYScale&gt;&lt;ZOrigin&gt;-100000&lt;/ZOrigin&gt;&lt;ZScale&gt;10000&lt;/ZScale&gt;&lt;MOrigin&gt;-100000&lt;/MOrigin&gt;&lt;MScale&gt;10000&lt;/MScale&gt;&lt;XYTolerance&gt;0.001&lt;/XYTolerance&gt;&lt;ZTolerance&gt;0.00020000000000000001&lt;/ZTolerance&gt;&lt;MTolerance&gt;0.00020000000000000001&lt;/MTolerance&gt;&lt;HighPrecision&gt;true&lt;/HighPrecision&gt;&lt;/ProjectedCoordinateSystem&gt;</peXml>
</coordRef>
<RasterProperties>
<General>
<PixelDepth Sync="TRUE">8</PixelDepth>
<HasColormap Sync="TRUE">FALSE</HasColormap>
<CompressionType Sync="TRUE">RLE</CompressionType>
<NumBands Sync="TRUE">1</NumBands>
<Format Sync="TRUE">GRID</Format>
<HasPyramids Sync="TRUE">TRUE</HasPyramids>
<SourceType Sync="TRUE">continuous</SourceType>
<PixelType Sync="TRUE">unsigned integer</PixelType>
<NoDataValue Sync="TRUE">0</NoDataValue>
</General>
</RasterProperties>
</DataProperties>
<ArcGISFormat>1.0</ArcGISFormat>
<scaleRange>
<minScale>150000000</minScale>
<maxScale>5000</maxScale>
</scaleRange>
<ArcGISProfile>FGDC</ArcGISProfile>
</Esri>
<mdLang>
<languageCode value="eng">
</languageCode>
<countryCode Sync="TRUE" value="USA">
</countryCode>
</mdLang>
<mdChar>
<CharSetCd value="004">
</CharSetCd>
</mdChar>
<mdHrLv>
<ScopeCd value="005">
</ScopeCd>
</mdHrLv>
<mdStanName>ArcGIS Metadata</mdStanName>
<mdStanVer>1.0</mdStanVer>
<distInfo>
<distFormat>
<formatName Sync="TRUE">File Geodatabase Raster Dataset</formatName>
</distFormat>
</distInfo>
<dataIdInfo>
<idCitation>
<resTitle>Intermediate Aquifer System Contamination Potential (FAVA II)</resTitle>
<date>
<pubDate date="unknown">2017-05-10T00:00:00</pubDate>
</date>
<citRespParty>
<rpOrgName>Advanced GeoSpatial Inc.</rpOrgName>
<role>
<RoleCd value="006">
</RoleCd>
</role>
</citRespParty>
<presForm>
<PresFormCd Sync="TRUE" value="011">
</PresFormCd>
</presForm>
</idCitation>
<idAbs>&lt;div style='text-align:Left;'&gt;&lt;div&gt;&lt;div&gt;&lt;p&gt;&lt;span&gt;The IAS FAVA Response theme grid is the relative vulnerability map for the Intermediate Aquifer System. It was calculated using the ArcSDM extension and applying the weights of evidence method. A relative vulnerability class field is also in the table so that the grid can be symbolized into 3 vulnerability classes. These classes were developed based on posterior probability vs. cumulative area breaks.&lt;/span&gt;&lt;/p&gt;&lt;/div&gt;&lt;/div&gt;&lt;/div&gt;</idAbs>
<idPurp>Development of a relative vulnerability map for the Intermediate Aquifer System.</idPurp>
<idCredit>Advanced GeoSpatial Inc.</idCredit>
<idStatus>
<ProgCd value="001">
</ProgCd>
</idStatus>
<resMaint>
<maintFreq>
<MaintFreqCd value="009">
</MaintFreqCd>
</maintFreq>
</resMaint>
<placeKeys>
<keyword>Florida</keyword>
</placeKeys>
<themeKeys>
<thesaName>
<resTitle>ISO 19115 Topic Category</resTitle>
</thesaName>
<keyword>Geoscientific Information</keyword>
<keyword>Vulnerability</keyword>
<keyword>Geology and Geophysics</keyword>
</themeKeys>
<searchKeys>
<keyword>Florida</keyword>
<keyword>Geoscientific Information</keyword>
<keyword>Vulnerability</keyword>
<keyword>Geology and Geophysics</keyword>
</searchKeys>
<resConst>
<Consts>
