{ "currentVersion": 10.71, "serviceDescription": "
The IAS FAVA Response theme grid is the relative vulnerability map for the Intermediate Aquifer System. It was calculated using the ArcSDM extension and applying the weights of evidence method. A relative vulnerability class field is also in the table so that the grid can be symbolized into 3 vulnerability classes. These classes were developed based on posterior probability vs. cumulative area breaks.<\/span><\/p><\/div><\/div><\/div>",
"name": "OpenData/IAS_RESPONSE_2",
"description": " The IAS FAVA Response theme grid is the relative vulnerability map for the Intermediate Aquifer System. It was calculated using the ArcSDM extension and applying the weights of evidence method. A relative vulnerability class field is also in the table so that the grid can be symbolized into 3 vulnerability classes. These classes were developed based on posterior probability vs. cumulative area breaks.<\/span><\/p><\/div><\/div><\/div>",
"extent": {
"xmin": 524142.757541959,
"ymin": 187484.54687500402,
"xmax": 726882.757541959,
"ymax": 464624.546875004,
"spatialReference": {
"wkid": 102967,
"latestWkid": 6439
}
},
"initialExtent": {
"xmin": 524142.757541959,
"ymin": 187484.54687500402,
"xmax": 726882.757541959,
"ymax": 464624.546875004,
"spatialReference": {
"wkid": 102967,
"latestWkid": 6439
}
},
"fullExtent": {
"xmin": 524142.757541959,
"ymin": 187484.54687500402,
"xmax": 726882.757541959,
"ymax": 464624.546875004,
"spatialReference": {
"wkid": 102967,
"latestWkid": 6439
}
},
"pixelSizeX": 30.000000000000007,
"pixelSizeY": 30,
"bandCount": 1,
"pixelType": "U8",
"minPixelSize": 0,
"maxPixelSize": 0,
"copyrightText": "Advanced GeoSpatial Inc.",
"serviceDataType": "esriImageServiceDataTypeGeneric",
"minValues": [
1
],
"maxValues": [
16
],
"meanValues": [
2.456239134055915
],
"stdvValues": [
2.2814364401970693
],
"objectIdField": "",
"fields": [],
"capabilities": "Mensuration,Image,Metadata",
"defaultMosaicMethod": "Center",
"allowedMosaicMethods": "",
"sortField": "",
"sortValue": null,
"mosaicOperator": "First",
"defaultCompressionQuality": 75,
"defaultResamplingMethod": "Bilinear",
"maxImageHeight": 4100,
"maxImageWidth": 15000,
"allowRasterFunction": true,
"rasterFunctionInfos": [
{
"name": "IAS_RESPONSE_2_6439",
"description": "A raster function template.",
"help": ""
},
{
"name": "None",
"description": "",
"help": ""
}
],
"rasterTypeInfos": [
{
"name": "Raster Dataset",
"description": "Supports all ArcGIS Raster Datasets",
"help": ""
}
],
"mensurationCapabilities": "Basic",
"hasHistograms": true,
"hasColormap": false,
"hasRasterAttributeTable": true,
"minScale": 0,
"maxScale": 0,
"exportTilesAllowed": false,
"hasMultidimensions": false,
"supportsStatistics": false,
"supportsAdvancedQueries": false,
"editFieldsInfo": null,
"ownershipBasedAccessControlForRasters": null,
"allowComputeTiePoints": false,
"useStandardizedQueries": true,
"advancedQueryCapabilities": {
"useStandardizedQueries": true,
"supportsStatistics": false,
"supportsOrderBy": false,
"supportsDistinct": false,
"supportsPagination": false
},
"spatialReference": {
"wkid": 102967,
"latestWkid": 6439
}
}