<?xml version="1.0" encoding="UTF-8" standalone="no"?>
<metadata>
<idinfo>
<citation>
<citeinfo>
<origin>Florida Geological Survey</origin>
<pubdate>Unknown</pubdate>
<title>Intermediate Aquifer System Thickness</title>
<geoform Sync="TRUE">SDE raster digital data</geoform>
<serinfo>
<sername>Florida Aquifer Vulnerability Assessment: Contaminaion potential of Florida's principal aquifer systems</sername>
<issue>FGS Bulletin 67</issue>
</serinfo>
<onlink Sync="FALSE">withheld</onlink>
<ftname Sync="TRUE">BASE.IAS_THK</ftname>
</citeinfo>
</citation>
<descript>
<abstract>The Intermediate Aquifer System (IAS) consists of highly-variable, fine-grained, siliciclastic deposits and low permeability limestone and dolostone. It refers to a statewide hydrostratigraphic unit which provides variable confinement to the Floridan Aquifer system. The IAS grid was created by using Florida Geological Survey well core and cuttings data. The surface was interpolated by using the kriging method from the ArcGIS Geostatistical Analyst package.</abstract>
<purpose>To provide a statewide raster dataset of IAS thickness</purpose>
<langdata Sync="TRUE">en</langdata>
</descript>
<timeperd>
<timeinfo>
<sngdate>
<caldate>20040101</caldate>
</sngdate>
</timeinfo>
<current>ground condition</current>
</timeperd>
<status>
<progress>Complete</progress>
<update>Unknown</update>
</status>
<spdom>
<bounding>
<westbc Sync="TRUE">-87.639226</westbc>
<eastbc Sync="TRUE">-79.872480</eastbc>
<northbc Sync="TRUE">31.042857</northbc>
<southbc Sync="TRUE">25.090983</southbc>
</bounding>
<lboundng>
<leftbc Sync="TRUE">52668.027344</leftbc>
<rightbc Sync="TRUE">793968.027344</rightbc>
<bottombc Sync="TRUE">127156.671875</bottombc>
<topbc Sync="TRUE">781606.671875</topbc>
</lboundng>
</spdom>
<keywords>
<theme>
<themekey>Intermediate Aquifer System</themekey>
<themekey>IAS</themekey>
<themekey>ICU</themekey>
<themekey>Intermediate Confining Unit</themekey>
<themekey>Environmental Monitoring and Modeling</themekey>
<themekey>Geology and Geophysics</themekey>
</theme>
</keywords>
<accconst>none</accconst>
<useconst>DISCLAIMER This geologic data was developed by the Florida Department of Environmental Protection (FDEP) - Florida Geological Survey (FGS) to carry out agency responsibilities related to management, protection, and development of Florida's natural resources. Although efforts have been made to make the information accurate and useful, the FDEP/FGS assumes no responsibility for errors in the information and does not guarantee that the data are free from errors or inaccuracies. Similarly FDEP/FGS assumes no responsibility for the consequences of inappropriate uses or interpretations of the data. As such, these digital data are distributed on "as is" basis and the user assumes all risk as to their quality, the results obtained from their use, and the performance of the data. FDEP/FGS bears no responsibility to inform users of any changes made to this data. Anyone using this data is advised that precision implied by the data may far exceed actual precision. Comments on this data are invited and FDEP/FGS would appreciate that documented errors be brought to staff attention. The development of these data sets represents a major investment of staff time and effort. As a professional responsibility, we expect that the FDEP/FGS will receive proper credit when you utilize these data sets. Further, since part of this data was developed and collected with U.S. Government or State of Florida funding, no proprietary rights may be attached to it in whole or in part, nor may it be sold to the U.S. Government or the Florida State Government as part of any procurement of products or services.</useconst>
<ptcontac>
<cntinfo>
<cntorgp>
<cntorg>Florida Geological Survey</cntorg>
</cntorgp>
<cntaddr>
<addrtype>mailing and physical address</addrtype>
<address>Gunter Building</address>
<address>MS #720</address>
<address>903 W. Tennessee St.</address>
<city>Tallahassee</city>
<state>FL</state>
<postal>32304-7700</postal>
<country>US</country>
</cntaddr>
</cntinfo>
</ptcontac>
<datacred>Florida Geological Survey</datacred>
<native Sync="FALSE">ESRI ArcCatalog 9.3.1.4000</native>
<crossref>
<citeinfo>
<origin>Florida Geological Survey</origin>
<pubdate>Unknown</pubdate>
<pubtime>Unknown</pubtime>
<title>Intermediate Aquifer System Thickness</title>
<serinfo>
<sername>Florida Aquifer Vulnerability Assessment: Contamination potential of Florida's principal aquifer systems</sername>
<issue>FGS Bulletin 67</issue>
</serinfo>
</citeinfo>
</crossref>
<natvform Sync="FALSE">Raster Dataset</natvform>
</idinfo>
<dataqual>
<lineage>
<srcinfo>
<srccite>
<citeinfo>
<origin>Florida Geological Survey</origin>
<pubdate>Unknown</pubdate>
<pubtime>Unknown</pubtime>
<title>Intermediate Confining Unit Thickness</title>
</citeinfo>
</srccite>
</srcinfo>
<procstep>
<procdesc>The IAS grid was created by using Florida Geological Survey well core and cuttings data. This data was used to create a stratigraphic surface of the top of IAS and a top of FAS. The surfaces were interpolated by using the kriging method from the ArcGIS Geostatistical Analyst package. These surfaces were then resolved to the DEM (areas exceeding land surface were "trimmed"). To get a thickness of IAS the top of FAS surface was subtracted from the top of IAS surface.</procdesc>
<procdate>Unknown</procdate>
<proccont>
<cntinfo>
<cntorgp>
<cntorg>Florida Geological Survey</cntorg>
</cntorgp>
</cntinfo>
</proccont>
</procstep>
<procstep>
<procdesc>Raster data inserted in ArcSDE 9.3 and published in DataMiner.</procdesc>
<procdate>20081215</procdate>
</procstep>
</lineage>
</dataqual>
<spdoinfo>
<direct Sync="TRUE">Raster</direct>
<rastinfo>
<rasttype Sync="TRUE">Pixel</rasttype>
<rowcount Sync="TRUE">21815</rowcount>
<colcount Sync="TRUE">24710</colcount>
<vrtcount Sync="TRUE">1</vrtcount>
<rastxsz Sync="TRUE">30.000000</rastxsz>
<rastysz Sync="TRUE">30.000000</rastysz>
<rastbpp Sync="TRUE">16</rastbpp>
<rastorig Sync="TRUE">Upper Left</rastorig>
<rastcmap Sync="TRUE">FALSE</rastcmap>
<rastcomp Sync="TRUE">LZ77</rastcomp>
<rastband Sync="TRUE">1</rastband>
<rastdtyp Sync="TRUE">pixel codes</rastdtyp>
<rastifor Sync="TRUE">FGDBR</rastifor>
<rastplyr Sync="TRUE">TRUE</rastplyr>
</rastinfo>
</spdoinfo>
<spref>
<horizsys>
<planar>
<planci>
<plance Sync="TRUE">row and column</plance>
<coordrep>
<absres Sync="TRUE">30.000000</absres>
<ordres Sync="TRUE">30.000000</ordres>
</coordrep>
<plandu Sync="TRUE">meters</plandu>
</planci>
</planar>
<geodetic>
<horizdn Sync="TRUE">D_North_American_1983_HARN</horizdn>
<ellips Sync="TRUE">Geodetic Reference System 80</ellips>
<semiaxis Sync="TRUE">6378137.000000</semiaxis>
<denflat Sync="TRUE">298.257222</denflat>
</geodetic>
<cordsysn>
<geogcsn Sync="TRUE">GCS_North_American_1983_HARN</geogcsn>
<projcsn Sync="TRUE">NAD_1983_HARN_Albers</projcsn>
</cordsysn>
</horizsys>
<vertdef>
<altsys>
<altres>1.000000</altres>
<altenc>Explicit elevation coordinate included with horizontal coordinates</altenc>
</altsys>
<depthsys>
<depthdu>feet</depthdu>
</depthsys>
</vertdef>
</spref>
<eainfo>
<detailed Name="VAT_IAS_THK">
<enttyp>
<enttypl Sync="TRUE">VAT_IAS_THK</enttypl>
<enttypt Sync="TRUE">Table</enttypt>
<enttypc Sync="TRUE">1227</enttypc>
</enttyp>
<attr>
<attrlabl>OBJECTID</attrlabl>
<attrdef>Internal feature number.</attrdef>
<attrdefs>ESRI</attrdefs>
<attrdomv>
<udom>Sequential unique whole numbers that are automatically generated.</udom>
</attrdomv>
<attalias Sync="TRUE">OBJECTID</attalias>
<attrtype Sync="TRUE">OID</attrtype>
<attwidth Sync="TRUE">4</attwidth>
<atprecis Sync="TRUE">0</atprecis>
<attscale Sync="TRUE">0</attscale>
</attr>
<attr>
<attrlabl>VALUE</attrlabl>
<attalias Sync="TRUE">VALUE</attalias>
<attrtype Sync="TRUE">Integer</attrtype>
<attwidth Sync="TRUE">4</attwidth>
<atprecis Sync="TRUE">0</atprecis>
<attscale Sync="TRUE">0</attscale>
</attr>
<attr>
<attrlabl>COUNT</attrlabl>
<attalias Sync="TRUE">COUNT</attalias>
<attrtype Sync="TRUE">Integer</attrtype>
<attwidth Sync="TRUE">4</attwidth>
<atprecis Sync="TRUE">0</atprecis>
<attscale Sync="TRUE">0</attscale>
</attr>
<attr>
<attrlabl>FAS_NO3</attrlabl>
<attalias Sync="TRUE">FAS_NO3</attalias>
<attrtype Sync="TRUE">Integer</attrtype>
<attwidth Sync="TRUE">4</attwidth>
<atprecis Sync="TRUE">0</atprecis>
<attscale Sync="TRUE">0</attscale>
</attr>
<attr>
<attrlabl>FAS_NO3_DESCRIP</attrlabl>
<attalias Sync="TRUE">FAS_NO3_DESCRIP</attalias>
<attrtype Sync="TRUE">String</attrtype>
<attwidth Sync="TRUE">16</attwidth>
<atprecis Sync="TRUE">0</atprecis>
<attscale Sync="TRUE">0</attscale>
</attr>
<attr>
<attrlabl>FAS_DO</attrlabl>
<attalias Sync="TRUE">FAS_DO</attalias>
<attrtype Sync="TRUE">Integer</attrtype>
<attwidth Sync="TRUE">4</attwidth>
<atprecis Sync="TRUE">0</atprecis>
<attscale Sync="TRUE">0</attscale>
</attr>
<attr>
<attrlabl>FAS_DO_DESCRIP</attrlabl>
<attalias Sync="TRUE">FAS_DO_DESCRIP</attalias>
<attrtype Sync="TRUE">String</attrtype>
<attwidth Sync="TRUE">16</attwidth>
<atprecis Sync="TRUE">0</atprecis>
<attscale Sync="TRUE">0</attscale>
</attr>
<attr>
<attrlabl>FAS_HLDBK</attrlabl>
<attalias Sync="TRUE">FAS_HLDBK</attalias>
<attrtype Sync="TRUE">Integer</attrtype>
<attwidth Sync="TRUE">4</attwidth>
<atprecis Sync="TRUE">0</atprecis>
<attscale Sync="TRUE">0</attscale>
</attr>
<attr>
<attrlabl>FAS_HLDBK_DESCRI</attrlabl>
<attalias Sync="TRUE">FAS_HLDBK_DESCRI</attalias>
<attrtype Sync="TRUE">String</attrtype>
<attwidth Sync="TRUE">16</attwidth>
<atprecis Sync="TRUE">0</atprecis>
<attscale Sync="TRUE">0</attscale>
</attr>
</detailed>
<overview>
<eaover>Entity type: Entity type label: IAS Thickness *Entity type type: Table *Entity type count: 1227 Attribute: *Attribute label: ObjectID *Attribute alias: ObjectID *Attribute definition: Internal feature number.
*Attribute definition source: ESRI
*Attribute type: OID *Attribute width: 4 *Attribute precision: 0 *Attribute scale: 0 Attribute domain values: *Unrepresentable domain: Sequential unique whole numbers that are automatically generated. Attribute: *Attribute label: Value *Attribute alias: Value Attribute definition: Thickness (in feet) of the ICU based on the difference between the top of the ICU and the top of the Floridan Aquifer System
*Attribute type: Integer *Attribute width: 0 *Attribute precision: 0 *Attribute scale: 0 Attribute: *Attribute label: Count *Attribute alias: Count *Attribute type: Double *Attribute width: 0 *Attribute precision: 0 *Attribute scale: 0 Attribute: *Attribute label: Fas_no3 *Attribute alias: Fas_no3 Attribute definition: Value assigned to grid cell after weights are calculated and the grid is generalized
*Attribute type: Integer *Attribute width: 0 *Attribute precision: 0 *Attribute scale: 0 Attribute: *Attribute label: Fas_no3_descrip *Attribute alias: Fas_no3_descrip Attribute definition: Description of generalized grid cell value
*Attribute type: String *Attribute width: 16 *Attribute precision: 0 *Attribute scale: 0 Attribute: *Attribute label: Fas_do *Attribute alias: Fas_do Attribute definition: Value assigned to grid cell after weights are calculated and the grid is generalized
*Attribute type: Integer *Attribute width: 0 *Attribute precision: 0 *Attribute scale: 0 Attribute: *Attribute label: Fas_do_descrip *Attribute alias: Fas_do_descrip Attribute definition: Description of generalized grid cell value
*Attribute type: String *Attribute width: 16 *Attribute precision: 0 *Attribute scale: 0 Attribute: *Attribute label: Fas_hldbk *Attribute alias: Fas_hldbk Attribute definition: Value assigned to grid cell after weights are calculated and the grid is generalized
*Attribute type: Integer *Attribute width: 0 *Attribute precision: 0 *Attribute scale: 0 Attribute: *Attribute label: Fas_hldbk_descri *Attribute alias: Fas_hldbk_descri *Attribute type: String *Attribute width: 16 *Attribute precision: 0 *Attribute scale: 0</eaover>
</overview>
</eainfo>
<distinfo>
<resdesc>Live Data and Maps</resdesc>
</distinfo>
<metainfo>
<metd Sync="TRUE">20130130</metd>
<metc>
<cntinfo>
<cntorgp>
<cntorg>Florida Department of Environmental Protection (FDEP) BIS/GIS Section</cntorg>
</cntorgp>
<cntaddr>
<addrtype>mailing and physical address</addrtype>
<address>2600 Blair Stone Rd</address>
<address>Twin Towers MS 6520</address>
<city>Tallahassee</city>
<state>FL</state>
<postal>32399-2400</postal>
<country>USA</country>
</cntaddr>
<cntemail>GIS.Librarian@dep.state.fl.us</cntemail>
</cntinfo>
</metc>
<metstdn Sync="TRUE">FGDC Content Standards for Digital Geospatial Metadata</metstdn>
<metstdv Sync="TRUE">FGDC-STD-001-1998</metstdv>
<mettc Sync="TRUE">local time</mettc>
<langmeta Sync="TRUE">en</langmeta>
</metainfo>
<Esri>
<MetaID>{2D888328-D1FD-4355-9ABE-F237D740FC1C}</MetaID>
<CreaDate>20101215</CreaDate>
<CreaTime>12033600</CreaTime>
<SyncOnce>FALSE</SyncOnce>
<SyncDate>20161122</SyncDate>
<SyncTime>10174600</SyncTime>
<ModDate>20161122</ModDate>
<ModTime>10174600</ModTime>
<ArcGISProfile>FGDC</ArcGISProfile>
<DataProperties>
<itemProps>
<itemName Sync="TRUE">IAS_THK</itemName>
<imsContentType Sync="TRUE">002</imsContentType>
<nativeExtBox>
<westBL Sync="TRUE">52668.027344</westBL>
<eastBL Sync="TRUE">793968.027344</eastBL>
<southBL Sync="TRUE">127156.671875</southBL>
<northBL Sync="TRUE">781606.671875</northBL>
<exTypeCode Sync="TRUE">1</exTypeCode>
</nativeExtBox>
</itemProps>
<coordRef>
<type Sync="TRUE">Projected</type>
<geogcsn Sync="TRUE">GCS_North_American_1983_HARN</geogcsn>
<csUnits Sync="TRUE">Linear Unit: Meter (1.000000)</csUnits>
<projcsn Sync="TRUE">NAD_1983_HARN_Albers</projcsn>
<peXml Sync="TRUE">&lt;ProjectedCoordinateSystem xsi:type='typens:ProjectedCoordinateSystem' xmlns:xsi='http://www.w3.org/2001/XMLSchema-instance' xmlns:xs='http://www.w3.org/2001/XMLSchema' xmlns:typens='http://www.esri.com/schemas/ArcGIS/10.3'&gt;&lt;WKT&gt;PROJCS[&amp;quot;NAD_1983_HARN_Albers&amp;quot;,GEOGCS[&amp;quot;GCS_North_American_1983_HARN&amp;quot;,DATUM[&amp;quot;D_North_American_1983_HARN&amp;quot;,SPHEROID[&amp;quot;GRS_1980&amp;quot;,6378137.0,298.257222101]],PRIMEM[&amp;quot;Greenwich&amp;quot;,0.0],UNIT[&amp;quot;Degree&amp;quot;,0.0174532925199433]],PROJECTION[&amp;quot;Albers&amp;quot;],PARAMETER[&amp;quot;False_Easting&amp;quot;,400000.0],PARAMETER[&amp;quot;False_Northing&amp;quot;,0.0],PARAMETER[&amp;quot;Central_Meridian&amp;quot;,-84.0],PARAMETER[&amp;quot;Standard_Parallel_1&amp;quot;,24.0],PARAMETER[&amp;quot;Standard_Parallel_2&amp;quot;,31.5],PARAMETER[&amp;quot;Latitude_Of_Origin&amp;quot;,24.0],UNIT[&amp;quot;Meter&amp;quot;,1.0]]&lt;/WKT&gt;&lt;XOrigin&gt;-19550100&lt;/XOrigin&gt;&lt;YOrigin&gt;-7526400&lt;/YOrigin&gt;&lt;XYScale&gt;225743210.67916927&lt;/XYScale&gt;&lt;ZOrigin&gt;0&lt;/ZOrigin&gt;&lt;ZScale&gt;1&lt;/ZScale&gt;&lt;MOrigin&gt;0&lt;/MOrigin&gt;&lt;MScale&gt;1&lt;/MScale&gt;&lt;XYTolerance&gt;0.001&lt;/XYTolerance&gt;&lt;ZTolerance&gt;2&lt;/ZTolerance&gt;&lt;MTolerance&gt;2&lt;/MTolerance&gt;&lt;HighPrecision&gt;true&lt;/HighPrecision&gt;&lt;/ProjectedCoordinateSystem&gt;</peXml>
</coordRef>
</DataProperties>
<ArcGISFormat>1.0</ArcGISFormat>
<scaleRange>
<minScale>150000000</minScale>
<maxScale>5000</maxScale>
</scaleRange>
</Esri>
<dataIdInfo>
<envirDesc Sync="TRUE"> Version 6.2 (Build 9200) ; Esri ArcGIS 10.3.1.4959</envirDesc>
<dataLang>
<languageCode Sync="TRUE" value="eng">
</languageCode>
<countryCode Sync="TRUE" value="USA">
</countryCode>
</dataLang>
<idCitation>
<resTitle Sync="FALSE">Intermediate Aquifer System Thickness</resTitle>
<presForm>
<PresFormCd Sync="TRUE" value="011">
</PresFormCd>
</presForm>
</idCitation>
<spatRpType>
<SpatRepTypCd Sync="TRUE" value="002">
</SpatRepTypCd>
</spatRpType>
<dataExt>
<geoEle>
<GeoBndBox esriExtentType="native">
<westBL Sync="TRUE">52668.027344</westBL>
<eastBL Sync="TRUE">793968.027344</eastBL>
<northBL Sync="TRUE">781606.671875</northBL>
<southBL Sync="TRUE">127156.671875</southBL>
<exTypeCode Sync="TRUE">1</exTypeCode>
</GeoBndBox>
</geoEle>
<tempEle>
<TempExtent>
<exTemp>
<TM_Instant>
<tmPosition>2004-01-01T00:00:00</tmPosition>
</TM_Instant>
</exTemp>
</TempExtent>
</tempEle>
<exDesc>Time period of content</exDesc>
</dataExt>
<geoBox esriExtentType="decdegrees">
<westBL Sync="TRUE">-87.639226</westBL>
<eastBL Sync="TRUE">-79.87248</eastBL>
<northBL Sync="TRUE">31.042857</northBL>
<southBL Sync="TRUE">25.090983</southBL>
<exTypeCode Sync="TRUE">1</exTypeCode>
</geoBox>
<idPurp>To provide a statewide raster dataset of IAS thickness</idPurp>
<idAbs>&lt;div style='text-align:Left;'&gt;&lt;div&gt;&lt;div&gt;&lt;p&gt;&lt;span&gt;The Intermediate Aquifer System (IAS) consists of highly-variable, fine-grained, siliciclastic deposits and low permeability limestone and dolostone. It refers to a statewide hydrostratigraphic unit which provides variable confinement to the Floridan Aquifer system. The IAS grid was created by using Florida Geological Survey well core and cuttings data. The surface was interpolated by using the kriging method from the ArcGIS Geostatistical Analyst package.&lt;/span&gt;&lt;/p&gt;&lt;/div&gt;&lt;/div&gt;&lt;/div&gt;</idAbs>
<idCredit>Florida Geological Survey</idCredit>
<searchKeys>
<keyword>Intermediate Aquifer System</keyword>
<keyword>IAS</keyword>
<keyword>ICU</keyword>
<keyword>Intermediate Confining Unit</keyword>
<keyword>Environmental Monitoring and Modeling</keyword>
<keyword>Geology and Geophysics</keyword>
</searchKeys>
<resConst>
<Consts>
<useLimit>&lt;div style='text-align:Left;'&gt;&lt;div&gt;&lt;div&gt;&lt;p&gt;&lt;span&gt;This geologic data was developed by the Florida Department of Environmental Protection (FDEP) - Florida Geological Survey (FGS) to carry out agency responsibilities related to management, protection, and development of Florida's natural resources. Although efforts have been made to make the information accurate and useful, the FDEP/FGS assumes no responsibility for errors in the information and does not guarantee that the data are free from errors or inaccuracies. Similarly FDEP/FGS assumes no responsibility for the consequences of inappropriate uses or interpretations of the data. As such, these digital data are distributed on "as is" basis and the user assumes all risk as to their quality, the results obtained from their use, and the performance of the data. FDEP/FGS bears no responsibility to inform users of any changes made to this data. Anyone using this data is advised that precision implied by the data may far exceed actual precision. Comments on this data are invited and FDEP/FGS would appreciate that documented errors be brought to staff attention. The development of these data sets represents a major investment of staff time and effort. As a professional responsibility, we expect that the FDEP/FGS will receive proper credit when you utilize these data sets. Further, since part of this data was developed and collected with U.S. Government or State of Florida funding, no proprietary rights may be attached to it in whole or in part, nor may it be sold to the U.S. Government or the Florida State Government as part of any procurement of products or services.&lt;/span&gt;&lt;/p&gt;&lt;/div&gt;&lt;/div&gt;&lt;/div&gt;</useLimit>
</Consts>
</resConst>
<dataExt>
<geoEle>
<GeoBndBox esriExtentType="search">
<exTypeCode Sync="TRUE">1</exTypeCode>
<westBL Sync="TRUE">-87.639226</westBL>
<eastBL Sync="TRUE">-79.872480</eastBL>
<northBL Sync="TRUE">31.042857</northBL>
<southBL Sync="TRUE">25.090983</southBL>
</GeoBndBox>
</geoEle>
</dataExt>
<dataChar>
<CharSetCd value="004">
</CharSetCd>
</dataChar>
<idStatus>
<ProgCd value="001">
</ProgCd>
</idStatus>
<resMaint>
<maintFreq>
<MaintFreqCd value="011">
</MaintFreqCd>
</maintFreq>
</resMaint>
</dataIdInfo>
<mdLang>
<languageCode Sync="TRUE" value="eng">
</languageCode>
<countryCode Sync="TRUE" value="USA">
</countryCode>
</mdLang>
<mdStanName>ArcGIS Metadata</mdStanName>
<mdStanVer>1.0</mdStanVer>
<mdChar>
<CharSetCd Sync="TRUE" value="004">
</CharSetCd>
</mdChar>
<mdHrLv>
<ScopeCd Sync="TRUE" value="005">
</ScopeCd>
</mdHrLv>
<mdHrLvName Sync="TRUE">dataset</mdHrLvName>
<distInfo>
<distFormat>
<formatName Sync="TRUE">File Geodatabase Raster Dataset</formatName>
<formatVer>10.2</formatVer>
</distFormat>
</distInfo>
<refSysInfo>
<RefSystem>
<refSysID>
<identCode Sync="TRUE" code="0" value="0">NAD_1983_HARN_Albers</identCode>
</refSysID>
</RefSystem>
</refSysInfo>
<mdDateSt Sync="TRUE">20161122</mdDateSt>
<mdContact>
<editorSource>external</editorSource>
<editorDigest>3092624a8eaa4290135d4a66d17cd905</editorDigest>
<rpOrgName>Florida Department of Environmental Protection (FDEP) OTIS/GIS Section</rpOrgName>
<rpCntInfo>
<cntAddress addressType="both">
<delPoint>2600 Blair Stone Rd MS 6520</delPoint>
<city>Tallahassee</city>
<adminArea>FL</adminArea>
<postCode>3239--2400</postCode>
<eMailAdd>GIS.Librarian@dep.state.fl.us</eMailAdd>
<country>US</country>
</cntAddress>
</rpCntInfo>
<editorSave>True</editorSave>
<displayName>Florida Department of Environmental Protection (FDEP) OTIS/GIS Section</displayName>
<role>
<RoleCd value="010">
</RoleCd>
</role>
</mdContact>
</metadata>
