{ "currentVersion": 10.71, "serviceDescription": "

The Intermediate Aquifer System (IAS) consists of highly-variable, fine-grained, siliciclastic deposits and low permeability limestone and dolostone. It refers to a statewide hydrostratigraphic unit which provides variable confinement to the Floridan Aquifer system. The IAS grid was created by using Florida Geological Survey well core and cuttings data. The surface was interpolated by using the kriging method from the ArcGIS Geostatistical Analyst package.<\/span><\/p><\/div><\/div><\/div>", "name": "OpenData/IAS_THK", "description": "

The Intermediate Aquifer System (IAS) consists of highly-variable, fine-grained, siliciclastic deposits and low permeability limestone and dolostone. It refers to a statewide hydrostratigraphic unit which provides variable confinement to the Floridan Aquifer system. The IAS grid was created by using Florida Geological Survey well core and cuttings data. The surface was interpolated by using the kriging method from the ArcGIS Geostatistical Analyst package.<\/span><\/p><\/div><\/div><\/div>", "extent": { "xmin": 52668.02734399831, "ymin": 127156.671875002, "xmax": 793968.027343998, "ymax": 781606.6718750021, "spatialReference": { "wkid": 102967, "latestWkid": 6439 } }, "initialExtent": { "xmin": 52668.02734399831, "ymin": 127156.671875002, "xmax": 793968.027343998, "ymax": 781606.6718750021, "spatialReference": { "wkid": 102967, "latestWkid": 6439 } }, "fullExtent": { "xmin": 52668.02734399831, "ymin": 127156.671875002, "xmax": 793968.027343998, "ymax": 781606.6718750021, "spatialReference": { "wkid": 102967, "latestWkid": 6439 } }, "pixelSizeX": 29.999999999999986, "pixelSizeY": 30.000000000000007, "bandCount": 1, "pixelType": "S16", "minPixelSize": 0, "maxPixelSize": 0, "copyrightText": "Florida Geological Survey", "serviceDataType": "esriImageServiceDataTypeGeneric", "minValues": [ 0 ], "maxValues": [ 1226 ], "meanValues": [ 282.8719798169788 ], "stdvValues": [ 297.7622736407461 ], "objectIdField": "", "fields": [], "capabilities": "Mensuration,Image,Metadata", "defaultMosaicMethod": "Center", "allowedMosaicMethods": "", "sortField": "", "sortValue": null, "mosaicOperator": "First", "defaultCompressionQuality": 75, "defaultResamplingMethod": "Bilinear", "maxImageHeight": 4100, "maxImageWidth": 15000, "allowRasterFunction": true, "rasterFunctionInfos": [ { "name": "IAS_THK_6439", "description": "A raster function template.", "help": "" }, { "name": "None", "description": "", "help": "" } ], "rasterTypeInfos": [ { "name": "Raster Dataset", "description": "Supports all ArcGIS Raster Datasets", "help": "" } ], "mensurationCapabilities": "Basic", "hasHistograms": true, "hasColormap": false, "hasRasterAttributeTable": true, "minScale": 0, "maxScale": 0, "exportTilesAllowed": false, "hasMultidimensions": false, "supportsStatistics": false, "supportsAdvancedQueries": false, "editFieldsInfo": null, "ownershipBasedAccessControlForRasters": null, "allowComputeTiePoints": false, "useStandardizedQueries": true, "advancedQueryCapabilities": { "useStandardizedQueries": true, "supportsStatistics": false, "supportsOrderBy": false, "supportsDistinct": false, "supportsPagination": false }, "spatialReference": { "wkid": 102967, "latestWkid": 6439 } }