<?xml version="1.0" encoding="UTF-8" standalone="no"?>
<metadata>
<idinfo>
<citation>
<citeinfo>
<origin>Florida Geological Survey</origin>
<pubdate>Unknown</pubdate>
<title>Estimated Top of Intermediate Aquifer System</title>
<geoform Sync="TRUE">SDE raster digital data</geoform>
<serinfo>
<sername>Florida Aquifer Vulnerability Assessment: Contaminaion potential of Florida's principal aquifer systems</sername>
<issue>FGS Bulletin 67</issue>
</serinfo>
<onlink Sync="FALSE">withheld</onlink>
<ftname Sync="TRUE">BASE.IAS_TOP</ftname>
</citeinfo>
</citation>
<descript>
<abstract>The top of IAS grid was created by using Florida Geological Survey well core and cuttings data. The surface was interpolated by using the kriging method from the ArcGIS Geostatistical Analyst package.</abstract>
<purpose>To create a statewide grid of the top of the Intermediate Aquifer System to aid in the creation of the IAS thickness evidential theme.</purpose>
<langdata Sync="TRUE">en</langdata>
</descript>
<timeperd>
<timeinfo>
<sngdate>
<caldate>unknown</caldate>
</sngdate>
</timeinfo>
<current>publication date</current>
</timeperd>
<status>
<progress>Complete</progress>
<update>As needed</update>
</status>
<spdom>
<bounding>
<westbc Sync="TRUE">-87.649875</westbc>
<eastbc Sync="TRUE">-79.799732</eastbc>
<northbc Sync="TRUE">31.219264</northbc>
<southbc Sync="TRUE">24.376200</southbc>
</bounding>
<lboundng>
<leftbc Sync="TRUE">52230.383565</leftbc>
<rightbc Sync="TRUE">800250.383565</rightbc>
<bottombc Sync="TRUE">48083.285077</bottombc>
<topbc Sync="TRUE">801173.285077</topbc>
</lboundng>
</spdom>
<keywords>
<place>
<placekey>Florida</placekey>
<placekey>Intermediate Aquifer System</placekey>
</place>
<theme>
<themekey>Geoscientific Information</themekey>
<themekey>Environmental Monitoring and Modeling</themekey>
<themekey>Geology and Geophysics</themekey>
</theme>
</keywords>
<accconst>none</accconst>
<useconst>DISCLAIMER:
This geologic data was developed by the Florida Department of Environmental Protection (FDEP) - Florida Geological Survey (FGS) to carry out agency responsibilities related to management, protection, and development of Florida's natural resources. Although efforts have been made to make the information accurate and useful, the FDEP/FGS assumes no responsibility for errors in the information and does not guarantee that the data are free from errors or inaccuracies. Similarly FDEP/FGS assumes no responsibility for the consequences of inappropriate uses or interpretations of the data. As such, these digital data are distributed on "as is" basis and the user assumes all risk as to their quality, the results obtained from their use, and the performance of the data. FDEP/FGS bears no responsibility to inform users of any subsequent changes made to this data. Anyone using this data is advised that precision implied by the data may far exceed actual precision. Comments on this data are invited and FDEP/FGS would appreciate that documented errors be brought to staff attention. The development of these data sets represents a major investment of staff time and effort. As a professional responsibility, we expect that the FDEP/FGS will receive proper credit when you utilize these data sets. Further, since part of this data was developed and collected with U.S. Government or State of Florida funding, no proprietary rights may be attached to it in whole or in part, nor may it be sold to the U.S. Government or the Florida State Government as part of any procurement of products or services.</useconst>
<ptcontac>
<cntinfo>
<cntorgp>
<cntorg>Florida Geological Survey</cntorg>
</cntorgp>
<cntaddr>
<addrtype>mailing and physical address</addrtype>
<address>Gunter Building MS #720</address>
<address>903 W. Tennessee St.</address>
<city>Tallahassee</city>
<state>FL</state>
<postal>323034-7700</postal>
<country>USA</country>
</cntaddr>
<cntvoice>850-488-4191</cntvoice>
<cntfax>850-488-8086</cntfax>
</cntinfo>
</ptcontac>
<datacred>Florida Geological Survey</datacred>
<native Sync="FALSE">ESRI ArcCatalog 9.3.1.4000</native>
<natvform Sync="FALSE">Raster Dataset</natvform>
</idinfo>
<dataqual>
<lineage>
<procstep>
<procdesc>The top of IAS grid was created by using Florida Geological Survey well core and cuttings data. This data was used to create a stratigraphic surface of the top of IAS. The surface was interpolated by using the kriging method from the ArcGIS Geostatistical Analyst package. The surface was then resolved to the DEM (areas exceeding land surface were "trimmed").</procdesc>
<procdate>Unknown</procdate>
<proccont>
<cntinfo>
<cntorgp>
<cntorg>Florida Geological Survey</cntorg>
</cntorgp>
<cntaddr>
<addrtype>mailing and physical address</addrtype>
<address>Gunter Building MS #720</address>
<address>903 W. Tennessee St.</address>
<city>Tallahassee</city>
<state>FL</state>
<postal>32304-7700</postal>
<country>USA</country>
</cntaddr>
<cntvoice>850-488-4191</cntvoice>
<cntfax>850-488-8086</cntfax>
</cntinfo>
</proccont>
</procstep>
<procstep>
<procdesc>Raster data inserted in ArcSDE 9.3 and published in DataMiner.</procdesc>
<procdate>20081215</procdate>
</procstep>
</lineage>
</dataqual>
<spdoinfo>
<direct Sync="TRUE">Raster</direct>
<rastinfo>
<rasttype Sync="TRUE">Pixel</rasttype>
<rowcount Sync="TRUE">1931</rowcount>
<colcount Sync="TRUE">1918</colcount>
<vrtcount Sync="TRUE">1</vrtcount>
<rastxsz Sync="TRUE">390.000000</rastxsz>
<rastysz Sync="TRUE">390.000000</rastysz>
<rastbpp Sync="TRUE">16</rastbpp>
<rastorig Sync="TRUE">Upper Left</rastorig>
<rastcmap Sync="TRUE">FALSE</rastcmap>
<rastcomp Sync="TRUE">LZ77</rastcomp>
<rastband Sync="TRUE">1</rastband>
<rastdtyp Sync="TRUE">pixel codes</rastdtyp>
<rastifor Sync="TRUE">FGDBR</rastifor>
<rastplyr Sync="TRUE">TRUE</rastplyr>
</rastinfo>
</spdoinfo>
<spref>
<horizsys>
<planar>
<planci>
<plance Sync="TRUE">row and column</plance>
<coordrep>
<absres Sync="TRUE">390.000000</absres>
<ordres Sync="TRUE">390.000000</ordres>
</coordrep>
<plandu Sync="TRUE">meters</plandu>
</planci>
</planar>
<geodetic>
<horizdn Sync="TRUE">D_North_American_1983_HARN</horizdn>
<ellips Sync="TRUE">Geodetic Reference System 80</ellips>
<semiaxis Sync="TRUE">6378137.000000</semiaxis>
<denflat Sync="TRUE">298.257222</denflat>
</geodetic>
<cordsysn>
<geogcsn Sync="TRUE">GCS_North_American_1983_HARN</geogcsn>
<projcsn Sync="TRUE">NAD_1983_HARN_Albers</projcsn>
</cordsysn>
</horizsys>
<vertdef>
<altsys>
<altres>1.000000</altres>
<altenc>Explicit elevation coordinate included with horizontal coordinates</altenc>
</altsys>
</vertdef>
</spref>
<eainfo>
<detailed Name="VAT_IAS_TOP">
<enttyp>
<enttypl Sync="TRUE">VAT_IAS_TOP</enttypl>
<enttypt Sync="TRUE">Table</enttypt>
<enttypc Sync="TRUE">627</enttypc>
</enttyp>
<attr>
<attrlabl>OBJECTID</attrlabl>
<attrdef>Internal feature number.</attrdef>
<attrdefs>ESRI</attrdefs>
<attrdomv>
<udom>Sequential unique whole numbers that are automatically generated.</udom>
</attrdomv>
<attalias Sync="TRUE">OBJECTID</attalias>
<attrtype Sync="TRUE">OID</attrtype>
<attwidth Sync="TRUE">4</attwidth>
<atprecis Sync="TRUE">0</atprecis>
<attscale Sync="TRUE">0</attscale>
</attr>
<attr>
<attrlabl>VALUE</attrlabl>
<attalias Sync="TRUE">VALUE</attalias>
<attrtype Sync="TRUE">Integer</attrtype>
<attwidth Sync="TRUE">4</attwidth>
<atprecis Sync="TRUE">0</atprecis>
<attscale Sync="TRUE">0</attscale>
</attr>
<attr>
<attrlabl>COUNT</attrlabl>
<attalias Sync="TRUE">COUNT</attalias>
<attrtype Sync="TRUE">Integer</attrtype>
<attwidth Sync="TRUE">4</attwidth>
<atprecis Sync="TRUE">0</atprecis>
<attscale Sync="TRUE">0</attscale>
</attr>
</detailed>
<overview>
<eaover>Attribute: *Attribute label: ObjectID *Attribute alias: ObjectID *Attribute definition: Internal feature number.
*Attribute definition source: ESRI
*Attribute type: OID *Attribute width: 4 *Attribute precision: 0 *Attribute scale: 0 Attribute domain values: *Unrepresentable domain: Sequential unique whole numbers that are automatically generated. Attribute: *Attribute label: Value *Attribute alias: Value Attribute definition: Elevation of the top of the Intermediate Aquifer System (feet, msl)
*Attribute type: Integer *Attribute width: 0 *Attribute precision: 0 *Attribute scale: 0 Attribute: *Attribute label: Count *Attribute alias: Count *Attribute type: Double *Attribute width: 0 *Attribute precision: 0 *Attribute scale: 0</eaover>
</overview>
</eainfo>
<distinfo>
<resdesc>Live Data and Maps</resdesc>
</distinfo>
<metainfo>
<metd Sync="TRUE">20130130</metd>
<metc>
<cntinfo>
<cntorgp>
<cntorg>Florida Department of Environmental Protection (FDEP) BIS/GIS Section</cntorg>
</cntorgp>
<cntaddr>
<addrtype>mailing and physical address</addrtype>
<address>2600 Blair Stone Rd</address>
<address>Twin Towers MS 6520</address>
<city>Tallahassee</city>
<state>FL</state>
<postal>32399-2400</postal>
<country>USA</country>
</cntaddr>
<cntemail>GIS.Librarian@dep.state.fl.us</cntemail>
</cntinfo>
</metc>
<metstdn Sync="TRUE">FGDC Content Standards for Digital Geospatial Metadata</metstdn>
<metstdv Sync="TRUE">FGDC-STD-001-1998</metstdv>
<mettc Sync="TRUE">local time</mettc>
<langmeta Sync="TRUE">en</langmeta>
</metainfo>
<Esri>
<MetaID>{3D446BC1-FB2C-4A0D-A1D8-667DA19E39DD}</MetaID>
<CreaDate>20101215</CreaDate>
<CreaTime>12051800</CreaTime>
<SyncOnce>FALSE</SyncOnce>
<SyncDate>20161122</SyncDate>
<SyncTime>10183400</SyncTime>
<ModDate>20161122</ModDate>
<ModTime>10183400</ModTime>
<ArcGISProfile>FGDC</ArcGISProfile>
<DataProperties>
<itemProps>
<itemName Sync="TRUE">IAS_TOP</itemName>
<nativeExtBox>
<westBL Sync="TRUE">52230.383565</westBL>
<eastBL Sync="TRUE">800250.383565</eastBL>
<southBL Sync="TRUE">48083.285077</southBL>
<northBL Sync="TRUE">801173.285077</northBL>
<exTypeCode Sync="TRUE">1</exTypeCode>
</nativeExtBox>
<imsContentType>001</imsContentType>
</itemProps>
<coordRef>
<type Sync="TRUE">Projected</type>
<geogcsn Sync="TRUE">GCS_North_American_1983_HARN</geogcsn>
<csUnits Sync="TRUE">Linear Unit: Meter (1.000000)</csUnits>
<projcsn Sync="TRUE">NAD_1983_HARN_Albers</projcsn>
<peXml Sync="TRUE">&lt;ProjectedCoordinateSystem xsi:type='typens:ProjectedCoordinateSystem' xmlns:xsi='http://www.w3.org/2001/XMLSchema-instance' xmlns:xs='http://www.w3.org/2001/XMLSchema' xmlns:typens='http://www.esri.com/schemas/ArcGIS/10.3'&gt;&lt;WKT&gt;PROJCS[&amp;quot;NAD_1983_HARN_Albers&amp;quot;,GEOGCS[&amp;quot;GCS_North_American_1983_HARN&amp;quot;,DATUM[&amp;quot;D_North_American_1983_HARN&amp;quot;,SPHEROID[&amp;quot;GRS_1980&amp;quot;,6378137.0,298.257222101]],PRIMEM[&amp;quot;Greenwich&amp;quot;,0.0],UNIT[&amp;quot;Degree&amp;quot;,0.0174532925199433]],PROJECTION[&amp;quot;Albers&amp;quot;],PARAMETER[&amp;quot;False_Easting&amp;quot;,400000.0],PARAMETER[&amp;quot;False_Northing&amp;quot;,0.0],PARAMETER[&amp;quot;Central_Meridian&amp;quot;,-84.0],PARAMETER[&amp;quot;Standard_Parallel_1&amp;quot;,24.0],PARAMETER[&amp;quot;Standard_Parallel_2&amp;quot;,31.5],PARAMETER[&amp;quot;Latitude_Of_Origin&amp;quot;,24.0],UNIT[&amp;quot;Meter&amp;quot;,1.0]]&lt;/WKT&gt;&lt;XOrigin&gt;-19550100&lt;/XOrigin&gt;&lt;YOrigin&gt;-7526400&lt;/YOrigin&gt;&lt;XYScale&gt;225743210.67916927&lt;/XYScale&gt;&lt;ZOrigin&gt;0&lt;/ZOrigin&gt;&lt;ZScale&gt;1&lt;/ZScale&gt;&lt;MOrigin&gt;0&lt;/MOrigin&gt;&lt;MScale&gt;1&lt;/MScale&gt;&lt;XYTolerance&gt;0.001&lt;/XYTolerance&gt;&lt;ZTolerance&gt;2&lt;/ZTolerance&gt;&lt;MTolerance&gt;2&lt;/MTolerance&gt;&lt;HighPrecision&gt;true&lt;/HighPrecision&gt;&lt;/ProjectedCoordinateSystem&gt;</peXml>
</coordRef>
</DataProperties>
<ArcGISFormat>1.0</ArcGISFormat>
<scaleRange>
<minScale>150000000</minScale>
<maxScale>5000</maxScale>
</scaleRange>
</Esri>
<mdLang>
<languageCode value="eng">
</languageCode>
<countryCode Sync="TRUE" value="USA">
</countryCode>
</mdLang>
<mdChar>
<CharSetCd value="004">
</CharSetCd>
</mdChar>
<mdHrLv>
<ScopeCd value="005">
</ScopeCd>
</mdHrLv>
<mdContact>
<rpOrgName>Florida Department of Environmental Protection (FDEP) BIS/GIS Section</rpOrgName>
<rpCntInfo>
<cntAddress addressType="both">
<delPoint>Twin Towers MS 6520</delPoint>
<delPoint>2600 Blair Stone Rd</delPoint>
<city>Tallahassee</city>
<adminArea>FL</adminArea>
<postCode>32399-2400</postCode>
<country>US</country>
<eMailAdd>GIS.Librarian@dep.state.fl.us</eMailAdd>
</cntAddress>
</rpCntInfo>
<role>
<RoleCd value="010">
</RoleCd>
</role>
</mdContact>
<mdStanName>ArcGIS Metadata</mdStanName>
<mdStanVer>1.0</mdStanVer>
<distInfo>
<distFormat>
<formatName Sync="TRUE">File Geodatabase Raster Dataset</formatName>
<formatVer>10.2</formatVer>
</distFormat>
</distInfo>
<dataIdInfo>
<idCitation>
<resTitle>Estimated Top of Intermediate Aquifer System</resTitle>
<date>
<pubDate date="unknown">
</pubDate>
</date>
<citRespParty>
<rpOrgName>Florida Geological Survey</rpOrgName>
<role>
<RoleCd value="006">
</RoleCd>
</role>
</citRespParty>
<datasetSeries>
<seriesName>Florida Aquifer Vulnerability Assessment: Contaminaion potential of Florida's principal aquifer systems</seriesName>
<issId>FGS Bulletin 67</issId>
</datasetSeries>
<presForm>
<PresFormCd Sync="TRUE" value="011">
</PresFormCd>
</presForm>
</idCitation>
<idAbs>&lt;div style='text-align:Left;'&gt;&lt;div&gt;&lt;div&gt;&lt;p&gt;&lt;span&gt;The top of IAS grid was created by using Florida Geological Survey well core and cuttings data. The surface was interpolated by using the kriging method from the ArcGIS Geostatistical Analyst package.&lt;/span&gt;&lt;/p&gt;&lt;/div&gt;&lt;/div&gt;&lt;/div&gt;</idAbs>
<idPurp>To create a statewide grid of the top of the Intermediate Aquifer System to aid in the creation of the IAS thickness evidential theme.</idPurp>
<idCredit>Florida Geological Survey</idCredit>
<idStatus>
<ProgCd value="001">
</ProgCd>
</idStatus>
<idPoC>
<rpOrgName>Florida Geological Survey</rpOrgName>
<rpCntInfo>
<cntPhone>
<voiceNum tddtty="">850-488-4191</voiceNum>
<faxNum>850-488-8086</faxNum>
</cntPhone>
<cntAddress addressType="both">
<delPoint>Gunter Building MS #720</delPoint>
<delPoint>903 W. Tennessee St.</delPoint>
<city>Tallahassee</city>
<adminArea>FL</adminArea>
<postCode>323034-7700</postCode>
<country>US</country>
</cntAddress>
</rpCntInfo>
<role>
<RoleCd value="007">
</RoleCd>
</role>
</idPoC>
<resMaint>
<maintFreq>
<MaintFreqCd value="009">
</MaintFreqCd>
</maintFreq>
</resMaint>
<placeKeys>
<keyword>Florida</keyword>
<keyword>Intermediate Aquifer System</keyword>
</placeKeys>
<themeKeys>
<thesaName>
<resTitle>ISO 19115 Topic Category</resTitle>
</thesaName>
<keyword>Geoscientific Information</keyword>
<keyword>Environmental Monitoring and Modeling</keyword>
<keyword>Geology and Geophysics</keyword>
</themeKeys>
<searchKeys>
<keyword>Florida</keyword>
<keyword>Geoscientific Information</keyword>
<keyword>Environmental Monitoring and Modeling</keyword>
<keyword>Intermediate Aquifer System</keyword>
<keyword>Geology and Geophysics</keyword>
</searchKeys>
<resConst>
<Consts>
<useLimit>&lt;div style='text-align:Left;'&gt;&lt;div&gt;&lt;div&gt;&lt;p&gt;&lt;span&gt;This geologic data was developed by the Florida Department of Environmental Protection (FDEP) - Florida Geological Survey (FGS) to carry out agency responsibilities related to management, protection, and development of Florida's natural resources. Although efforts have been made to make the information accurate and useful, the FDEP/FGS assumes no responsibility for errors in the information and does not guarantee that the data are free from errors or inaccuracies. Similarly FDEP/FGS assumes no responsibility for the consequences of inappropriate uses or interpretations of the data. As such, these digital data are distributed on "as is" basis and the user assumes all risk as to their quality, the results obtained from their use, and the performance of the data. FDEP/FGS bears no responsibility to inform users of any subsequent changes made to this data. Anyone using this data is advised that precision implied by the data may far exceed actual precision. Comments on this data are invited and FDEP/FGS would appreciate that documented errors be brought to staff attention. The development of these data sets represents a major investment of staff time and effort. As a professional responsibility, we expect that the FDEP/FGS will receive proper credit when you utilize these data sets. Further, since part of this data was developed and collected with U.S. Government or State of Florida funding, no proprietary rights may be attached to it in whole or in part, nor may it be sold to the U.S. Government or the Florida State Government as part of any procurement of products or services.&lt;/span&gt;&lt;/p&gt;&lt;/div&gt;&lt;/div&gt;&lt;/div&gt;</useLimit>
</Consts>
</resConst>
<dataLang>
<languageCode value="eng">
</languageCode>
<countryCode Sync="TRUE" value="USA">
</countryCode>
</dataLang>
<dataExt>
<exDesc>publication date</exDesc>
<tempEle>
<TempExtent>
<exTemp>
<TM_Instant>
<tmPosition date="unknown">
</tmPosition>
</TM_Instant>
</exTemp>
</TempExtent>
</tempEle>
<tempEle>
<TempExtent>
<exTemp>
<TM_Instant>
<tmPosition>2008-10-01T00:00:00</tmPosition>
</TM_Instant>
</exTemp>
</TempExtent>
</tempEle>
</dataExt>
<envirDesc Sync="TRUE"> Version 6.2 (Build 9200) ; Esri ArcGIS 10.3.1.4959</envirDesc>
<spatRpType>
<SpatRepTypCd Sync="TRUE" value="002">
</SpatRepTypCd>
</spatRpType>
<dataExt>
<geoEle>
<GeoBndBox esriExtentType="search">
<exTypeCode Sync="TRUE">1</exTypeCode>
<westBL Sync="TRUE">-87.649875</westBL>
<eastBL Sync="TRUE">-79.799732</eastBL>
<northBL Sync="TRUE">31.219264</northBL>
<southBL Sync="TRUE">24.376200</southBL>
</GeoBndBox>
</geoEle>
</dataExt>
<tpCat>
<TopicCatCd value="008">
</TopicCatCd>
</tpCat>
<tpCat>
<TopicCatCd value="007">
</TopicCatCd>
</tpCat>
</dataIdInfo>
<dqInfo>
<dqScope>
<scpLvl>
<ScopeCd value="005">
</ScopeCd>
</scpLvl>
</dqScope>
<dataLineage>
<prcStep>
<stepDesc>The top of IAS grid was created by using Florida Geological Survey well core and cuttings data. This data was used to create a stratigraphic surface of the top of IAS. The surface was interpolated by using the kriging method from the ArcGIS Geostatistical Analyst package. The surface was then resolved to the DEM (areas exceeding land surface were "trimmed").</stepDesc>
<stepDateTm date="unknown">
</stepDateTm>
<stepProc>
<rpOrgName>Florida Geological Survey</rpOrgName>
<rpCntInfo>
<cntPhone>
<voiceNum>850-488-4191</voiceNum>
<faxNum>850-488-8086</faxNum>
</cntPhone>
<cntAddress addressType="both">
<delPoint>Gunter Building MS #720</delPoint>
<delPoint>903 W. Tennessee St.</delPoint>
<city>Tallahassee</city>
<adminArea>FL</adminArea>
<postCode>32304-7700</postCode>
<country>US</country>
</cntAddress>
</rpCntInfo>
<role>
<RoleCd value="009">
</RoleCd>
</role>
</stepProc>
</prcStep>
<prcStep>
<stepDesc>Raster data inserted in ArcSDE 9.3 and published in DataMiner.</stepDesc>
<stepDateTm>2008-12-15</stepDateTm>
</prcStep>
</dataLineage>
</dqInfo>
<mdHrLvName Sync="TRUE">dataset</mdHrLvName>
<refSysInfo>
<RefSystem>
<refSysID>
<identCode Sync="TRUE" code="0">
</identCode>
</refSysID>
</RefSystem>
</refSysInfo>
<mdDateSt Sync="TRUE">20161122</mdDateSt>
</metadata>
