{ "currentVersion": 10.71, "serviceDescription": "
The top of IAS grid was created by using Florida Geological Survey well core and cuttings data. The surface was interpolated by using the kriging method from the ArcGIS Geostatistical Analyst package.<\/span><\/p><\/div><\/div><\/div>",
"name": "OpenData/IAS_TOP",
"description": " The top of IAS grid was created by using Florida Geological Survey well core and cuttings data. The surface was interpolated by using the kriging method from the ArcGIS Geostatistical Analyst package.<\/span><\/p><\/div><\/div><\/div>",
"extent": {
"xmin": 52230.3835654185,
"ymin": 48083.2850768305,
"xmax": 800250.383565419,
"ymax": 801173.285076831,
"spatialReference": {
"wkid": 102967,
"latestWkid": 6439
}
},
"initialExtent": {
"xmin": 52230.3835654185,
"ymin": 48083.2850768305,
"xmax": 800250.383565419,
"ymax": 801173.285076831,
"spatialReference": {
"wkid": 102967,
"latestWkid": 6439
}
},
"fullExtent": {
"xmin": 52230.3835654185,
"ymin": 48083.2850768305,
"xmax": 800250.383565419,
"ymax": 801173.285076831,
"spatialReference": {
"wkid": 102967,
"latestWkid": 6439
}
},
"pixelSizeX": 390.0000000000002,
"pixelSizeY": 390.0000000000002,
"bandCount": 1,
"pixelType": "S16",
"minPixelSize": 0,
"maxPixelSize": 0,
"copyrightText": "Florida Geological Survey",
"serviceDataType": "esriImageServiceDataTypeGeneric",
"minValues": [
-371
],
"maxValues": [
255
],
"meanValues": [
-23.79542418889224
],
"stdvValues": [
97.93608826049393
],
"objectIdField": "",
"fields": [],
"capabilities": "Mensuration,Image,Metadata",
"defaultMosaicMethod": "Center",
"allowedMosaicMethods": "",
"sortField": "",
"sortValue": null,
"mosaicOperator": "First",
"defaultCompressionQuality": 75,
"defaultResamplingMethod": "Bilinear",
"maxImageHeight": 4100,
"maxImageWidth": 15000,
"allowRasterFunction": true,
"rasterFunctionInfos": [
{
"name": "IAS_TOP_6439",
"description": "A raster function template.",
"help": ""
},
{
"name": "None",
"description": "",
"help": ""
}
],
"rasterTypeInfos": [
{
"name": "Raster Dataset",
"description": "Supports all ArcGIS Raster Datasets",
"help": ""
}
],
"mensurationCapabilities": "Basic",
"hasHistograms": true,
"hasColormap": false,
"hasRasterAttributeTable": true,
"minScale": 0,
"maxScale": 0,
"exportTilesAllowed": false,
"hasMultidimensions": false,
"supportsStatistics": false,
"supportsAdvancedQueries": false,
"editFieldsInfo": null,
"ownershipBasedAccessControlForRasters": null,
"allowComputeTiePoints": false,
"useStandardizedQueries": true,
"advancedQueryCapabilities": {
"useStandardizedQueries": true,
"supportsStatistics": false,
"supportsOrderBy": false,
"supportsDistinct": false,
"supportsPagination": false
},
"spatialReference": {
"wkid": 102967,
"latestWkid": 6439
}
}