{
 "currentVersion": 11.1,
 "serviceDescription": "The Surficial Aquifer System (SAS) depth to water table surface grid was created by subtracting the water table surface grid from the DEM.",
 "name": "OpenData/SAS_DTW",
 "description": "The Surficial Aquifer System (SAS) depth to water table surface grid was created by subtracting the water table surface grid from the DEM.",
 "extent": {
  "xmin": 52668.02734399831,
  "ymin": 127156.671875002,
  "xmax": 793968.027343998,
  "ymax": 781606.6718750021,
  "spatialReference": {
   "wkid": 102967,
   "latestWkid": 6439
  }
 },
 "initialExtent": {
  "xmin": 52668.02734399831,
  "ymin": 127156.671875002,
  "xmax": 793968.027343998,
  "ymax": 781606.6718750021,
  "spatialReference": {
   "wkid": 102967,
   "latestWkid": 6439
  }
 },
 "fullExtent": {
  "xmin": 52668.02734399831,
  "ymin": 127156.671875002,
  "xmax": 793968.027343998,
  "ymax": 781606.6718750021,
  "spatialReference": {
   "wkid": 102967,
   "latestWkid": 6439
  }
 },
 "sortableFields": "",
 "bandCount": 1,
 "pixelType": "U8",
 "minValues": [
  1
 ],
 "maxValues": [
  220
 ],
 "meanValues": [
  7.417473147511107
 ],
 "stdvValues": [
  11.082584455200616
 ],
 "hasMultidimensions": false,
 "pixelSizeX": 29.999999999999986,
 "pixelSizeY": 30.000000000000007,
 "datasetFormat": "FGDBR",
 "uncompressedSize": 539048650,
 "blockWidth": 128,
 "blockHeight": 128,
 "compressionType": "LZ77",
 "bandNames": [
  "Band_1"
 ],
 "allowCopy": true,
 "allowAnalysis": true,
 "itemAccess": false,
 "minPixelSize": 0,
 "maxPixelSize": 0,
 "copyrightText": "Florida Geological Survey",
 "serviceDataType": "esriImageServiceDataTypeGeneric",
 "serviceSourceType": "esriImageServiceSourceTypeDataset",
 "objectIdField": "",
 "fields": [],
 "capabilities": "Mensuration,Image,Metadata",
 "defaultMosaicMethod": "Center",
 "allowedMosaicMethods": "",
 "sortField": "",
 "sortValue": null,
 "sortAscending": true,
 "mosaicOperator": "First",
 "defaultCompressionQuality": 75,
 "defaultResamplingMethod": "Bilinear",
 "maxImageHeight": 4100,
 "maxImageWidth": 15000,
 "allowRasterFunction": true,
 "rasterFunctionInfos": [
  {
   "name": "SAS_DTW_6439",
   "description": "A raster function template.",
   "help": ""
  },
  {
   "name": "None",
   "description": "",
   "help": ""
  }
 ],
 "rasterTypeInfos": [
  {
   "name": "Raster Dataset",
   "description": "Supports all ArcGIS Raster Datasets",
   "help": ""
  }
 ],
 "mensurationCapabilities": "Basic",
 "hasHistograms": true,
 "hasColormap": false,
 "hasRasterAttributeTable": true,
 "minScale": 0,
 "maxScale": 0,
 "exportTilesAllowed": false,
 "supportsStatistics": false,
 "supportsAdvancedQueries": false,
 "editFieldsInfo": null,
 "ownershipBasedAccessControlForRasters": null,
 "allowComputeTiePoints": false,
 "useStandardizedQueries": true,
 "advancedQueryCapabilities": {
  "useStandardizedQueries": true,
  "supportsStatistics": false,
  "supportsOrderBy": false,
  "supportsDistinct": false,
  "supportsPagination": false
 },
 "spatialReference": {
  "wkid": 102967,
  "latestWkid": 6439
 }
}
