{
 "currentVersion": 11.1,
 "serviceDescription": "<div style='text-align:Left;'><div><div><p><span>The SNG Response theme grid is the relative vulnerability map for the Surficial Aquifer System. It was calculated using the ArcSDM extension and applying the weights of evidence method. A relative vulnerability class field is also in the table so that the grid can be symbolized into 4 vulnerability classes. These classes were developed based on weights of evidence vs. cumulative area breaks.<\/span><\/p><\/div><\/div><\/div>",
 "name": "OpenData/SNG_RESPONSE",
 "description": "<div style='text-align:Left;'><div><div><p><span>The SNG Response theme grid is the relative vulnerability map for the Surficial Aquifer System. It was calculated using the ArcSDM extension and applying the weights of evidence method. A relative vulnerability class field is also in the table so that the grid can be symbolized into 4 vulnerability classes. These classes were developed based on weights of evidence vs. cumulative area breaks.<\/span><\/p><\/div><\/div><\/div>",
 "extent": {
  "xmin": 52654.8614326568,
  "ymin": 702113.006575052,
  "xmax": 172024.86143265702,
  "ymax": 781613.006575052,
  "spatialReference": {
   "wkid": 102967,
   "latestWkid": 6439
  }
 },
 "initialExtent": {
  "xmin": 52654.8614326568,
  "ymin": 702113.006575052,
  "xmax": 172024.86143265702,
  "ymax": 781613.006575052,
  "spatialReference": {
   "wkid": 102967,
   "latestWkid": 6439
  }
 },
 "fullExtent": {
  "xmin": 52654.8614326568,
  "ymin": 702113.006575052,
  "xmax": 172024.86143265702,
  "ymax": 781613.006575052,
  "spatialReference": {
   "wkid": 102967,
   "latestWkid": 6439
  }
 },
 "sortableFields": "",
 "bandCount": 1,
 "pixelType": "U8",
 "minValues": [
  1
 ],
 "maxValues": [
  18
 ],
 "meanValues": [
  9.073058228671368
 ],
 "stdvValues": [
  4.226304427251237
 ],
 "hasMultidimensions": false,
 "pixelSizeX": 30.000000000000057,
 "pixelSizeY": 30,
 "datasetFormat": "FGDBR",
 "uncompressedSize": 10544350,
 "blockWidth": 128,
 "blockHeight": 128,
 "compressionType": "LZ77",
 "bandNames": [
  "Band_1"
 ],
 "allowCopy": true,
 "allowAnalysis": true,
 "itemAccess": false,
 "minPixelSize": 0,
 "maxPixelSize": 0,
 "copyrightText": "Advanced GeoSpatial Inc.",
 "serviceDataType": "esriImageServiceDataTypeGeneric",
 "serviceSourceType": "esriImageServiceSourceTypeDataset",
 "objectIdField": "",
 "fields": [],
 "capabilities": "Mensuration,Image,Metadata",
 "defaultMosaicMethod": "Center",
 "allowedMosaicMethods": "",
 "sortField": "",
 "sortValue": null,
 "sortAscending": true,
 "mosaicOperator": "First",
 "defaultCompressionQuality": 75,
 "defaultResamplingMethod": "Bilinear",
 "maxImageHeight": 4100,
 "maxImageWidth": 15000,
 "allowRasterFunction": true,
 "rasterFunctionInfos": [
  {
   "name": "SNG_RESPONSE_6439",
   "description": "A raster function template.",
   "help": ""
  },
  {
   "name": "None",
   "description": "",
   "help": ""
  }
 ],
 "rasterTypeInfos": [
  {
   "name": "Raster Dataset",
   "description": "Supports all ArcGIS Raster Datasets",
   "help": ""
  }
 ],
 "mensurationCapabilities": "Basic",
 "hasHistograms": true,
 "hasColormap": false,
 "hasRasterAttributeTable": true,
 "minScale": 0,
 "maxScale": 0,
 "exportTilesAllowed": false,
 "supportsStatistics": false,
 "supportsAdvancedQueries": false,
 "editFieldsInfo": null,
 "ownershipBasedAccessControlForRasters": null,
 "allowComputeTiePoints": false,
 "useStandardizedQueries": true,
 "advancedQueryCapabilities": {
  "useStandardizedQueries": true,
  "supportsStatistics": false,
  "supportsOrderBy": false,
  "supportsDistinct": false,
  "supportsPagination": false
 },
 "spatialReference": {
  "wkid": 102967,
  "latestWkid": 6439
 }
}
