<?xml version="1.0" encoding="UTF-8" standalone="no"?>
<metadata xml:lang="en">
<Esri>
<CreaDate>20181128</CreaDate>
<CreaTime>12214900</CreaTime>
<ArcGISFormat>1.0</ArcGISFormat>
<SyncOnce>FALSE</SyncOnce>
<DataProperties>
<lineage>
<Process Date="20181128" Name="" Time="101536" ToolSource="c:\program files (x86)\arcgis\desktop10.6\ArcToolbox\Toolboxes\Data Management Tools.tbx\CreateMosaicDataset" export="">CreateMosaicDataset \\pgisfs\imagery\raster_mosaics\FEMA_PostMichael_DEM_2018.gdb FEMA_PostMichael_DEM_2018 "PROJCS['NAD_1983_HARN_Florida_GDL_Albers',GEOGCS['GCS_North_American_1983_HARN',DATUM['D_North_American_1983_HARN',SPHEROID['GRS_1980',6378137.0,298.257222101]],PRIMEM['Greenwich',0.0],UNIT['Degree',0.0174532925199433]],PROJECTION['Albers'],PARAMETER['False_Easting',400000.0],PARAMETER['False_Northing',0.0],PARAMETER['Central_Meridian',-84.0],PARAMETER['Standard_Parallel_1',24.0],PARAMETER['Standard_Parallel_2',31.5],PARAMETER['Latitude_Of_Origin',24.0],UNIT['Meter',1.0]];-19550100 -7526400 10000;-100000 10000;-100000 10000;0.001;0.001;0.001;IsHighPrecision" # # NONE #</Process>
<Process Date="20181128" Name="" Time="111823" ToolSource="c:\program files (x86)\arcgis\desktop10.6\ArcToolbox\Toolboxes\Data Management Tools.tbx\CalculateStatistics" export="">CalculateStatistics \\pgisfs\imagery\raster_mosaics\FEMA_PostMichael_DEM_2018.gdb\FEMA_PostMichael_DEM_2018 1 1 # OVERWRITE "Feature Set"</Process>
<Process Date="20181128" Name="" Time="115835" ToolSource="c:\program files (x86)\arcgis\desktop10.6\ArcToolbox\Toolboxes\Data Management Tools.tbx\DefineOverviews" export="">DefineOverviews \\pgisfs\imagery\raster_mosaics\FEMA_PostMichael_DEM_2018.gdb\FEMA_PostMichael_DEM_2018 \\pgisfs\imagery\overviews\FEMA_PostMichael_DEM_2018.Overviews\FEMA_PostMichael_DEM_2018.Overviews # "40212.8300999999 620476.9253 396135.3156 714643.4439" # # 5120 5120 3 NO_FORCE_OVERVIEW_TILES BILINEAR JPEG 80</Process>
<Process Date="20181128" Name="" Time="120704" ToolSource="c:\program files (x86)\arcgis\desktop10.6\ArcToolbox\Toolboxes\Data Management Tools.tbx\BuildOverviews" export="">BuildOverviews \\pgisfs\imagery\raster_mosaics\FEMA_PostMichael_DEM_2018.gdb\FEMA_PostMichael_DEM_2018 # DEFINE_MISSING_TILES GENERATE_OVERVIEWS GENERATE_MISSING_IMAGES REGENERATE_STALE_IMAGES</Process>
<Process Date="20181128" Name="" Time="120938" ToolSource="c:\program files (x86)\arcgis\desktop10.6\ArcToolbox\Toolboxes\Data Management Tools.tbx\AnalyzeMosaicDataset" export="">AnalyzeMosaicDataset \\pgisfs\imagery\raster_mosaics\FEMA_PostMichael_DEM_2018.gdb\FEMA_PostMichael_DEM_2018 # FOOTPRINT;FUNCTION;RASTER;PATHS</Process>
<Process Date="20181128" Name="" Time="122234" ToolSource="c:\program files (x86)\arcgis\desktop10.6\ArcToolbox\Toolboxes\Data Management Tools.tbx\BuildBoundary" export="">BuildBoundary \\pgisfs\imagery\raster_mosaics\FEMA_PostMichael_DEM_2018.gdb\FEMA_PostMichael_DEM_2018_1 # OVERWRITE CONVEX_HULL</Process>
<Process Date="20181128" Name="" Time="122248" ToolSource="c:\program files (x86)\arcgis\desktop10.6\ArcToolbox\Toolboxes\Data Management Tools.tbx\BuildBoundary" export="">BuildBoundary \\pgisfs\imagery\raster_mosaics\FEMA_PostMichael_DEM_2018.gdb\FEMA_PostMichael_DEM_2018_1 # OVERWRITE ENVELOPE</Process>
<Process Date="20181128" Name="" Time="122304" ToolSource="c:\program files (x86)\arcgis\desktop10.6\ArcToolbox\Toolboxes\Data Management Tools.tbx\BuildBoundary" export="">BuildBoundary \\pgisfs\imagery\raster_mosaics\FEMA_PostMichael_DEM_2018.gdb\FEMA_PostMichael_DEM_2018_1 # OVERWRITE CONVEX_HULL</Process>
<Process Date="20181128" Name="" Time="122423" ToolSource="c:\program files (x86)\arcgis\desktop10.6\ArcToolbox\Toolboxes\Data Management Tools.tbx\SynchronizeMosaicDataset" export="">SynchronizeMosaicDataset \\pgisfs\imagery\raster_mosaics\FEMA_PostMichael_DEM_2018.gdb\FEMA_PostMichael_DEM_2018_1 # NO_NEW_ITEMS SYNC_STALE UPDATE_CELL_SIZES UPDATE_BOUNDARY NO_OVERVIEWS NO_PYRAMIDS NO_STATISTICS NO_THUMBNAILS NO_ITEM_CACHE REBUILD_RASTER UPDATE_FIELDS CenterX;CenterY;GroupName;ProductName;Raster;Shape;Tag;ZOrder UPDATE_EXISTING_ITEMS IGNORE_BROKEN_ITEMS SKIP_EXISTING_ITEMS NO_REFRESH_INFO NO_STATISTICS</Process>
<Process Date="20181128" Name="" Time="122735" ToolSource="c:\program files (x86)\arcgis\desktop10.6\ArcToolbox\Toolboxes\Data Management Tools.tbx\AnalyzeMosaicDataset" export="">AnalyzeMosaicDataset \\pgisfs\imagery\raster_mosaics\FEMA_PostMichael_DEM_2018.gdb\FEMA_PostMichael_DEM_2018_1 # FOOTPRINT;FUNCTION;RASTER;PATHS</Process>
<Process Date="20181128" Name="" Time="122748" ToolSource="c:\program files (x86)\arcgis\desktop10.6\ArcToolbox\Toolboxes\Data Management Tools.tbx\BuildBoundary" export="">BuildBoundary \\pgisfs\imagery\raster_mosaics\FEMA_PostMichael_DEM_2018.gdb\FEMA_PostMichael_DEM_2018_1 # OVERWRITE ENVELOPE</Process>
<Process Date="20181128" Name="" Time="124027" ToolSource="c:\program files (x86)\arcgis\desktop10.6\ArcToolbox\Toolboxes\Data Management Tools.tbx\BuildFootprints" export="">BuildFootprints \\pgisfs\imagery\raster_mosaics\FEMA_PostMichael_DEM_2018.gdb\FEMA_PostMichael_DEM_2018_1 # GEOMETRY 1 4294967295 4 0 NO_MAINTAIN_EDGES SKIP_DERIVED_IMAGES UPDATE_BOUNDARY 2000 100 CONVEX_HULL # 20 0.05</Process>
<Process Date="20181128" Name="" Time="124043" ToolSource="c:\program files (x86)\arcgis\desktop10.6\ArcToolbox\Toolboxes\Data Management Tools.tbx\BuildBoundary" export="">BuildBoundary \\pgisfs\imagery\raster_mosaics\FEMA_PostMichael_DEM_2018.gdb\FEMA_PostMichael_DEM_2018_1 # OVERWRITE CONVEX_HULL</Process>
<Process Date="20181128" Name="" Time="124232" ToolSource="c:\program files (x86)\arcgis\desktop10.6\ArcToolbox\Toolboxes\Data Management Tools.tbx\AnalyzeMosaicDataset" export="">AnalyzeMosaicDataset \\pgisfs\imagery\raster_mosaics\FEMA_PostMichael_DEM_2018.gdb\FEMA_PostMichael_DEM_2018_1 # FOOTPRINT;FUNCTION;RASTER;PATHS</Process>
</lineage>
<itemProps>
<itemLocation>
<linkage Sync="TRUE">file://\\pgisfs\imagery\raster_mosaics\FEMA_PostMichael_DEM_2018.gdb</linkage>
<protocol Sync="TRUE">Local Area Network</protocol>
</itemLocation>
<itemName Sync="TRUE">FEMA_PostMichael_DEM_2018</itemName>
<nativeExtBox>
<westBL Sync="TRUE">40212.830100</westBL>
<eastBL Sync="TRUE">396135.663824</eastBL>
<southBL Sync="TRUE">620476.876687</southBL>
<northBL Sync="TRUE">714643.628800</northBL>
<exTypeCode Sync="TRUE">1</exTypeCode>
</nativeExtBox>
</itemProps>
<coordRef>
<type Sync="TRUE">Projected</type>
<geogcsn Sync="TRUE">GCS_North_American_1983_HARN</geogcsn>
<csUnits Sync="TRUE">Linear Unit: Meter (1.000000)</csUnits>
<projcsn Sync="TRUE">NAD_1983_HARN_Florida_GDL_Albers</projcsn>
<peXml Sync="TRUE">&lt;ProjectedCoordinateSystem xsi:type='typens:ProjectedCoordinateSystem' xmlns:xsi='http://www.w3.org/2001/XMLSchema-instance' xmlns:xs='http://www.w3.org/2001/XMLSchema' xmlns:typens='http://www.esri.com/schemas/ArcGIS/10.6'&gt;&lt;WKT&gt;PROJCS[&amp;quot;NAD_1983_HARN_Florida_GDL_Albers&amp;quot;,GEOGCS[&amp;quot;GCS_North_American_1983_HARN&amp;quot;,DATUM[&amp;quot;D_North_American_1983_HARN&amp;quot;,SPHEROID[&amp;quot;GRS_1980&amp;quot;,6378137.0,298.257222101]],PRIMEM[&amp;quot;Greenwich&amp;quot;,0.0],UNIT[&amp;quot;Degree&amp;quot;,0.0174532925199433]],PROJECTION[&amp;quot;Albers&amp;quot;],PARAMETER[&amp;quot;False_Easting&amp;quot;,400000.0],PARAMETER[&amp;quot;False_Northing&amp;quot;,0.0],PARAMETER[&amp;quot;Central_Meridian&amp;quot;,-84.0],PARAMETER[&amp;quot;Standard_Parallel_1&amp;quot;,24.0],PARAMETER[&amp;quot;Standard_Parallel_2&amp;quot;,31.5],PARAMETER[&amp;quot;Latitude_Of_Origin&amp;quot;,24.0],UNIT[&amp;quot;Meter&amp;quot;,1.0],AUTHORITY[&amp;quot;EPSG&amp;quot;,3087]]&lt;/WKT&gt;&lt;XOrigin&gt;-19550100&lt;/XOrigin&gt;&lt;YOrigin&gt;-7526400&lt;/YOrigin&gt;&lt;XYScale&gt;225743210.67916927&lt;/XYScale&gt;&lt;ZOrigin&gt;-100000&lt;/ZOrigin&gt;&lt;ZScale&gt;10000&lt;/ZScale&gt;&lt;MOrigin&gt;-100000&lt;/MOrigin&gt;&lt;MScale&gt;10000&lt;/MScale&gt;&lt;XYTolerance&gt;0.001&lt;/XYTolerance&gt;&lt;ZTolerance&gt;0.001&lt;/ZTolerance&gt;&lt;MTolerance&gt;0.001&lt;/MTolerance&gt;&lt;HighPrecision&gt;true&lt;/HighPrecision&gt;&lt;WKID&gt;3087&lt;/WKID&gt;&lt;LatestWKID&gt;3087&lt;/LatestWKID&gt;&lt;/ProjectedCoordinateSystem&gt;</peXml>
</coordRef>
<RasterProperties>
<General>
<PixelDepth Sync="TRUE">32</PixelDepth>
<HasColormap Sync="TRUE">FALSE</HasColormap>
<CompressionType Sync="TRUE">None</CompressionType>
<NumBands Sync="TRUE">1</NumBands>
<Format Sync="TRUE">AMD</Format>
<HasPyramids Sync="TRUE">TRUE</HasPyramids>
<SourceType Sync="TRUE">continuous</SourceType>
<PixelType Sync="TRUE">floating point</PixelType>
<NoDataValue Sync="TRUE"/>
</General>
<Properties>
<MaxImageHeight Sync="TRUE">4100</MaxImageHeight>
<MaxImageWidth Sync="TRUE">15000</MaxImageWidth>
<MaxRecordCount Sync="TRUE">1000</MaxRecordCount>
<MaxDownloadImageCount Sync="TRUE">20</MaxDownloadImageCount>
<MaxDownloadSizeLimit Sync="TRUE">2048</MaxDownloadSizeLimit>
<MaxMosaicImageCount Sync="TRUE">20</MaxMosaicImageCount>
<DefaultCompressionQuality Sync="TRUE">75</DefaultCompressionQuality>
<DefaultCompressionTolerance Sync="TRUE">0.01</DefaultCompressionTolerance>
<BlendWidth Sync="TRUE">10</BlendWidth>
<ViewpointSpacingX Sync="TRUE">600</ViewpointSpacingX>
<ViewpointSpacingY Sync="TRUE">300</ViewpointSpacingY>
<AllowedItemMetadata Sync="TRUE">Basic</AllowedItemMetadata>
<DefaultResamplingMethod Sync="TRUE">1</DefaultResamplingMethod>
<AllowedMosaicMethods Sync="TRUE">NorthWest,Center,LockRaster,ByAttribute,Nadir,Viewpoint,Seamline,None</AllowedMosaicMethods>
<AllowedCompressions Sync="TRUE">None,JPEG,LZ77,LERC</AllowedCompressions>
<AllowedMensurationCapabilities Sync="TRUE">None</AllowedMensurationCapabilities>
<AvailableMensurationCapabilities Sync="TRUE">None,Basic,Base-Top Height,Top-Top Shadow Height,Base-Top Shadow Height,3D</AvailableMensurationCapabilities>
<ClipToBoundary Sync="TRUE">0</ClipToBoundary>
<FootprintMayContainNoData Sync="TRUE">-1</FootprintMayContainNoData>
<CellSizeTolerance Sync="TRUE">0.8</CellSizeTolerance>
<MinimumPixelContribution Sync="TRUE">1</MinimumPixelContribution>
<AvailableMosaicMethods Sync="TRUE">NorthWest,Center,LockRaster,ByAttribute,Nadir,Viewpoint,Seamline,None</AvailableMosaicMethods>
<AvailableCompressionMethods Sync="TRUE">None,JPEG,LZ77,LERC</AvailableCompressionMethods>
<AvailableItemMetadataLevels Sync="TRUE">None,Basic,Full</AvailableItemMetadataLevels>
<BandDefinitionKeyword Sync="TRUE">NONE</BandDefinitionKeyword>
<AllowedFields Sync="TRUE">Name,MinPS,MaxPS,LowPS,HighPS,Tag,GroupName,ProductName,CenterX,CenterY,ZOrder,Shape_Length,Shape_Area</AllowedFields>
<LowCellSize Sync="TRUE">1.00179527344016</LowCellSize>
<HighCellSize Sync="TRUE">730.308754444962</HighCellSize>
<MaxCellSize Sync="TRUE">36515.4377222481</MaxCellSize>
<ClipToFootprint Sync="TRUE">-1</ClipToFootprint>
</Properties>
<Functions Sync="TRUE">
<Function Description="Performs on-the-fly mosaic on a raster catalog." Name="Mosaic Function"/>
</Functions>
</RasterProperties>
</DataProperties>
<SyncDate>20181128</SyncDate>
<SyncTime>13544100</SyncTime>
<ModDate>20181128</ModDate>
<ModTime>14134800</ModTime>
<scaleRange>
<minScale>150000000</minScale>
<maxScale>5000</maxScale>
</scaleRange>
<ArcGISProfile>ItemDescription</ArcGISProfile>
</Esri>
<dataIdInfo>
<envirDesc Sync="TRUE"> Version 6.2 (Build 9200) ; Esri ArcGIS 10.6.1.9270</envirDesc>
<dataLang>
<languageCode Sync="TRUE" value="eng"/>
<countryCode Sync="TRUE" value="USA"/>
</dataLang>
<idCitation>
<resTitle Sync="TRUE">FEMA_PostMichael_DEM_2018</resTitle>
<presForm>
<PresFormCd Sync="TRUE" value="005"/>
</presForm>
</idCitation>
<spatRpType>
<SpatRepTypCd Sync="TRUE" value="002"/>
</spatRpType>
<dataExt>
<geoEle>
<GeoBndBox esriExtentType="search">
<exTypeCode Sync="TRUE">1</exTypeCode>
<westBL Sync="TRUE">-87.748328</westBL>
<eastBL Sync="TRUE">-84.039954</eastBL>
<northBL Sync="TRUE">30.439325</northBL>
<southBL Sync="TRUE">29.542155</southBL>
</GeoBndBox>
</geoEle>
</dataExt>
<idPurp>This data was collected by USACE on behalf of FEMA following Hurricane Michael to assess changes in elevations above and below water along the coast.</idPurp>
<idAbs>&lt;div style='text-align:Left;'&gt;&lt;div&gt;&lt;div&gt;&lt;p&gt;&lt;span&gt;This image service provides a mechanism to query, visualize, and download USACE NCMP digital elevation model data products.&lt;/span&gt;&lt;/p&gt;&lt;/div&gt;&lt;/div&gt;&lt;/div&gt;</idAbs>
<idCredit>Acknowledgement of the Joint Airborne Lidar Bathymetry Technical Center of eXpertise (JALBTCX) would be appreciated in any publications or derived products.</idCredit>
<searchKeys>
<keyword>Fema</keyword>
<keyword>Hurricane</keyword>
<keyword>Michael</keyword>
<keyword>Florida</keyword>
<keyword>DEM</keyword>
<keyword>Elevation</keyword>
<keyword>Post</keyword>
<keyword>Lidar</keyword>
</searchKeys>
<resConst>
<Consts>
<useLimit/>
</Consts>
</resConst>
</dataIdInfo>
<mdLang>
<languageCode Sync="TRUE" value="eng"/>
<countryCode Sync="TRUE" value="USA"/>
</mdLang>
<refSysInfo>
<RefSystem>
<refSysID>
<identCode Sync="TRUE" code="3087"/>
<idCodeSpace Sync="TRUE">EPSG</idCodeSpace>
<idVersion Sync="TRUE">6.13(9.2.0)</idVersion>
</refSysID>
</RefSystem>
</refSysInfo>
<spatRepInfo>
<Georect>
<cellGeo>
<CellGeoCd Sync="TRUE" value="002"/>
</cellGeo>
<numDims Sync="TRUE">2</numDims>
<tranParaAv Sync="TRUE">1</tranParaAv>
<chkPtAv Sync="TRUE">0</chkPtAv>
<cornerPts>
<pos Sync="TRUE">40212.830100 620476.876687</pos>
</cornerPts>
<cornerPts>
<pos Sync="TRUE">40212.830100 714643.628800</pos>
</cornerPts>
<cornerPts>
<pos Sync="TRUE">396135.663824 714643.628800</pos>
</cornerPts>
<cornerPts>
<pos Sync="TRUE">396135.663824 620476.876687</pos>
</cornerPts>
<centerPt>
<pos Sync="TRUE">218174.246962 667560.252744</pos>
</centerPt>
<axisDimension type="002">
<dimSize Sync="TRUE">355285</dimSize>
<dimResol>
<value Sync="TRUE" uom="m">1.001795</value>
</dimResol>
</axisDimension>
<axisDimension type="001">
<dimSize Sync="TRUE">93998</dimSize>
<dimResol>
<value Sync="TRUE" uom="m">1.001795</value>
</dimResol>
</axisDimension>
<ptInPixel>
<PixOrientCd Sync="TRUE" value="001"/>
</ptInPixel>
</Georect>
</spatRepInfo>
<contInfo>
<ImgDesc>
<contentTyp>
<ContentTypCd Sync="TRUE" value="001"/>
</contentTyp>
<covDim>
<Band>
<dimDescrp Sync="TRUE">Band_1</dimDescrp>
<maxVal Sync="TRUE">22.469971</maxVal>
<minVal Sync="TRUE">-24.577467</minVal>
<bitsPerVal Sync="TRUE">32</bitsPerVal>
<valUnit>
<UOM type="length"/>
</valUnit>
</Band>
</covDim>
</ImgDesc>
</contInfo>
<mdDateSt Sync="TRUE">20181128</mdDateSt>
<mdHrLv>
<ScopeCd value="005"/>
</mdHrLv>
</metadata>
