{ "currentVersion": 11.1, "serviceDescription": "
Aerial imagery from the 2003 - 2004 imagery acquisition cycle. Pursuant to Section 195.022, Florida Statutes, \"Upon request of any property appraiser or, in any event, at least once every 3 years, the [Florida Department of Revenue (FDOR)] shall prescribe and furnish such aerial photographs and nonproperty ownership maps to the property appraisers as necessary to ensure that all real property within the state is properly listed on the roll.\" FDEP acquires orthorectified color images from the Florida Departmet of Transportation (FDOT)'s Aerial Photo Lookup System. FDEP creates this raster mosaic dataset from the orthoimages for each applicable year. <\/SPAN><\/P> C<\/SPAN>ounties in this dataset are: Citrus, Clay, DeSoto, Escambia, Gadsden, Hardee, Hernando, Marion, Pasco, and Wakulla. <\/SPAN><\/P> Created 5/17/2019. <\/SPAN><\/P> <\/P><\/DIV><\/DIV><\/DIV>",
"name": "FDOT_Yearly_Aerials/Aerial_Imagery_2004",
"description": " Aerial imagery from the 2003 - 2004 imagery acquisition cycle. Pursuant to Section 195.022, Florida Statutes, \"Upon request of any property appraiser or, in any event, at least once every 3 years, the [Florida Department of Revenue (FDOR)] shall prescribe and furnish such aerial photographs and nonproperty ownership maps to the property appraisers as necessary to ensure that all real property within the state is properly listed on the roll.\" FDEP acquires orthorectified color images from the Florida Departmet of Transportation (FDOT)'s Aerial Photo Lookup System. FDEP creates this raster mosaic dataset from the orthoimages for each applicable year. <\/SPAN><\/P> C<\/SPAN>ounties in this dataset are: Citrus, Clay, DeSoto, Escambia, Gadsden, Hardee, Hernando, Marion, Pasco, and Wakulla. <\/SPAN><\/P> Created 5/17/2019. <\/SPAN><\/P> <\/P><\/DIV><\/DIV><\/DIV>",
"extent": {
"xmin": -111326.13120000064,
"ymin": 336484.0898721365,
"xmax": 642557.4552871725,
"ymax": 1000688.0218000005,
"spatialReference": {
"wkid": 3087,
"latestWkid": 3087
}
},
"initialExtent": {
"xmin": -111326.13120000064,
"ymin": 336484.0898721365,
"xmax": 642557.4552871725,
"ymax": 1000688.0218000005,
"spatialReference": {
"wkid": 3087,
"latestWkid": 3087
}
},
"fullExtent": {
"xmin": -111326.13120000064,
"ymin": 336484.0898721365,
"xmax": 642557.4552871725,
"ymax": 1000688.0218000005,
"spatialReference": {
"wkid": 3087,
"latestWkid": 3087
}
},
"sortableFields": "MinPS,MaxPS,LowPS,HighPS,CenterX,CenterY,ZOrder,Shape_Length,Shape_Area,YEAR",
"bandCount": 3,
"pixelType": "U8",
"minValues": [
0,
0,
0
],
"maxValues": [
255,
255,
255
],
"meanValues": [
83.92759562841539,
94.91277322404376,
86.30430327868817
],
"stdvValues": [
30.53218254798135,
29.219916357649492,
26.650707642302354
],
"hasMultidimensions": false,
"pixelSizeX": 0.2438404876809754,
"pixelSizeY": 0.2438404876809754,
"datasetFormat": "AMD",
"uncompressedSize": 25264769967072,
"blockWidth": 2048,
"blockHeight": 256,
"compressionType": "None",
"bandNames": [
"Band_1",
"Band_2",
"Band_3"
],
"allowCopy": true,
"allowAnalysis": true,
"itemAccess": false,
"minPixelSize": 0,
"maxPixelSize": 0,
"copyrightText": "FDOR, FDOT, FDEP",
"serviceDataType": "esriImageServiceDataTypeRGB",
"serviceSourceType": "esriImageServiceSourceTypeMosaicDataset",
"objectIdField": "OBJECTID",
"fields": [
{
"name": "OBJECTID",
"type": "esriFieldTypeOID",
"alias": "OBJECTID",
"domain": null
},
{
"name": "Shape",
"type": "esriFieldTypeGeometry",
"alias": "Shape",
"domain": null
},
{
"name": "Name",
"type": "esriFieldTypeString",
"alias": "Name",
"domain": null,
"length": 200
},
{
"name": "MinPS",
"type": "esriFieldTypeDouble",
"alias": "MinPS",
"domain": null
},
{
"name": "MaxPS",
"type": "esriFieldTypeDouble",
"alias": "MaxPS",
"domain": null
},
{
"name": "LowPS",
"type": "esriFieldTypeDouble",
"alias": "LowPS",
"domain": null
},
{
"name": "HighPS",
"type": "esriFieldTypeDouble",
"alias": "HighPS",
"domain": null
},
{
"name": "Category",
"type": "esriFieldTypeInteger",
"alias": "Category",
"domain": {
"type": "codedValue",
"name": "MosaicCatalogItemCategoryDomain",
"description": "Catalog item categories.",
"codedValues": [
{
"name": "Unknown",
"code": 0
},
{
"name": "Primary",
"code": 1
},
{
"name": "Overview",
"code": 2
},
{
"name": "Unprocessed Overview",
"code": 3
},
{
"name": "Partial Overview",
"code": 4
},
{
"name": "Inactive",
"code": 5
},
{
"name": "Uploaded",
"code": 253
},
{
"name": "Incomplete",
"code": 254
},
{
"name": "Custom",
"code": 255
}
],
"mergePolicy": "esriMPTDefaultValue",
"splitPolicy": "esriSPTDefaultValue"
}
},
{
"name": "Tag",
"type": "esriFieldTypeString",
"alias": "Tag",
"domain": null,
"length": 100
},
{
"name": "GroupName",
"type": "esriFieldTypeString",
"alias": "GroupName",
"domain": null,
"length": 100
},
{
"name": "ProductName",
"type": "esriFieldTypeString",
"alias": "ProductName",
"domain": null,
"length": 100
},
{
"name": "CenterX",
"type": "esriFieldTypeDouble",
"alias": "CenterX",
"domain": null
},
{
"name": "CenterY",
"type": "esriFieldTypeDouble",
"alias": "CenterY",
"domain": null
},
{
"name": "ZOrder",
"type": "esriFieldTypeInteger",
"alias": "ZOrder",
"domain": null
},
{
"name": "Shape_Length",
"type": "esriFieldTypeDouble",
"alias": "Shape_Length",
"domain": null
},
{
"name": "Shape_Area",
"type": "esriFieldTypeDouble",
"alias": "Shape_Area",
"domain": null
},
{
"name": "DATASET_ID",
"type": "esriFieldTypeString",
"alias": "DATASET_ID",
"domain": null,
"length": 50
},
{
"name": "START_DATE",
"type": "esriFieldTypeString",
"alias": "START_DATE",
"domain": null,
"length": 50
},
{
"name": "END_DATE",
"type": "esriFieldTypeString",
"alias": "END_DATE",
"domain": null,
"length": 50
},
{
"name": "YEAR",
"type": "esriFieldTypeSmallInteger",
"alias": "YEAR",
"domain": null
},
{
"name": "SOURCE",
"type": "esriFieldTypeString",
"alias": "SOURCE",
"domain": null,
"length": 50
}
],
"capabilities": "Image,Metadata,Catalog,Mensuration",
"defaultMosaicMethod": "Center",
"allowedMosaicMethods": "Center,NorthWest,LockRaster,ByAttribute",
"sortField": "",
"sortValue": null,
"sortAscending": true,
"mosaicOperator": "First",
"maxDownloadSizeLimit": 2048,
"defaultCompressionQuality": 75,
"defaultResamplingMethod": "Bilinear",
"maxImageHeight": 4100,
"maxImageWidth": 15000,
"maxRecordCount": 1000,
"maxDownloadImageCount": 20,
"maxMosaicImageCount": 20,
"allowRasterFunction": true,
"rasterFunctionInfos": [
{
"name": "None",
"description": "A No-Op Function.",
"help": ""
}
],
"rasterTypeInfos": [
{
"name": "Raster Dataset",
"description": "Supports all ArcGIS Raster Datasets",
"help": ""
}
],
"mensurationCapabilities": "Basic",
"hasHistograms": true,
"hasColormap": false,
"hasRasterAttributeTable": false,
"minScale": 0,
"maxScale": 0,
"exportTilesAllowed": false,
"supportsStatistics": true,
"supportsAdvancedQueries": true,
"editFieldsInfo": null,
"ownershipBasedAccessControlForRasters": null,
"allowComputeTiePoints": false,
"useStandardizedQueries": true,
"advancedQueryCapabilities": {
"useStandardizedQueries": true,
"supportsStatistics": true,
"supportsOrderBy": true,
"supportsDistinct": true,
"supportsPagination": true
},
"spatialReference": {
"wkid": 3087,
"latestWkid": 3087
}
}