{
 "currentVersion": 11.1,
 "serviceDescription": "FGS/FGS_Spring_Inventory_Rectified_SpringWarrior",
 "name": "FGS/FGS_Spring_Inventory_Rectified_SpringWarrior",
 "description": "",
 "extent": {
  "xmin": -9318876.320179895,
  "ymin": 3490793.557900527,
  "xmax": -9313139.801989894,
  "ymax": 3496655.555890527,
  "spatialReference": {
   "wkid": 102100,
   "latestWkid": 3857
  }
 },
 "initialExtent": {
  "xmin": -9318876.320179895,
  "ymin": 3490793.557900527,
  "xmax": -9313139.801989894,
  "ymax": 3496655.555890527,
  "spatialReference": {
   "wkid": 102100,
   "latestWkid": 3857
  }
 },
 "fullExtent": {
  "xmin": -9318876.320179895,
  "ymin": 3490793.557900527,
  "xmax": -9313139.801989894,
  "ymax": 3496655.555890527,
  "spatialReference": {
   "wkid": 102100,
   "latestWkid": 3857
  }
 },
 "sortableFields": "",
 "bandCount": 1,
 "pixelType": "U32",
 "minValues": [
  29
 ],
 "maxValues": [
  251
 ],
 "meanValues": [
  137.67273016779
 ],
 "stdvValues": [
  28.868120703508
 ],
 "hasMultidimensions": false,
 "pixelSizeX": 1.0456650000000376,
 "pixelSizeY": 1.045665000000011,
 "datasetFormat": "TIFF",
 "uncompressedSize": 123018064,
 "blockWidth": 128,
 "blockHeight": 128,
 "compressionType": "None",
 "bandNames": [
  "Band_1"
 ],
 "allowCopy": true,
 "allowAnalysis": true,
 "itemAccess": false,
 "noDataValue": 65536,
 "noDataValues": [
  65536
 ],
 "minPixelSize": 0,
 "maxPixelSize": 0,
 "copyrightText": "",
 "serviceDataType": "esriImageServiceDataTypeGeneric",
 "serviceSourceType": "esriImageServiceSourceTypeDataset",
 "objectIdField": "",
 "fields": [],
 "capabilities": "Image,Metadata,Mensuration",
 "defaultMosaicMethod": "Center",
 "allowedMosaicMethods": "",
 "sortField": "",
 "sortValue": null,
 "sortAscending": true,
 "mosaicOperator": "First",
 "defaultCompressionQuality": 75,
 "defaultResamplingMethod": "Bilinear",
 "maxImageHeight": 4100,
 "maxImageWidth": 15000,
 "allowRasterFunction": true,
 "rasterFunctionInfos": [
  {
   "name": "None",
   "description": "",
   "help": ""
  }
 ],
 "rasterTypeInfos": [
  {
   "name": "Raster Dataset",
   "description": "Supports all ArcGIS Raster Datasets",
   "help": ""
  }
 ],
 "mensurationCapabilities": "Basic",
 "hasHistograms": true,
 "hasColormap": false,
 "hasRasterAttributeTable": false,
 "minScale": 0,
 "maxScale": 0,
 "exportTilesAllowed": false,
 "supportsStatistics": false,
 "supportsAdvancedQueries": false,
 "editFieldsInfo": null,
 "ownershipBasedAccessControlForRasters": null,
 "allowComputeTiePoints": false,
 "useStandardizedQueries": true,
 "advancedQueryCapabilities": {
  "useStandardizedQueries": true,
  "supportsStatistics": false,
  "supportsOrderBy": false,
  "supportsDistinct": false,
  "supportsPagination": false
 },
 "spatialReference": {
  "wkid": 102100,
  "latestWkid": 3857
 }
}
