<?xml version="1.0" encoding="UTF-8" standalone="no"?>
<metadata xml:lang="en">
<Esri>
<CreaDate>20221130</CreaDate>
<CreaTime>12105000</CreaTime>
<ArcGISFormat>1.0</ArcGISFormat>
<SyncOnce>FALSE</SyncOnce>
<DataProperties>
<lineage>
<Process Date="20221130" Time="121050" ToolSource="c:\program files\arcgis\pro\Resources\ArcToolbox\toolboxes\Data Management Tools.tbx\CreateMosaicDataset">CreateMosaicDataset \\prodgisfs\Imagery\raster_mosaics\FL_Peninsular_Hx_Michael_Supp_LiDAR.gdb NWFWMD PROJCS["NAD_1983_2011_StatePlane_Florida_North_FIPS_0903_Ft_US",GEOGCS["GCS_NAD_1983_2011",DATUM["D_NAD_1983_2011",SPHEROID["GRS_1980",6378137.0,298.257222101]],PRIMEM["Greenwich",0.0],UNIT["Degree",0.0174532925199433]],PROJECTION["Lambert_Conformal_Conic"],PARAMETER["False_Easting",1968500.0],PARAMETER["False_Northing",0.0],PARAMETER["Central_Meridian",-84.5],PARAMETER["Standard_Parallel_1",29.58333333333333],PARAMETER["Standard_Parallel_2",30.75],PARAMETER["Latitude_Of_Origin",29.0],UNIT["Foot_US",0.3048006096012192]] # # None #</Process>
<Process Date="20221130" Time="153612" ToolSource="c:\program files\arcgis\pro\Resources\ArcToolbox\toolboxes\Data Management Tools.tbx\AddRastersToMosaicDataset">AddRastersToMosaicDataset \\prodgisfs\Imagery\raster_mosaics\FL_Peninsular_Hx_Michael_Supp_LiDAR.gdb\NWFWMD "Raster Dataset" \\gisadmin\e$\Admin\SDEConnections\cloudstore_gisimagery.acs\gisimagery\source\Hx_Michael_Supplemental_LiDAR_2020 UPDATE_CELL_SIZES UPDATE_BOUNDARY NO_OVERVIEWS # 0 1500 # # SUBFOLDERS "Allow duplicates" NO_PYRAMIDS CALCULATE_STATISTICS NO_THUMBNAILS # NO_FORCE_SPATIAL_REFERENCE ESTIMATE_STATISTICS # NO_PIXEL_CACHE C:\Users\Koelker_W\AppData\Local\ESRI\rasterproxies\NWFWMD</Process>
<Process Date="20221202" Time="121206" ToolSource="c:\program files\arcgis\pro\Resources\ArcToolbox\toolboxes\Data Management Tools.tbx\AddRastersToMosaicDataset">AddRastersToMosaicDataset \\prodgisfs\Imagery\raster_mosaics\FL_Peninsular_Hx_Michael_Supp_LiDAR.gdb\NWFWMD "Raster Dataset" \\gisadmin\e$\Admin\SDEConnections\cloudstore_gisimagery.acs\gisimagery\overviews\Hx_Michael_Supplemental_LiDAR_2020\NWFWMD.Overviews UPDATE_CELL_SIZES UPDATE_BOUNDARY NO_OVERVIEWS # 0 1500 # # SUBFOLDERS "Allow duplicates" NO_PYRAMIDS NO_STATISTICS NO_THUMBNAILS # NO_FORCE_SPATIAL_REFERENCE NO_STATISTICS # NO_PIXEL_CACHE C:\Users\Koelker_W\AppData\Local\ESRI\rasterproxies\NWFWMD</Process>
<Process Date="20221202" Time="125543" ToolSource="c:\program files\arcgis\pro\Resources\ArcToolbox\toolboxes\Data Management Tools.tbx\AddRastersToMosaicDataset">AddRastersToMosaicDataset \\prodgisfs\Imagery\raster_mosaics\FL_Peninsular_Hx_Michael_Supp_LiDAR.gdb\NWFWMD "Raster Dataset" \\gisadmin\e$\Admin\SDEConnections\cloudstore_gisimagery.acs\gisimagery\overviews\Hx_Michael_Supplemental_LiDAR_2020\NWFWMD.Overviews UPDATE_CELL_SIZES UPDATE_BOUNDARY NO_OVERVIEWS # 0 1500 # # SUBFOLDERS "Allow duplicates" NO_PYRAMIDS NO_STATISTICS NO_THUMBNAILS # NO_FORCE_SPATIAL_REFERENCE NO_STATISTICS # NO_PIXEL_CACHE C:\Users\Koelker_W\AppData\Local\ESRI\rasterproxies\NWFWMD</Process>
<Process Date="20221204" Time="134155" ToolSource="c:\program files\arcgis\pro\Resources\ArcToolbox\toolboxes\Data Management Tools.tbx\AddRastersToMosaicDataset">AddRastersToMosaicDataset \\prodgisfs\Imagery\raster_mosaics\FL_Peninsular_Hx_Michael_Supp_LiDAR.gdb\NWFWMD "Raster Dataset" \\gisadmin\e$\Admin\SDEConnections\cloudstore_gisimagery.acs\gisimagery\overviews\Hx_Michael_Supplemental_Lidar_2020\NWFWMD.Overviews UPDATE_CELL_SIZES UPDATE_BOUNDARY NO_OVERVIEWS # 0 1500 # # SUBFOLDERS "Allow duplicates" NO_PYRAMIDS NO_STATISTICS NO_THUMBNAILS # NO_FORCE_SPATIAL_REFERENCE NO_STATISTICS # NO_PIXEL_CACHE C:\Users\Koelker_W\AppData\Local\ESRI\rasterproxies\NWFWMD</Process>
<Process Date="20221219" Time="180548" ToolSource="c:\program files\arcgis\pro\Resources\ArcToolbox\toolboxes\Data Management Tools.tbx\AddRastersToMosaicDataset">AddRastersToMosaicDataset \\prodgisfs\Imagery\raster_mosaics\FL_Peninsular_Hx_Michael_Supp_LiDAR.gdb\NWFWMD "Raster Dataset" \\gisadmin\e$\Admin\SDEConnections\cloudstore_gisimagery.acs\source\Hx_Michael_Supplemental_LiDAR_2020 UPDATE_CELL_SIZES UPDATE_BOUNDARY NO_OVERVIEWS # 0 1500 # # SUBFOLDERS "Allow duplicates" NO_PYRAMIDS NO_STATISTICS NO_THUMBNAILS # NO_FORCE_SPATIAL_REFERENCE NO_STATISTICS # NO_PIXEL_CACHE C:\Users\Koelker_W\AppData\Local\ESRI\rasterproxies\NWFWMD</Process>
<Process Date="20221220" Time="134206" ToolSource="c:\program files\arcgis\pro\Resources\ArcToolbox\toolboxes\Data Management Tools.tbx\AddRastersToMosaicDataset">AddRastersToMosaicDataset \\prodgisfs\Imagery\raster_mosaics\FL_Peninsular_Hx_Michael_Supp_LiDAR.gdb\NWFWMD "Raster Dataset" \\gisadmin\e$\Admin\SDEConnections\cloudstore_gisimagery.acs\source\Hx_Michael_Supplemental_LiDAR_2020 UPDATE_CELL_SIZES UPDATE_BOUNDARY NO_OVERVIEWS # 0 1500 # # SUBFOLDERS "Allow duplicates" NO_PYRAMIDS NO_STATISTICS NO_THUMBNAILS # NO_FORCE_SPATIAL_REFERENCE NO_STATISTICS # NO_PIXEL_CACHE C:\Users\Koelker_W\AppData\Local\ESRI\rasterproxies\NWFWMD</Process>
<Process Date="20221220" Time="141116" ToolSource="c:\program files\arcgis\pro\Resources\ArcToolbox\toolboxes\Data Management Tools.tbx\AddRastersToMosaicDataset">AddRastersToMosaicDataset \\prodgisfs\Imagery\raster_mosaics\FL_Peninsular_Hx_Michael_Supp_LiDAR.gdb\NWFWMD "Raster Dataset" \\gisadmin\e$\Admin\SDEConnections\cloudstore_gisimagery.acs\overviews\Hx_Michael_Supplemental_Lidar_2020\NWFWMD.Overviews UPDATE_CELL_SIZES UPDATE_BOUNDARY NO_OVERVIEWS # 0 1500 # # SUBFOLDERS "Allow duplicates" NO_PYRAMIDS NO_STATISTICS NO_THUMBNAILS # NO_FORCE_SPATIAL_REFERENCE NO_STATISTICS # NO_PIXEL_CACHE C:\Users\Koelker_W\AppData\Local\ESRI\rasterproxies\NWFWMD</Process>
<Process Date="20230109" Time="185301" ToolSource="c:\program files\arcgis\pro\Resources\ArcToolbox\toolboxes\Data Management Tools.tbx\AddRastersToMosaicDataset">AddRastersToMosaicDataset \\prodgisfs\Imagery\raster_mosaics\FL_Peninsular_Hx_Michael_Supp_LiDAR.gdb\NWFWMD "Raster Dataset" \\gisadmin\e$\Admin\SDEConnections\cloudstore_gisimagery.acs\source\Hx_Michael_Supplemental_LiDAR_2020\Hx1;\\gisadmin\e$\Admin\SDEConnections\cloudstore_gisimagery.acs\source\Hx_Michael_Supplemental_LiDAR_2020\Hx2;\\gisadmin\e$\Admin\SDEConnections\cloudstore_gisimagery.acs\source\Hx_Michael_Supplemental_LiDAR_2020\Hx3;\\gisadmin\e$\Admin\SDEConnections\cloudstore_gisimagery.acs\source\Hx_Michael_Supplemental_LiDAR_2020\Hx4;\\gisadmin\e$\Admin\SDEConnections\cloudstore_gisimagery.acs\source\Hx_Michael_Supplemental_LiDAR_2020\Hx5;\\gisadmin\e$\Admin\SDEConnections\cloudstore_gisimagery.acs\source\Hx_Michael_Supplemental_LiDAR_2020\Hx6;\\gisadmin\e$\Admin\SDEConnections\cloudstore_gisimagery.acs\source\Hx_Michael_Supplemental_LiDAR_2020\Hx7 UPDATE_CELL_SIZES UPDATE_BOUNDARY NO_OVERVIEWS # 0 1500 # # SUBFOLDERS "Allow duplicates" NO_PYRAMIDS NO_STATISTICS NO_THUMBNAILS # NO_FORCE_SPATIAL_REFERENCE NO_STATISTICS # NO_PIXEL_CACHE C:\Users\Koelker_W\AppData\Local\ESRI\rasterproxies\NWFWMD</Process>
<Process Date="20230110" Time="163526" ToolSource="c:\program files\arcgis\pro\Resources\ArcToolbox\toolboxes\Data Management Tools.tbx\AddRastersToMosaicDataset">AddRastersToMosaicDataset \\prodgisfs\Imagery\raster_mosaics\FL_Peninsular_Hx_Michael_Supp_LiDAR.gdb\NWFWMD "Raster Dataset" \\gisadmin\e$\Admin\SDEConnections\cloudstore_gisimagery.acs\overviews\Hx_Michael_Supplemental_Lidar_2020\NWFWMD.Overviews UPDATE_CELL_SIZES UPDATE_BOUNDARY NO_OVERVIEWS # 0 1500 # # SUBFOLDERS "Allow duplicates" NO_PYRAMIDS NO_STATISTICS NO_THUMBNAILS # NO_FORCE_SPATIAL_REFERENCE NO_STATISTICS # NO_PIXEL_CACHE C:\Users\Koelker_W\AppData\Local\ESRI\rasterproxies\NWFWMD</Process>
</lineage>
<itemProps>
<itemName Sync="TRUE">NWFWMD</itemName>
<itemLocation>
<linkage Sync="TRUE">file://\\prodgisfs\Imagery\raster_mosaics\FL_Peninsular_Hx_Michael_Supp_LiDAR.gdb</linkage>
<protocol Sync="TRUE">Local Area Network</protocol>
</itemLocation>
<nativeExtBox>
<westBL Sync="TRUE">1441367.500000</westBL>
<eastBL Sync="TRUE">2232332.500000</eastBL>
<southBL Sync="TRUE">211502.500000</southBL>
<northBL Sync="TRUE">730915.000000</northBL>
<exTypeCode Sync="TRUE">1</exTypeCode>
</nativeExtBox>
</itemProps>
<coordRef>
<type Sync="TRUE">Projected</type>
<geogcsn Sync="TRUE">GCS_NAD_1983_2011</geogcsn>
<csUnits Sync="TRUE">Linear Unit: Foot_US (0.304801)</csUnits>
<projcsn Sync="TRUE">NAD_1983_2011_StatePlane_Florida_North_FIPS_0903_Ft_US</projcsn>
<peXml Sync="TRUE">&lt;ProjectedCoordinateSystem xsi:type='typens:ProjectedCoordinateSystem' xmlns:xsi='http://www.w3.org/2001/XMLSchema-instance' xmlns:xs='http://www.w3.org/2001/XMLSchema' xmlns:typens='http://www.esri.com/schemas/ArcGIS/2.9.0'&gt;&lt;WKT&gt;PROJCS[&amp;quot;NAD_1983_2011_StatePlane_Florida_North_FIPS_0903_Ft_US&amp;quot;,GEOGCS[&amp;quot;GCS_NAD_1983_2011&amp;quot;,DATUM[&amp;quot;D_NAD_1983_2011&amp;quot;,SPHEROID[&amp;quot;GRS_1980&amp;quot;,6378137.0,298.257222101]],PRIMEM[&amp;quot;Greenwich&amp;quot;,0.0],UNIT[&amp;quot;Degree&amp;quot;,0.0174532925199433]],PROJECTION[&amp;quot;Lambert_Conformal_Conic&amp;quot;],PARAMETER[&amp;quot;False_Easting&amp;quot;,1968500.0],PARAMETER[&amp;quot;False_Northing&amp;quot;,0.0],PARAMETER[&amp;quot;Central_Meridian&amp;quot;,-84.5],PARAMETER[&amp;quot;Standard_Parallel_1&amp;quot;,29.58333333333333],PARAMETER[&amp;quot;Standard_Parallel_2&amp;quot;,30.75],PARAMETER[&amp;quot;Latitude_Of_Origin&amp;quot;,29.0],UNIT[&amp;quot;Foot_US&amp;quot;,0.3048006096012192],AUTHORITY[&amp;quot;EPSG&amp;quot;,6441]]&lt;/WKT&gt;&lt;XOrigin&gt;-125939000&lt;/XOrigin&gt;&lt;YOrigin&gt;-91453300&lt;/YOrigin&gt;&lt;XYScale&gt;35209816.682919256&lt;/XYScale&gt;&lt;ZOrigin&gt;-100000&lt;/ZOrigin&gt;&lt;ZScale&gt;10000&lt;/ZScale&gt;&lt;MOrigin&gt;-100000&lt;/MOrigin&gt;&lt;MScale&gt;10000&lt;/MScale&gt;&lt;XYTolerance&gt;0.0032808333333333331&lt;/XYTolerance&gt;&lt;ZTolerance&gt;0.001&lt;/ZTolerance&gt;&lt;MTolerance&gt;0.001&lt;/MTolerance&gt;&lt;HighPrecision&gt;true&lt;/HighPrecision&gt;&lt;WKID&gt;103024&lt;/WKID&gt;&lt;LatestWKID&gt;6441&lt;/LatestWKID&gt;&lt;/ProjectedCoordinateSystem&gt;</peXml>
</coordRef>
<RasterProperties>
<General>
<PixelDepth Sync="TRUE">32</PixelDepth>
<HasColormap Sync="TRUE">FALSE</HasColormap>
<CompressionType Sync="TRUE">None</CompressionType>
<NumBands Sync="TRUE">1</NumBands>
<Format Sync="TRUE">AMD</Format>
<HasPyramids Sync="TRUE">TRUE</HasPyramids>
<SourceType Sync="TRUE">continuous</SourceType>
<PixelType Sync="TRUE">floating point</PixelType>
<NoDataValue Sync="TRUE"/>
</General>
<Properties>
<MaxImageHeight Sync="TRUE">4100</MaxImageHeight>
<MaxImageWidth Sync="TRUE">15000</MaxImageWidth>
<MaxRecordCount Sync="TRUE">1000</MaxRecordCount>
<MaxDownloadImageCount Sync="TRUE">20</MaxDownloadImageCount>
<MaxDownloadSizeLimit Sync="TRUE">2048</MaxDownloadSizeLimit>
<MaxMosaicImageCount Sync="TRUE">10000</MaxMosaicImageCount>
<DefaultCompressionQuality Sync="TRUE">75</DefaultCompressionQuality>
<DefaultCompressionTolerance Sync="TRUE">0.01</DefaultCompressionTolerance>
<BlendWidth Sync="TRUE">10</BlendWidth>
<ViewpointSpacingX Sync="TRUE">600</ViewpointSpacingX>
<ViewpointSpacingY Sync="TRUE">300</ViewpointSpacingY>
<AllowedItemMetadata Sync="TRUE">Basic</AllowedItemMetadata>
<DefaultResamplingMethod Sync="TRUE">1</DefaultResamplingMethod>
<AllowedMosaicMethods Sync="TRUE">NorthWest,Center,LockRaster,ByAttribute,Nadir,Viewpoint,Seamline,None</AllowedMosaicMethods>
<AllowedCompressions Sync="TRUE">None,JPEG,LZ77,LERC</AllowedCompressions>
<AllowedMensurationCapabilities Sync="TRUE">Basic</AllowedMensurationCapabilities>
<AvailableMensurationCapabilities Sync="TRUE">None,Basic,Base-Top Height,Top-Top Shadow Height,Base-Top Shadow Height,3D</AvailableMensurationCapabilities>
<ClipToBoundary Sync="TRUE">-1</ClipToBoundary>
<FootprintMayContainNoData Sync="TRUE">-1</FootprintMayContainNoData>
<CellSizeTolerance Sync="TRUE">0.8</CellSizeTolerance>
<MinimumPixelContribution Sync="TRUE">1</MinimumPixelContribution>
<AvailableMosaicMethods Sync="TRUE">NorthWest,Center,LockRaster,ByAttribute,Nadir,Viewpoint,Seamline,None</AvailableMosaicMethods>
<AvailableCompressionMethods Sync="TRUE">None,JPEG,LZ77,LERC</AvailableCompressionMethods>
<AvailableItemMetadataLevels Sync="TRUE">None,Basic,Full</AvailableItemMetadataLevels>
<BandDefinitionKeyword Sync="TRUE">NONE</BandDefinitionKeyword>
<_docversion_ Sync="TRUE">10</_docversion_>
<AllowedFields Sync="TRUE">Name,MinPS,MaxPS,LowPS,HighPS,Tag,GroupName,ProductName,CenterX,CenterY,ZOrder,Shape_Length,Shape_Area</AllowedFields>
<MaxCellSize Sync="TRUE">18225</MaxCellSize>
<LowCellSize Sync="TRUE">2.5</LowCellSize>
<HighCellSize Sync="TRUE">1822.5</HighCellSize>
<PixelCacheLocation Sync="TRUE">C:\Users\Koelker_W\AppData\Local\ESRI\rasterproxies\NWFWMD</PixelCacheLocation>
<TimeStamp.RemoveItems Sync="TRUE">44914.895368588</TimeStamp.RemoveItems>
<TimeStamp.UpdateExtent Sync="TRUE">44914.9598432755</TimeStamp.UpdateExtent>
<AvailableFields Sync="TRUE">Name,MinPS,MaxPS,LowPS,HighPS,Tag,GroupName,ProductName,CenterX,CenterY,ZOrder,Shape_Length,Shape_Area</AvailableFields>
<SortableFields Sync="TRUE">MinPS,MaxPS,LowPS,HighPS,CenterX,CenterY,ZOrder,Shape_Length,Shape_Area</SortableFields>
<SortAscending Sync="TRUE">-1</SortAscending>
<MosaicOperator Sync="TRUE">1</MosaicOperator>
<BlendWidthUnits Sync="TRUE">1</BlendWidthUnits>
<ClipToFootprint Sync="TRUE">0</ClipToFootprint>
<ClipOverviewsToFootprint Sync="TRUE">0</ClipOverviewsToFootprint>
<HasDodgingTable Sync="TRUE">0</HasDodgingTable>
<ApplyColorCorrection Sync="TRUE">0</ApplyColorCorrection>
<UseTime Sync="TRUE">0</UseTime>
<StartTimeFieldName Sync="TRUE"/>
<EndTimeFieldName Sync="TRUE"/>
<TimeValueFormat Sync="TRUE"/>
<UseRange Sync="TRUE">0</UseRange>
<TimeInterval Sync="TRUE"/>
<TimeIntervalUnits Sync="TRUE"/>
</Properties>
<Functions Sync="TRUE">
<Function Description="Performs on-the-fly mosaic on a raster catalog." Name="Mosaic Function"/>
</Functions>
</RasterProperties>
</DataProperties>
<SyncDate>20221220</SyncDate>
<SyncTime>10024700</SyncTime>
<ModDate>20221220</ModDate>
<ModTime>10024700</ModTime>
</Esri>
<mdChar>
<CharSetCd value="004"/>
</mdChar>
<mdHrLv>
<ScopeCd value="005"/>
</mdHrLv>
<mdContact>
<rpOrgName>Dewberry</rpOrgName>
<rpCntInfo>
<cntPhone>
<voiceNum>(813)225-1325</voiceNum>
</cntPhone>
<cntAddress addressType="both">
<delPoint>1000 N Ashley Drive, suite 801</delPoint>
<city>Tampa</city>
<adminArea>FL</adminArea>
<postCode>33602</postCode>
<country>US</country>
</cntAddress>
</rpCntInfo>
<role>
<RoleCd value="007"/>
</role>
</mdContact>
<mdDateSt>20221220</mdDateSt>
<mdStanName>ArcGIS Metadata</mdStanName>
<mdStanVer>1.0</mdStanVer>
<dataIdInfo>
<idCitation>
<resTitle>NWFWMD</resTitle>
<date>
<pubDate>2020-12-17</pubDate>
</date>
<citRespParty>
<rpOrgName>Dewberry</rpOrgName>
<role>
<RoleCd value="006"/>
</role>
</citRespParty>
<presForm>
<PresFormCd value="005"/>
</presForm>
<presForm>
<fgdcGeoform>raster digital data</fgdcGeoform>
</presForm>
</idCitation>
<idAbs>Product: These are Digital Elevation Model (DEM) data for Florida Hurricane Michael, as part of the required deliverables for the 2020 Lidar project. Class 2 (ground) lidar points in conjunction with the hydro breaklines were used to create a 2.5 foot hydro-flattened Raster DEM Dataset Description: Hurricane Michael, Florida 2020 Lidar project called for the Planning, Acquisition, processing and derivative products of lidar data to be collected at a nominal pulse spacing (NPS) of 0.35 meter. Project specifications are based on the U.S. Geological Survey National Geospatial Program Base Lidar Specification, Version 2.1. The data was developed based on a horizontal datum/projection of NAD83 (2011), State Plane North, U.S Survey Feet and vertical datum of NAVD88 (GEOID12B), U.S Survey Feet. Ground Conditions: Lidar was collected in late 2019 and early 2020, while no snow was on the ground and rivers were at or below normal levels. In order to post process the lidar data to meet task order specifications and meet ASPRS vertical accuracy guidelines, Dewberry surveyed a total of 30 ground control points. Airborne Imaging was provided 15 ground control points, and utilized 14 ground control points to calibrate the lidar to known ground locations established throughout the Hurricane Michael, Florida project area. Addition independent accuracy checkpoints were collected by Dewberry but will not be delivered until the survey deliverables are finalized. These checkpoints were not used to calibrate or post process the data.</idAbs>
<idPurp>To acquire detailed surface elevation data for use in conservation planning, design, research, floodplain mapping, dam safety assessments and elevation modeling, etc. Classified LAS files are used to show the manually reviewed bare earth surface. This allows the user to create Intensity Images, Breaklines and Raster DEM. The purpose of these lidar data was to produce high accuracy 3D hydro-flattened Digital Elevation Model (DEM) with a 2.5 foot cell size. These raw lidar point cloud data were used to create classified lidar LAS files, intensity images, 3D breaklines, hydro-flattened DEMs as necessary.
This dataset is a collection of the data collected within the NWFWMD.</idPurp>
<idStatus>
<ProgCd value="001"/>
</idStatus>
<resMaint>
<maintFreq>
<MaintFreqCd value="011"/>
</maintFreq>
</resMaint>
<placeKeys>
<keyword>Florida</keyword>
<keyword>NWFWMD</keyword>
</placeKeys>
<themeKeys>
<keyword>Model</keyword>
<keyword>Raster</keyword>
<keyword>DEM</keyword>
<keyword>Remote Sensing</keyword>
<keyword>Elevation Data</keyword>
<keyword>Lidar</keyword>
</themeKeys>
<searchKeys>
<keyword>Model</keyword>
<keyword>Raster</keyword>
<keyword>DEM</keyword>
<keyword>Remote Sensing</keyword>
<keyword>Elevation Data</keyword>
<keyword>Lidar</keyword>
<keyword>Florida</keyword>
<keyword>NWFWMD</keyword>
</searchKeys>
<resConst>
<Consts>
<useLimit>None. However, users should be aware that temporal changes may have occurred since this dataset was collected and that some parts of these data may no longer represent actual surface conditions. Users should not use these data for critical applications without a full awareness of its limitations. Acknowledgement of the U.S. Geological Survey would be appreciated for products derived from these data.</useLimit>
</Consts>
</resConst>
<resConst>
<LegConsts>
<accessConsts>
<RestrictCd value="008"/>
</accessConsts>
<othConsts>No restrictions apply to these data.</othConsts>
</LegConsts>
</resConst>
<spatRpType>
<SpatRepTypCd value="002"/>
</spatRpType>
<dataExt>
<geoEle>
<GeoBndBox>
<exTypeCode>true</exTypeCode>
<westBL>-84.733078</westBL>
<eastBL>-83.813458</eastBL>
<northBL>30.374858</northBL>
<southBL>29.960623</southBL>
</GeoBndBox>
</geoEle>
</dataExt>
<dataExt>
<exDesc>ground condition</exDesc>
<tempEle>
<TempExtent>
<exTemp>
<TM_Period>
<tmBegin>2019-12-18</tmBegin>
<tmEnd>2020-01-07</tmEnd>
</TM_Period>
</exTemp>
</TempExtent>
</tempEle>
<geoEle/>
</dataExt>
<suppInfo>
Raster File Type = GeoTIFF
Bit Depth/Pixel Type = 32-bit float
Raster Cell Size = 2.5 Feet
Interpolation or Resampling Technique = Triangulated Irregular Network
Required Vertical Accuracy = 19.6 cm NVA
</suppInfo>
<envirDesc Sync="TRUE">Microsoft Windows 10 Version 10.0 (Build 19044) ; Esri ArcGIS 12.9.4.32739</envirDesc>
<dataLang>
<languageCode Sync="TRUE" value="eng"/>
<countryCode Sync="TRUE" value="USA"/>
</dataLang>
<dataExt>
<geoEle>
<GeoBndBox esriExtentType="search">
<exTypeCode Sync="TRUE">1</exTypeCode>
<westBL Sync="TRUE">-86.182290</westBL>
<eastBL Sync="TRUE">-83.657959</eastBL>
<northBL Sync="TRUE">31.009719</northBL>
<southBL Sync="TRUE">29.571030</southBL>
</GeoBndBox>
</geoEle>
</dataExt>
<idCredit/>
</dataIdInfo>
<mdMaint>
<maintFreq>
<MaintFreqCd value="012"/>
</maintFreq>
</mdMaint>
<mdConst>
<Consts>
<useLimit>None.</useLimit>
</Consts>
</mdConst>
<mdConst>
<LegConsts>
<accessConsts>
<RestrictCd value="008"/>
</accessConsts>
<othConsts>None.</othConsts>
</LegConsts>
</mdConst>
<mdConst>
<SecConsts>
<classSys>None.</classSys>
<handDesc>None.</handDesc>
</SecConsts>
</mdConst>
<dqInfo>
<dqScope>
<scpLvl>
<ScopeCd value="005"/>
</scpLvl>
</dqScope>
<report type="DQConcConsis">
<measDesc>Data covers the entire area specified for this project.</measDesc>
</report>
<report type="DQCompOm">
<measDesc>Datasets contain complete coverage of tiles. No points have been removed or excluded. A visual qualitative assessment was performed to ensure data completeness. There are no void areas or missing data. The raw point cloud is of good quality and data passes Non-Vegetated Vertical Accuracy specifications.</measDesc>
</report>
<dataLineage>
<prcStep>
<stepDesc>Hydro Flattened Raster DEM Process: Class 2 (ground) lidar points in conjunction with the hydro breaklines were used to create a 2.5 foot hydro-flattened Raster DEM. Using automated scripting routines within ArcMap, an GeoTIFF file was created for each tile. Each surface is reviewed using Global Mapper to check for any surface anomalies or incorrect elevations found within the surface.</stepDesc>
<stepDateTm>2020-11-15</stepDateTm>
</prcStep>
<prcStep>
<stepDesc>Data that collected within the NWFWMD was aggregated and stored within this dataset. </stepDesc>
<stepDateTm>2022-12-20</stepDateTm>
</prcStep>
</dataLineage>
</dqInfo>
<spatRepInfo>
<Georect>
<numDims>2</numDims>
<axisDimension type="001">
<dimSize>2000</dimSize>
<dimResol>
<value Sync="TRUE" uom="ftUS">2.500000</value>
</dimResol>
</axisDimension>
<axisDimension type="002">
<dimSize>2000</dimSize>
<dimResol>
<value Sync="TRUE" uom="ftUS">2.500000</value>
</dimResol>
</axisDimension>
<cellGeo>
<CellGeoCd Sync="TRUE" value="002"/>
</cellGeo>
<tranParaAv Sync="TRUE">1</tranParaAv>
<chkPtAv Sync="TRUE">0</chkPtAv>
<cornerPts>
<pos Sync="TRUE">1441367.500000 211502.500000</pos>
</cornerPts>
<cornerPts>
<pos Sync="TRUE">1441367.500000 730915.000000</pos>
</cornerPts>
<cornerPts>
<pos Sync="TRUE">2232332.500000 730915.000000</pos>
</cornerPts>
<cornerPts>
<pos Sync="TRUE">2232332.500000 211502.500000</pos>
</cornerPts>
<centerPt>
<pos Sync="TRUE">1836850.000000 471208.750000</pos>
</centerPt>
<ptInPixel>
<PixOrientCd Sync="TRUE" value="001"/>
</ptInPixel>
</Georect>
</spatRepInfo>
<mdLang>
<languageCode Sync="TRUE" value="eng"/>
<countryCode Sync="TRUE" value="USA"/>
</mdLang>
<refSysInfo>
<RefSystem>
<refSysID>
<identCode Sync="TRUE" code="6441"/>
<idCodeSpace Sync="TRUE">EPSG</idCodeSpace>
<idVersion Sync="TRUE">8.2.10(10.3.1)</idVersion>
</refSysID>
</RefSystem>
</refSysInfo>
<contInfo>
<ImgDesc>
<contentTyp>
<ContentTypCd Sync="TRUE" value="001"/>
</contentTyp>
<covDim>
<Band>
<dimDescrp Sync="TRUE">Band_1</dimDescrp>
<maxVal Sync="TRUE">126.956986</maxVal>
<minVal Sync="TRUE">91.903472</minVal>
<bitsPerVal Sync="TRUE">32</bitsPerVal>
<valUnit>
<UOM type="length"/>
</valUnit>
</Band>
</covDim>
</ImgDesc>
</contInfo>
</metadata>
