{
 "currentVersion": 11.1,
 "serviceDescription": "Product: These are Digital Elevation Model (DEM) data for Florida Hurricane Michael, as part of the required deliverables for the 2020 Lidar project. Class 2 (ground) lidar points in conjunction with the hydro breaklines were used to create a 2.5 foot hydro-flattened Raster DEM Dataset Description: Hurricane Michael, Florida 2020 Lidar project called for the Planning, Acquisition, processing and derivative products of lidar data to be collected at a nominal pulse spacing (NPS) of 0.35 meter. Project specifications are based on the U.S. Geological Survey National Geospatial Program Base Lidar Specification, Version 2.1. The data was developed based on a horizontal datum/projection of NAD83 (2011), State Plane North, U.S Survey Feet and vertical datum of NAVD88 (GEOID12B), U.S Survey Feet. Ground Conditions: Lidar was collected in late 2019 and early 2020, while no snow was on the ground and rivers were at or below normal levels. In order to post process the lidar data to meet task order specifications and meet ASPRS vertical accuracy guidelines, Dewberry surveyed a total of 30 ground control points. Airborne Imaging was provided 15 ground control points, and utilized 14 ground control points to calibrate the lidar to known ground locations established throughout the Hurricane Michael, Florida project area. Addition independent accuracy checkpoints were collected by Dewberry but will not be delivered until the survey deliverables are finalized. These checkpoints were not used to calibrate or post process the data.",
 "name": "FL_Peninsular_LiDAR/NWFWMD",
 "description": "Product: These are Digital Elevation Model (DEM) data for Florida Hurricane Michael, as part of the required deliverables for the 2020 Lidar project. Class 2 (ground) lidar points in conjunction with the hydro breaklines were used to create a 2.5 foot hydro-flattened Raster DEM Dataset Description: Hurricane Michael, Florida 2020 Lidar project called for the Planning, Acquisition, processing and derivative products of lidar data to be collected at a nominal pulse spacing (NPS) of 0.35 meter. Project specifications are based on the U.S. Geological Survey National Geospatial Program Base Lidar Specification, Version 2.1. The data was developed based on a horizontal datum/projection of NAD83 (2011), State Plane North, U.S Survey Feet and vertical datum of NAVD88 (GEOID12B), U.S Survey Feet. Ground Conditions: Lidar was collected in late 2019 and early 2020, while no snow was on the ground and rivers were at or below normal levels. In order to post process the lidar data to meet task order specifications and meet ASPRS vertical accuracy guidelines, Dewberry surveyed a total of 30 ground control points. Airborne Imaging was provided 15 ground control points, and utilized 14 ground control points to calibrate the lidar to known ground locations established throughout the Hurricane Michael, Florida project area. Addition independent accuracy checkpoints were collected by Dewberry but will not be delivered until the survey deliverables are finalized. These checkpoints were not used to calibrate or post process the data.",
 "extent": {
  "xmin": 1441367.5,
  "ymin": 211502.5,
  "xmax": 2232332.5,
  "ymax": 730915,
  "spatialReference": {
   "wkid": 103024,
   "latestWkid": 6441
  }
 },
 "initialExtent": {
  "xmin": 1441367.5,
  "ymin": 211502.5,
  "xmax": 2232332.5,
  "ymax": 730915,
  "spatialReference": {
   "wkid": 103024,
   "latestWkid": 6441
  }
 },
 "fullExtent": {
  "xmin": 1441367.5,
  "ymin": 211502.5,
  "xmax": 2232332.5,
  "ymax": 730915,
  "spatialReference": {
   "wkid": 103024,
   "latestWkid": 6441
  }
 },
 "sortableFields": "MinPS,MaxPS,LowPS,HighPS,CenterX,CenterY,ZOrder,Shape_Length,Shape_Area",
 "bandCount": 1,
 "pixelType": "F32",
 "minValues": [
  91.9034720659256
 ],
 "maxValues": [
  126.95698630809784
 ],
 "meanValues": [
  113.20294199625748
 ],
 "stdvValues": [
  9.990226792576903
 ],
 "hasMultidimensions": false,
 "pixelSizeX": 2.5,
 "pixelSizeY": 2.5,
 "datasetFormat": "AMD",
 "uncompressedSize": 262935749160,
 "blockWidth": 2048,
 "blockHeight": 256,
 "compressionType": "None",
 "bandNames": [
  "Band_1"
 ],
 "allowCopy": true,
 "allowAnalysis": true,
 "itemAccess": false,
 "minPixelSize": 0,
 "maxPixelSize": 0,
 "copyrightText": "",
 "serviceDataType": "esriImageServiceDataTypeGeneric",
 "serviceSourceType": "esriImageServiceSourceTypeMosaicDataset",
 "objectIdField": "OBJECTID",
 "fields": [
  {
   "name": "OBJECTID",
   "type": "esriFieldTypeOID",
   "alias": "OBJECTID",
   "domain": null
  },
  {
   "name": "Shape",
   "type": "esriFieldTypeGeometry",
   "alias": "Shape",
   "domain": null
  },
  {
   "name": "Name",
   "type": "esriFieldTypeString",
   "alias": "Name",
   "domain": null,
   "length": 200
  },
  {
   "name": "MinPS",
   "type": "esriFieldTypeDouble",
   "alias": "MinPS",
   "domain": null
  },
  {
   "name": "MaxPS",
   "type": "esriFieldTypeDouble",
   "alias": "MaxPS",
   "domain": null
  },
  {
   "name": "LowPS",
   "type": "esriFieldTypeDouble",
   "alias": "LowPS",
   "domain": null
  },
  {
   "name": "HighPS",
   "type": "esriFieldTypeDouble",
   "alias": "HighPS",
   "domain": null
  },
  {
   "name": "Category",
   "type": "esriFieldTypeInteger",
   "alias": "Category",
   "domain": {
    "type": "codedValue",
    "name": "MosaicCatalogItemCategoryDomain",
    "description": "Catalog item categories.",
    "codedValues": [
     {
      "name": "Unknown",
      "code": 0
     },
     {
      "name": "Primary",
      "code": 1
     },
     {
      "name": "Overview",
      "code": 2
     },
     {
      "name": "Unprocessed Overview",
      "code": 3
     },
     {
      "name": "Partial Overview",
      "code": 4
     },
     {
      "name": "Inactive",
      "code": 5
     },
     {
      "name": "Uploaded",
      "code": 253
     },
     {
      "name": "Incomplete",
      "code": 254
     },
     {
      "name": "Custom",
      "code": 255
     }
    ],
    "mergePolicy": "esriMPTDefaultValue",
    "splitPolicy": "esriSPTDefaultValue"
   }
  },
  {
   "name": "Tag",
   "type": "esriFieldTypeString",
   "alias": "Tag",
   "domain": null,
   "length": 100
  },
  {
   "name": "GroupName",
   "type": "esriFieldTypeString",
   "alias": "GroupName",
   "domain": null,
   "length": 100
  },
  {
   "name": "ProductName",
   "type": "esriFieldTypeString",
   "alias": "ProductName",
   "domain": null,
   "length": 100
  },
  {
   "name": "CenterX",
   "type": "esriFieldTypeDouble",
   "alias": "CenterX",
   "domain": null
  },
  {
   "name": "CenterY",
   "type": "esriFieldTypeDouble",
   "alias": "CenterY",
   "domain": null
  },
  {
   "name": "ZOrder",
   "type": "esriFieldTypeInteger",
   "alias": "ZOrder",
   "domain": null
  },
  {
   "name": "Shape_Length",
   "type": "esriFieldTypeDouble",
   "alias": "Shape_Length",
   "domain": null
  },
  {
   "name": "Shape_Area",
   "type": "esriFieldTypeDouble",
   "alias": "Shape_Area",
   "domain": null
  }
 ],
 "capabilities": "Image,Metadata,Catalog,Mensuration",
 "defaultMosaicMethod": "Northwest",
 "allowedMosaicMethods": "NorthWest,Center,LockRaster,ByAttribute,Nadir,Viewpoint,Seamline,None",
 "sortField": "",
 "sortValue": null,
 "sortAscending": true,
 "mosaicOperator": "First",
 "maxDownloadSizeLimit": 2048,
 "defaultCompressionQuality": 75,
 "defaultResamplingMethod": "Bilinear",
 "maxImageHeight": 4100,
 "maxImageWidth": 15000,
 "maxRecordCount": 1000,
 "maxDownloadImageCount": 20,
 "maxMosaicImageCount": 10000,
 "allowRasterFunction": true,
 "rasterFunctionInfos": [
  {
   "name": "None",
   "description": "",
   "help": ""
  }
 ],
 "rasterTypeInfos": [
  {
   "name": "Raster Dataset",
   "description": "Supports all ArcGIS Raster Datasets",
   "help": ""
  }
 ],
 "mensurationCapabilities": "Basic",
 "hasHistograms": true,
 "hasColormap": false,
 "hasRasterAttributeTable": false,
 "minScale": 0,
 "maxScale": 0,
 "exportTilesAllowed": false,
 "supportsStatistics": true,
 "supportsAdvancedQueries": true,
 "editFieldsInfo": null,
 "ownershipBasedAccessControlForRasters": null,
 "allowComputeTiePoints": false,
 "useStandardizedQueries": true,
 "advancedQueryCapabilities": {
  "useStandardizedQueries": true,
  "supportsStatistics": true,
  "supportsOrderBy": true,
  "supportsDistinct": true,
  "supportsPagination": true
 },
 "spatialReference": {
  "wkid": 103024,
  "latestWkid": 6441
 }
}
