{ "currentVersion": 11.1, "serviceDescription": "
The digital imagery has been prepared for use in GIS systems and is also suitable for hard copy plots. The images are high resolution (0.5 foot pixel) low altitude color aerial photography. The coastal counties, flight date and source if other than this Bureau included in this project are: Bay 4/30/08, Brevard 4/28/06, Broward 4/25/06, Charlotte 1/08 DOT, Collier 12/30/08 County, Dade 4/25/06, Duval 3/29/07, Escambia 4/29/08, Flagler 3/28/07, Franklin 4/30/08, Gulf 4/30/08, Indian River 4/26/06, Lee 1/08 DOT, Manatee 1/08 DOT, Martin 4/28/06, Nassau 3/29/07, Okaloosa 7/10/07, Palm Beach 4/25/06, Pinellas 1/08 DOT, Sarasota 1/08 DOT, St. Johns 3/29/07, St. Lucie 4/26/06, Volusia 3/28/07 and Walton 7/10/07. Photos acquired by BBCS are approximately 3000 ft. inland and 1500 ft. seaward of the beach. Accuracy for the entire project is 2 ft. Accuracy of individual photos may vary but no photo is over the six foot allowable error. Photos collected from other sources have a similar accuracy standards but since we have no control on the flight path seaward extent maybe limited.<\/SPAN><\/SPAN><\/P> <\/P><\/DIV><\/DIV>",
"name": "RCP/Beaches_2008",
"description": " The digital imagery has been prepared for use in GIS systems and is also suitable for hard copy plots. The images are high resolution (0.5 foot pixel) low altitude color aerial photography. The coastal counties, flight date and source if other than this Bureau included in this project are: Bay 4/30/08, Brevard 4/28/06, Broward 4/25/06, Charlotte 1/08 DOT, Collier 12/30/08 County, Dade 4/25/06, Duval 3/29/07, Escambia 4/29/08, Flagler 3/28/07, Franklin 4/30/08, Gulf 4/30/08, Indian River 4/26/06, Lee 1/08 DOT, Manatee 1/08 DOT, Martin 4/28/06, Nassau 3/29/07, Okaloosa 7/10/07, Palm Beach 4/25/06, Pinellas 1/08 DOT, Sarasota 1/08 DOT, St. Johns 3/29/07, St. Lucie 4/26/06, Volusia 3/28/07 and Walton 7/10/07. Photos acquired by BBCS are approximately 3000 ft. inland and 1500 ft. seaward of the beach. Accuracy for the entire project is 2 ft. Accuracy of individual photos may vary but no photo is over the six foot allowable error. Photos collected from other sources have a similar accuracy standards but since we have no control on the flight path seaward extent maybe limited.<\/SPAN><\/SPAN><\/P> <\/P><\/DIV><\/DIV>",
"extent": {
"xmin": 61360.613499999046,
"ymin": 189996.62162270793,
"xmax": 795215.0204088129,
"ymax": 750085.2678000004,
"spatialReference": {
"wkid": 3087,
"latestWkid": 3087
}
},
"initialExtent": {
"xmin": 61360.613499999046,
"ymin": 189996.62162270793,
"xmax": 795215.0204088129,
"ymax": 750085.2678000004,
"spatialReference": {
"wkid": 3087,
"latestWkid": 3087
}
},
"fullExtent": {
"xmin": 61360.613499999046,
"ymin": 189996.62162270793,
"xmax": 795215.0204088129,
"ymax": 750085.2678000004,
"spatialReference": {
"wkid": 3087,
"latestWkid": 3087
}
},
"sortableFields": "LowPS",
"bandCount": 3,
"pixelType": "U8",
"minValues": [
0,
0,
0
],
"maxValues": [
255,
255,
255
],
"meanValues": [
81.0214969048959,
98.03725379853687,
88.6901519414744
],
"stdvValues": [
53.64761422623515,
54.4219497261746,
51.56049325926781
],
"hasMultidimensions": false,
"pixelSizeX": 0.15240030480060962,
"pixelSizeY": 0.15240030480060962,
"datasetFormat": "AMD",
"uncompressedSize": 53090431981260,
"blockWidth": 2048,
"blockHeight": 256,
"compressionType": "None",
"bandNames": [
"Band_1",
"Band_2",
"Band_3"
],
"allowCopy": true,
"allowAnalysis": true,
"itemAccess": false,
"minPixelSize": 0,
"maxPixelSize": 0,
"copyrightText": "",
"serviceDataType": "esriImageServiceDataTypeRGB",
"serviceSourceType": "esriImageServiceSourceTypeMosaicDataset",
"objectIdField": "OBJECTID",
"fields": [
{
"name": "OBJECTID",
"type": "esriFieldTypeOID",
"alias": "OBJECTID",
"domain": null
},
{
"name": "Shape",
"type": "esriFieldTypeGeometry",
"alias": "Shape",
"domain": null
},
{
"name": "Name",
"type": "esriFieldTypeString",
"alias": "Name",
"domain": null,
"length": 50
},
{
"name": "LowPS",
"type": "esriFieldTypeDouble",
"alias": "LowPS",
"domain": null
},
{
"name": "Category",
"type": "esriFieldTypeInteger",
"alias": "Category",
"domain": {
"type": "codedValue",
"name": "MosaicCatalogItemCategoryDomain",
"description": "Catalog item categories.",
"codedValues": [
{
"name": "Unknown",
"code": 0
},
{
"name": "Primary",
"code": 1
},
{
"name": "Overview",
"code": 2
},
{
"name": "Unprocessed Overview",
"code": 3
},
{
"name": "Partial Overview",
"code": 4
},
{
"name": "Uploaded",
"code": 253
},
{
"name": "Incomplete",
"code": 254
},
{
"name": "Custom",
"code": 255
}
],
"mergePolicy": "esriMPTDefaultValue",
"splitPolicy": "esriSPTDefaultValue"
}
}
],
"capabilities": "Image,Metadata,Catalog,Mensuration",
"defaultMosaicMethod": "Center",
"allowedMosaicMethods": "Center,NorthWest,ByAttribute",
"sortField": "",
"sortValue": null,
"sortAscending": true,
"mosaicOperator": "First",
"maxDownloadSizeLimit": 2048,
"defaultCompressionQuality": 75,
"defaultResamplingMethod": "Bilinear",
"maxImageHeight": 4100,
"maxImageWidth": 15000,
"maxRecordCount": 1000,
"maxDownloadImageCount": 20,
"maxMosaicImageCount": 20,
"allowRasterFunction": true,
"rasterFunctionInfos": [
{
"name": "None",
"description": "",
"help": ""
}
],
"rasterTypeInfos": [
{
"name": "Raster Dataset",
"description": "Supports all ArcGIS Raster Datasets",
"help": ""
}
],
"mensurationCapabilities": "Basic",
"hasHistograms": true,
"hasColormap": false,
"hasRasterAttributeTable": false,
"minScale": 0,
"maxScale": 0,
"exportTilesAllowed": false,
"supportsStatistics": true,
"supportsAdvancedQueries": true,
"editFieldsInfo": null,
"ownershipBasedAccessControlForRasters": null,
"allowComputeTiePoints": false,
"useStandardizedQueries": true,
"advancedQueryCapabilities": {
"useStandardizedQueries": true,
"supportsStatistics": true,
"supportsOrderBy": true,
"supportsDistinct": true,
"supportsPagination": true
},
"spatialReference": {
"wkid": 3087,
"latestWkid": 3087
}
}