View In:
ArcGIS JavaScript
ArcGIS Online Map Viewer
ArcGIS Earth
Service Description: The georeferenced aerial tiles were obtained from the Northwest Florida Water Management District (NWFWMD) and were then projected to FDEP Albers Harn and mosaicked using MosaicPro within ERDAS IMAGINE 2014 software by the Beaches, Mining, and ERP Support (BMES) Program. The tiles provided to the BMES Program, of the Division of Water Resource Management, were either obtained from the University of Florida (UF), http://ufdcweb1.uflib.ufl.edu/aerials, or from the Florida Department of Transportation (FDOT), https://fdotewp1.dot.state.fl.us/AerialPhotoLookUpSystem/. It is understood that the tiles were georeferenced within ArcMap by various staff within the NWFWMD. The Leon county tiles were obtained from TLC-GIS and the imagery was taken in May 1941.
Please contact GIS.Librarian@FloridaDEP.gov for more information.
Name: Imagery/Aerial_Imagery_1940s
Description: The georeferenced aerial tiles were obtained from the Northwest Florida Water Management District (NWFWMD) and were then projected to FDEP Albers Harn and mosaicked using MosaicPro within ERDAS IMAGINE 2014 software by the Beaches, Mining, and ERP Support (BMES) Program. The tiles provided to the BMES Program, of the Division of Water Resource Management, were either obtained from the University of Florida (UF), http://ufdcweb1.uflib.ufl.edu/aerials, or from the Florida Department of Transportation (FDOT), https://fdotewp1.dot.state.fl.us/AerialPhotoLookUpSystem/. It is understood that the tiles were georeferenced within ArcMap by various staff within the NWFWMD. The Leon county tiles were obtained from TLC-GIS and the imagery was taken in May 1941.
Please contact GIS.Librarian@FloridaDEP.gov for more information.
Single Fused Map Cache: false
Extent:
XMin: -9756309.44021021
YMin: 2817737.9304056764
XMax: -8907016.417014167
YMax: 3639292.271858166
Spatial Reference: 102100
(3857)
LatestVCSWkid(0)
Initial Extent:
XMin: -9756309.44021021
YMin: 2817737.9304056764
XMax: -8907016.417014167
YMax: 3639292.271858166
Spatial Reference: 102100
(3857)
LatestVCSWkid(0)
Full Extent:
XMin: -9756309.44021021
YMin: 2817737.9304056764
XMax: -8907016.417014167
YMax: 3639292.271858166
Spatial Reference: 102100
(3857)
LatestVCSWkid(0)
Pixel Size X: 0.4906375007703895
Pixel Size Y: 0.49063750077039003
Band Count: 1
Pixel Type: U8
RasterFunction Infos: {"rasterFunctionInfos": [{
"name": "None",
"description": "",
"help": ""
}]}
Mensuration Capabilities:
Has Histograms: true
Has Colormap: false
Has Multi Dimensions : false
Rendering Rule:
Min Scale: 0
Max Scale: 0
Copyright Text:
Service Data Type: esriImageServiceDataTypeGeneric
Min Values: 0
Max Values: 255
Mean Values: 116.276593234098
Standard Deviation Values: 59.01542748762221
Object ID Field: OBJECTID
Fields:
-
OBJECTID
(
type: esriFieldTypeOID, alias: OBJECTID
)
-
Shape
(
type: esriFieldTypeGeometry, alias: Shape
)
-
Name
(
type: esriFieldTypeString, alias: Name, length: 200
)
-
LowPS
(
type: esriFieldTypeDouble, alias: LowPS
)
-
Category
(
type: esriFieldTypeInteger, alias: Category
, Coded Values:
[0: Unknown]
, [1: Primary]
, [2: Overview]
, ...6 more...
)
Default Mosaic Method: Center
Allowed Mosaic Methods: Center,NorthWest,ByAttribute
SortField:
SortValue: null
Mosaic Operator: First
Default Compression Quality: 75
Default Resampling Method: Bilinear
Max Record Count: 1000
Max Image Height: 4100
Max Image Width: 15000
Max Download Image Count: 20
Max Mosaic Image Count: 20
Allow Raster Function: true
Allow Copy: true
Allow Analysis: true
Allow Compute TiePoints: false
Supports Statistics: true
Supports Advanced Queries: true
Use StandardizedQueries: true
Raster Type Infos:
Name: Raster Dataset
Description: Supports all ArcGIS Raster Datasets
Help:
Has Raster Attribute Table: false
Edit Fields Info: null
Ownership Based AccessControl For Rasters: null
Child Resources:
Info
Histograms
Statistics
Key Properties
Legend
Raster Function Infos
Supported Operations:
Export Image
Query
Identify
Compute Histograms
Compute Statistics Histograms
Get Samples
Compute Class Statistics
Query Boundary
Compute Pixel Location
Compute Angles
Validate
Project