View In:
ArcGIS JavaScript
ArcGIS Online Map Viewer
ArcGIS Earth
Service Description: 1 ft ortho rectified imagery for the counties flown in the October 2007 - April 2008 flight acquistion cycle. This imagery layer was rebuilt in ArcGIS 10.2.2 as a raster mosaic dataset using MrSID imagery for the data source and published in ArcGIS Server 10.2.2 as a Image Service. This dataset has been published as a ArcGIS Server Image Service for easier maintenance and improved performance. Counties covered in this dataset are: Nassau, Baker, Duval, Clay, St. Johns, Putnam, Alachua, Flagler, Levy, Marion, Lake, Orange, Osceola, Polk, Hendry, Charlotte, and Lee. Please contact GIS.Librarian@FloridaDEP.gov for more information.
Name: Imagery/Aerial_Imagery_2008
Description: 1 ft ortho rectified imagery for the counties flown in the October 2007 - April 2008 flight acquistion cycle. This imagery layer was rebuilt in ArcGIS 10.2.2 as a raster mosaic dataset using MrSID imagery for the data source and published in ArcGIS Server 10.2.2 as a Image Service. This dataset has been published as a ArcGIS Server Image Service for easier maintenance and improved performance. Counties covered in this dataset are: Nassau, Baker, Duval, Clay, St. Johns, Putnam, Alachua, Flagler, Levy, Marion, Lake, Orange, Osceola, Polk, Hendry, Charlotte, and Lee. Please contact GIS.Librarian@FloridaDEP.gov for more information.
Single Fused Map Cache: false
Extent:
XMin: 479522.40239999816
YMin: 251984.07730314904
XMax: 712501.4727581389
YMax: 760382.5024999995
Spatial Reference: 3087
(3087)
LatestVCSWkid(0)
Initial Extent:
XMin: 479522.40239999816
YMin: 251984.07730314904
XMax: 712501.4727581389
YMax: 760382.5024999995
Spatial Reference: 3087
(3087)
LatestVCSWkid(0)
Full Extent:
XMin: 479522.40239999816
YMin: 251984.07730314904
XMax: 712501.4727581389
YMax: 760382.5024999995
Spatial Reference: 3087
(3087)
LatestVCSWkid(0)
Pixel Size X: 0.15240030480060962
Pixel Size Y: 0.15240030480060962
Band Count: 3
Pixel Type: U8
RasterFunction Infos: {"rasterFunctionInfos": [{
"name": "None",
"description": "A No-Op Function.",
"help": ""
}]}
Mensuration Capabilities: None
Has Histograms: true
Has Colormap: false
Has Multi Dimensions : false
Rendering Rule:
Min Scale: 0
Max Scale: 0
Copyright Text: FDOT, FREAC
Service Data Type: esriImageServiceDataTypeRGB
Min Values: 0, 0, 0
Max Values: 255, 255, 255
Mean Values: 89.11245448144811, 98.17067532749384, 85.40100992512625
Standard Deviation Values: 31.12569214216365, 26.58746259053149, 23.839909928001987
Object ID Field: OBJECTID
Fields:
-
OBJECTID
(
type: esriFieldTypeOID, alias: OBJECTID
)
-
Shape
(
type: esriFieldTypeGeometry, alias: Shape
)
-
Name
(
type: esriFieldTypeString, alias: Name, length: 50
)
-
MinPS
(
type: esriFieldTypeDouble, alias: MinPS
)
-
MaxPS
(
type: esriFieldTypeDouble, alias: MaxPS
)
-
LowPS
(
type: esriFieldTypeDouble, alias: LowPS
)
-
HighPS
(
type: esriFieldTypeDouble, alias: HighPS
)
-
Category
(
type: esriFieldTypeInteger, alias: Category
, Coded Values:
[0: Unknown]
, [1: Primary]
, [2: Overview]
, ...5 more...
)
-
Tag
(
type: esriFieldTypeString, alias: Tag, length: 20
)
-
GroupName
(
type: esriFieldTypeString, alias: GroupName, length: 50
)
-
ProductName
(
type: esriFieldTypeString, alias: ProductName, length: 50
)
-
CenterX
(
type: esriFieldTypeDouble, alias: CenterX
)
-
CenterY
(
type: esriFieldTypeDouble, alias: CenterY
)
-
ZOrder
(
type: esriFieldTypeInteger, alias: ZOrder
)
-
Shape_Length
(
type: esriFieldTypeDouble, alias: Shape_Length
)
-
Shape_Area
(
type: esriFieldTypeDouble, alias: Shape_Area
)
Default Mosaic Method: Northwest
Allowed Mosaic Methods: NorthWest,Center,LockRaster,ByAttribute,Nadir,Viewpoint,Seamline,None
SortField:
SortValue: null
Mosaic Operator: First
Default Compression Quality: 80
Default Resampling Method: Bilinear
Max Record Count: 1000
Max Image Height: 4100
Max Image Width: 15000
Max Download Image Count: 20
Max Mosaic Image Count: 20
Allow Raster Function: true
Allow Copy: true
Allow Analysis: true
Allow Compute TiePoints: false
Supports Statistics: true
Supports Advanced Queries: true
Use StandardizedQueries: true
Raster Type Infos:
Name: Raster Dataset
Description: Supports all ArcGIS Raster Datasets
Help:
Has Raster Attribute Table: false
Edit Fields Info: null
Ownership Based AccessControl For Rasters: null
Child Resources:
Info
Histograms
Statistics
Key Properties
Legend
Raster Function Infos
Supported Operations:
Export Image
Query
Identify
Compute Histograms
Compute Statistics Histograms
Get Samples
Compute Class Statistics
Query Boundary
Compute Pixel Location
Compute Angles
Validate
Project