View In:
ArcGIS JavaScript
ArcGIS Online Map Viewer
ArcGIS Earth
Service Description: This imagery service contains digital orthoimagery covering Hendry, Highlands, Levy, St. Lucie ,Alachua, Nassau Putnam, St. Johns, Charlotte, Citrus, De Soto, Hardee, Hernando, Hillsborough, Manatee, Pasco, Pinellas, Polk, Sarasota, Sumter, counties. This 1"=200' scale imagery is comprised of natural color orthoimagery with a GSD (Ground Sample Distance) of 1.0'. Imagery was collected with the Leica ADS40 digital sensor and processed with Leica GPro software.
Name: Imagery/Aerial_Imagery_2011
Description: This imagery service contains digital orthoimagery covering Hendry, Highlands, Levy, St. Lucie ,Alachua, Nassau Putnam, St. Johns, Charlotte, Citrus, De Soto, Hardee, Hernando, Hillsborough, Manatee, Pasco, Pinellas, Polk, Sarasota, Sumter, counties. This 1"=200' scale imagery is comprised of natural color orthoimagery with a GSD (Ground Sample Distance) of 1.0'. Imagery was collected with the Leica ADS40 digital sensor and processed with Leica GPro software.
Single Fused Map Cache: false
Extent:
XMin: 479471.27490000054
YMin: 251984.05901511246
XMax: 795735.0208994925
YMax: 760382.5024999995
Spatial Reference: 3087
(3087)
LatestVCSWkid(0)
Initial Extent:
XMin: 479471.27490000054
YMin: 251984.05901511246
XMax: 795735.0208994925
YMax: 760382.5024999995
Spatial Reference: 3087
(3087)
LatestVCSWkid(0)
Full Extent:
XMin: 479471.27490000054
YMin: 251984.05901511246
XMax: 795735.0208994925
YMax: 760382.5024999995
Spatial Reference: 3087
(3087)
LatestVCSWkid(0)
Pixel Size X: 0.09753619507239014
Pixel Size Y: 0.09753619507239016
Band Count: 3
Pixel Type: U8
RasterFunction Infos: {"rasterFunctionInfos": [{
"name": "None",
"description": "",
"help": ""
}]}
Mensuration Capabilities: Basic
Has Histograms: true
Has Colormap: false
Has Multi Dimensions : false
Rendering Rule:
Min Scale: 0
Max Scale: 0
Copyright Text: Florida Department of Revenue and Kucera International Inc.
Service Data Type: esriImageServiceDataTypeRGB
Min Values: 0, 0, 0
Max Values: 255, 255, 255
Mean Values: 94.37217784326904, 100.21854910983575, 88.70580847250228
Standard Deviation Values: 34.92041281554854, 28.7022551412247, 25.17753571105858
Object ID Field: OBJECTID
Fields:
-
OBJECTID
(
type: esriFieldTypeOID, alias: OBJECTID
)
-
Shape
(
type: esriFieldTypeGeometry, alias: Shape
)
-
Name
(
type: esriFieldTypeString, alias: Name, length: 50
)
-
MinPS
(
type: esriFieldTypeDouble, alias: MinPS
)
-
MaxPS
(
type: esriFieldTypeDouble, alias: MaxPS
)
-
LowPS
(
type: esriFieldTypeDouble, alias: LowPS
)
-
HighPS
(
type: esriFieldTypeDouble, alias: HighPS
)
-
Category
(
type: esriFieldTypeInteger, alias: Category
, Coded Values:
[0: Unknown]
, [1: Primary]
, [2: Overview]
, ...5 more...
)
-
Tag
(
type: esriFieldTypeString, alias: Tag, length: 20
)
-
GroupName
(
type: esriFieldTypeString, alias: GroupName, length: 50
)
-
ProductName
(
type: esriFieldTypeString, alias: ProductName, length: 50
)
-
CenterX
(
type: esriFieldTypeDouble, alias: CenterX
)
-
CenterY
(
type: esriFieldTypeDouble, alias: CenterY
)
-
ZOrder
(
type: esriFieldTypeInteger, alias: ZOrder
)
-
Shape_Length
(
type: esriFieldTypeDouble, alias: Shape_Length
)
-
Shape_Area
(
type: esriFieldTypeDouble, alias: Shape_Area
)
Default Mosaic Method: Northwest
Allowed Mosaic Methods: NorthWest,Center,LockRaster,ByAttribute,Nadir,Viewpoint,Seamline,None
SortField:
SortValue: null
Mosaic Operator: First
Default Compression Quality: 75
Default Resampling Method: Bilinear
Max Record Count: 1000
Max Image Height: 4100
Max Image Width: 15000
Max Download Image Count: 20
Max Mosaic Image Count: 20
Allow Raster Function: true
Allow Copy: true
Allow Analysis: true
Allow Compute TiePoints: false
Supports Statistics: true
Supports Advanced Queries: true
Use StandardizedQueries: true
Raster Type Infos:
Name: Raster Dataset
Description: Supports all ArcGIS Raster Datasets
Help:
Has Raster Attribute Table: false
Edit Fields Info: null
Ownership Based AccessControl For Rasters: null
Child Resources:
Info
Histograms
Statistics
Key Properties
Legend
Raster Function Infos
Supported Operations:
Export Image
Query
Identify
Measure
Compute Histograms
Compute Statistics Histograms
Get Samples
Compute Class Statistics
Query Boundary
Compute Pixel Location
Compute Angles
Validate
Project