View In:
ArcGIS JavaScript
ArcGIS Online Map Viewer
ArcGIS Earth
Service Description: This imagery service contains natural color orthophotos covering counties that had imagery captured from October 2011 till spring 2012. An orthophoto is remotely sensed image data in which displacement of features in the image caused by terrain relief and sensor orientation have been mathematically removed. Orthophotography combines the image characteristics of a photograph with the geometric qualities of a map. Counties covered in this dataset are: Brevard, Broward (partial), Collier, Glades, Holmes, Indian River, Leon, Martin, Miami-Dade, Monroe, Okeechobee, Orange, Seminole, St. Lucie, Volusia, and Washington. Please contact GIS.Librarian@FloridaDEP.gov for more information.
Name: Imagery/Aerial_Imagery_2012
Description: This imagery service contains natural color orthophotos covering counties that had imagery captured from October 2011 till spring 2012. An orthophoto is remotely sensed image data in which displacement of features in the image caused by terrain relief and sensor orientation have been mathematically removed. Orthophotography combines the image characteristics of a photograph with the geometric qualities of a map. Counties covered in this dataset are: Brevard, Broward (partial), Collier, Glades, Holmes, Indian River, Leon, Martin, Miami-Dade, Monroe, Okeechobee, Orange, Seminole, St. Lucie, Volusia, and Washington. Please contact GIS.Librarian@FloridaDEP.gov for more information.
Single Fused Map Cache: false
Extent:
XMin: 203369.79129999876
YMin: 34444.05894010654
XMax: 792881.6754757672
YMax: 778270.0055999999
Spatial Reference: 3087
(3087)
LatestVCSWkid(0)
Initial Extent:
XMin: 203369.79129999876
YMin: 34444.05894010654
XMax: 792881.6754757672
YMax: 778270.0055999999
Spatial Reference: 3087
(3087)
LatestVCSWkid(0)
Full Extent:
XMin: 203369.79129999876
YMin: 34444.05894010654
XMax: 792881.6754757672
YMax: 778270.0055999999
Spatial Reference: 3087
(3087)
LatestVCSWkid(0)
Pixel Size X: 0.09753619507239017
Pixel Size Y: 0.09753619507239016
Band Count: 3
Pixel Type: U8
RasterFunction Infos: {"rasterFunctionInfos": [{
"name": "None",
"description": "A No-Op Function.",
"help": ""
}]}
Mensuration Capabilities: None
Has Histograms: true
Has Colormap: false
Has Multi Dimensions : false
Rendering Rule:
Min Scale: 0
Max Scale: 0
Copyright Text: FREAC
Service Data Type: esriImageServiceDataTypeRGB
Min Values: 0, 0, 0
Max Values: 255, 255, 255
Mean Values: 97.96477103096375, 103.19251697404523, 88.79933548418207
Standard Deviation Values: 27.441805888229933, 25.87789151818713, 24.831870451271044
Object ID Field: OBJECTID
Fields:
-
OBJECTID
(
type: esriFieldTypeOID, alias: OBJECTID
)
-
Shape
(
type: esriFieldTypeGeometry, alias: Shape
)
-
Name
(
type: esriFieldTypeString, alias: Name, length: 200
)
-
MinPS
(
type: esriFieldTypeDouble, alias: MinPS
)
-
MaxPS
(
type: esriFieldTypeDouble, alias: MaxPS
)
-
LowPS
(
type: esriFieldTypeDouble, alias: LowPS
)
-
HighPS
(
type: esriFieldTypeDouble, alias: HighPS
)
-
Category
(
type: esriFieldTypeInteger, alias: Category
, Coded Values:
[0: Unknown]
, [1: Primary]
, [2: Overview]
, ...6 more...
)
-
Tag
(
type: esriFieldTypeString, alias: Tag, length: 100
)
-
GroupName
(
type: esriFieldTypeString, alias: GroupName, length: 100
)
-
ProductName
(
type: esriFieldTypeString, alias: ProductName, length: 100
)
-
CenterX
(
type: esriFieldTypeDouble, alias: CenterX
)
-
CenterY
(
type: esriFieldTypeDouble, alias: CenterY
)
-
ZOrder
(
type: esriFieldTypeInteger, alias: ZOrder
)
-
Shape_Length
(
type: esriFieldTypeDouble, alias: Shape_Length
)
-
Shape_Area
(
type: esriFieldTypeDouble, alias: Shape_Area
)
Default Mosaic Method: Center
Allowed Mosaic Methods: Center,NorthWest,LockRaster,ByAttribute
SortField:
SortValue: null
Mosaic Operator: First
Default Compression Quality: 75
Default Resampling Method: Bilinear
Max Record Count: 1000
Max Image Height: 4100
Max Image Width: 15000
Max Download Image Count: 20
Max Mosaic Image Count: 20
Allow Raster Function: true
Allow Copy: true
Allow Analysis: true
Allow Compute TiePoints: false
Supports Statistics: true
Supports Advanced Queries: true
Use StandardizedQueries: true
Raster Type Infos:
Name: Raster Dataset
Description: Supports all ArcGIS Raster Datasets
Help:
Has Raster Attribute Table: false
Edit Fields Info: null
Ownership Based AccessControl For Rasters: null
Child Resources:
Info
Histograms
Statistics
Key Properties
Legend
Raster Function Infos
Supported Operations:
Export Image
Query
Identify
Compute Histograms
Compute Statistics Histograms
Get Samples
Compute Class Statistics
Query Boundary
Compute Pixel Location
Compute Angles
Validate
Project