View In:
ArcGIS JavaScript
ArcGIS Online Map Viewer
ArcGIS Earth
Service Description: This imagery service contains natural color orthophotos covering counties that had imagery captured from October 2017 through June 2018. An orthophoto is remotely sensed image data in which displacement of features in the image caused by terrain relief and sensor orientation have been mathematically removed. Orthophotography combines the image characteristics of a photograph with the geometric qualities of a map. Counties covered in this dataset are: Brevard, Broward (partial), Collier, Glades, Indian River, Martin, Monroe, Okeechobee, Orange, Seminole, and Volusia.
Name: Imagery/Aerial_Imagery_2018
Description: This imagery service contains natural color orthophotos covering counties that had imagery captured from October 2017 through June 2018. An orthophoto is remotely sensed image data in which displacement of features in the image caused by terrain relief and sensor orientation have been mathematically removed. Orthophotography combines the image characteristics of a photograph with the geometric qualities of a map. Counties covered in this dataset are: Brevard, Broward (partial), Collier, Glades, Indian River, Martin, Monroe, Okeechobee, Orange, Seminole, and Volusia.
Single Fused Map Cache: false
Extent:
XMin: 331100.2870000005
YMin: 59953.11131303827
XMax: 791662.694924811
YMax: 742596.5962000001
Spatial Reference: 3087
(3087)
LatestVCSWkid(0)
Initial Extent:
XMin: 331100.2870000005
YMin: 59953.11131303827
XMax: 791662.694924811
YMax: 742596.5962000001
Spatial Reference: 3087
(3087)
LatestVCSWkid(0)
Full Extent:
XMin: 331100.2870000005
YMin: 59953.11131303827
XMax: 791662.694924811
YMax: 742596.5962000001
Spatial Reference: 3087
(3087)
LatestVCSWkid(0)
Pixel Size X: 0.07620015240030392
Pixel Size Y: 0.07620015240030392
Band Count: 3
Pixel Type: U8
RasterFunction Infos: {"rasterFunctionInfos": [{
"name": "None",
"description": "Make a Raster or Raster Dataset into a Function Raster Dataset.",
"help": ""
}]}
Mensuration Capabilities: Basic
Has Histograms: true
Has Colormap: false
Has Multi Dimensions : false
Rendering Rule:
Min Scale: 0
Max Scale: 0
Copyright Text: FDOT
Service Data Type: esriImageServiceDataTypeRGB
Min Values: 0, 0, 0
Max Values: 255, 255, 255
Mean Values: 91.87923728813294, 97.26265260163596, 82.43483169372752
Standard Deviation Values: 35.93679421933466, 32.849453472734396, 27.19576102868885
Object ID Field: OBJECTID
Fields:
-
OBJECTID
(
type: esriFieldTypeOID, alias: OBJECTID
)
-
Shape
(
type: esriFieldTypeGeometry, alias: Shape
)
-
Name
(
type: esriFieldTypeString, alias: Name, length: 200
)
-
Category
(
type: esriFieldTypeInteger, alias: Category
, Coded Values:
[0: Unknown]
, [1: Primary]
, [2: Overview]
, ...6 more...
)
-
DATASET_ID
(
type: esriFieldTypeString, alias: DATASET_ID, length: 50
)
-
START_DATE
(
type: esriFieldTypeString, alias: START_DATE, length: 50
)
-
END_DATE
(
type: esriFieldTypeString, alias: END_DATE, length: 50
)
-
SOURCE
(
type: esriFieldTypeString, alias: SOURCE, length: 50
)
-
SENSOR
(
type: esriFieldTypeString, alias: SENSOR, length: 50
)
-
YEAR
(
type: esriFieldTypeSmallInteger, alias: YEAR
)
Default Mosaic Method: Center
Allowed Mosaic Methods: Center,NorthWest,LockRaster,ByAttribute
SortField:
SortValue: null
Mosaic Operator: First
Default Compression Quality: 75
Default Resampling Method: Bilinear
Max Record Count: 1000
Max Image Height: 4100
Max Image Width: 15000
Max Download Image Count: 20
Max Mosaic Image Count: 20
Allow Raster Function: true
Allow Copy: true
Allow Analysis: true
Allow Compute TiePoints: false
Supports Statistics: true
Supports Advanced Queries: true
Use StandardizedQueries: true
Raster Type Infos:
Name: Raster Dataset
Description: Supports all ArcGIS Raster Datasets
Help:
Has Raster Attribute Table: false
Edit Fields Info: null
Ownership Based AccessControl For Rasters: null
Child Resources:
Info
Histograms
Statistics
Key Properties
Legend
Raster Function Infos
Supported Operations:
Export Image
Query
Identify
Measure
Compute Histograms
Compute Statistics Histograms
Get Samples
Compute Class Statistics
Query Boundary
Compute Pixel Location
Compute Angles
Validate
Project