View In:
ArcGIS JavaScript
ArcGIS Online Map Viewer
ArcGIS Earth
Service Description: The 1975 Zellar Williams Parcels were recieved in 1979 as hard copy maps. They were rectified in 2005 using the 2004 DOQQ.
Name: Imagery/BOMR_1975_ZWAERIALS
Description: The 1975 Zellar Williams Parcels were recieved in 1979 as hard copy maps. They were rectified in 2005 using the 2004 DOQQ.
Single Fused Map Cache: false
Extent:
XMin: 570867.0615760001
YMin: 395810.60890400026
XMax: 630831.9782559999
YMax: 465433.47310400003
Spatial Reference: 3087
(3087)
LatestVCSWkid(0)
Initial Extent:
XMin: 570867.0615760001
YMin: 395810.60890400026
XMax: 630831.9782559999
YMax: 465433.47310400003
Spatial Reference: 3087
(3087)
LatestVCSWkid(0)
Full Extent:
XMin: 570867.0615760001
YMin: 395810.60890400026
XMax: 630831.9782559999
YMax: 465433.47310400003
Spatial Reference: 3087
(3087)
LatestVCSWkid(0)
Pixel Size X: 1.0318319999999963
Pixel Size Y: 1.0318319999999968
Band Count: 3
Pixel Type: U8
RasterFunction Infos: {"rasterFunctionInfos": [{
"name": "None",
"description": "",
"help": ""
}]}
Mensuration Capabilities: Basic
Has Histograms: true
Has Colormap: false
Has Multi Dimensions : false
Rendering Rule:
Min Scale: 0
Max Scale: 0
Copyright Text: FDEP Bureau of Mine Reclamation
Service Data Type: esriImageServiceDataTypeRGB
Min Values: 0, 0, 0
Max Values: 255, 255, 255
Mean Values: 88.71803889656233, 83.51853110550586, 76.01525369650372
Standard Deviation Values: 76.47576892867923, 72.82157702442329, 66.58934832059056
Object ID Field: OBJECTID
Fields:
-
OBJECTID
(
type: esriFieldTypeOID, alias: OBJECTID
)
-
Shape
(
type: esriFieldTypeGeometry, alias: Shape
)
-
Name
(
type: esriFieldTypeString, alias: Name, length: 50
)
-
MinPS
(
type: esriFieldTypeDouble, alias: MinPS
)
-
Category
(
type: esriFieldTypeInteger, alias: Category
, Coded Values:
[0: Unknown]
, [1: Primary]
, [2: Overview]
, ...5 more...
)
Default Mosaic Method: Center
Allowed Mosaic Methods: Center,NorthWest,ByAttribute
SortField:
SortValue: null
Mosaic Operator: First
Default Compression Quality: 75
Default Resampling Method: Bilinear
Max Record Count: 1000
Max Image Height: 4100
Max Image Width: 15000
Max Download Image Count: 20
Max Mosaic Image Count: 20
Allow Raster Function: true
Allow Copy: true
Allow Analysis: true
Allow Compute TiePoints: false
Supports Statistics: true
Supports Advanced Queries: true
Use StandardizedQueries: true
Raster Type Infos:
Name: Raster Dataset
Description: Supports all ArcGIS Raster Datasets
Help:
Has Raster Attribute Table: false
Edit Fields Info: null
Ownership Based AccessControl For Rasters: null
Child Resources:
Info
Histograms
Statistics
Key Properties
Legend
Raster Function Infos
Supported Operations:
Export Image
Query
Identify
Measure
Compute Histograms
Compute Statistics Histograms
Get Samples
Compute Class Statistics
Query Boundary
Compute Pixel Location
Compute Angles
Validate
Project