View In:
ArcGIS JavaScript
ArcGIS Online Map Viewer
ArcGIS Earth
Service Description: Rectified raster dataset for use in FGS map journal 'Spring Inventory'. Contact Garrett Evans or Tom Greenhalgh.
Name: Imagery/FGS_Spring_Inventory_Rectified_SpringWarrior
Description: Rectified raster dataset for use in FGS map journal 'Spring Inventory'. Contact Garrett Evans or Tom Greenhalgh.
Single Fused Map Cache: false
Extent:
XMin: -9318876.320179895
YMin: 3490793.557900527
XMax: -9313139.801989894
YMax: 3496655.555890527
Spatial Reference: 102100
(3857)
Initial Extent:
XMin: -9318876.320179895
YMin: 3490793.557900527
XMax: -9313139.801989894
YMax: 3496655.555890527
Spatial Reference: 102100
(3857)
Full Extent:
XMin: -9318876.320179895
YMin: 3490793.557900527
XMax: -9313139.801989894
YMax: 3496655.555890527
Spatial Reference: 102100
(3857)
Pixel Size X: 1.0456650000000376
Pixel Size Y: 1.045665000000011
Band Count: 1
Pixel Type: U32
RasterFunction Infos: {"rasterFunctionInfos": [
{
"name": "Stretched",
"description": "A raster function template.",
"help": ""
},
{
"name": "None",
"description": "",
"help": ""
}
]}
Mensuration Capabilities: Basic
Has Histograms: true
Has Colormap: false
Has Multi Dimensions : false
Rendering Rule:
Min Scale: 0
Max Scale: 0
Copyright Text: Garrett Evans, Tom Greenhalgh, FGS
Service Data Type: esriImageServiceDataTypeGeneric
Min Values: 29
Max Values: 251
Mean Values: 137.67273016779
Standard Deviation Values: 28.868120703508
Object ID Field:
Fields:
None
Default Mosaic Method: Center
Allowed Mosaic Methods:
SortField:
SortValue: null
Mosaic Operator: First
Default Compression Quality: 75
Default Resampling Method: Bilinear
Max Record Count: null
Max Image Height: 4100
Max Image Width: 15000
Max Download Image Count: null
Max Mosaic Image Count: null
Allow Raster Function: true
Allow Copy: true
Allow Analysis: true
Allow Compute TiePoints: false
Supports Statistics: false
Supports Advanced Queries: false
Use StandardizedQueries: true
Raster Type Infos:
Name: Raster Dataset
Description: Supports all ArcGIS Raster Datasets
Help:
Has Raster Attribute Table: false
Edit Fields Info: null
Ownership Based AccessControl For Rasters: null
Child Resources:
Info
Histograms
Statistics
Key Properties
Legend
Raster Function Infos
Supported Operations:
Export Image
Identify
Measure
Compute Histograms
Compute Statistics Histograms
Get Samples
Compute Class Statistics
Query Boundary
Compute Pixel Location
Compute Angles
Validate
Project