View In:
ArcGIS JavaScript
ArcGIS Online Map Viewer
ArcGIS Earth
Service Description: 1959 rectified imagery from Fenholloway to thru BSC for use in FGS map journal 'Spring Inventory'. Contact Garrett Evans or Tom Greenhalgh.
Name: Imagery/FGS_Springs_Inventory_Rectified_Fen_Thru_BSC
Description: 1959 rectified imagery from Fenholloway to thru BSC for use in FGS map journal 'Spring Inventory'. Contact Garrett Evans or Tom Greenhalgh.
Single Fused Map Cache: false
Extent:
XMin: -9326810.35108647
YMin: 3498585.819801246
XMax: -9320937.658106469
YMax: 3504510.157066246
Spatial Reference: 102100
(3857)
LatestVCSWkid(0)
Initial Extent:
XMin: -9326810.35108647
YMin: 3498585.819801246
XMax: -9320937.658106469
YMax: 3504510.157066246
Spatial Reference: 102100
(3857)
LatestVCSWkid(0)
Full Extent:
XMin: -9326810.35108647
YMin: 3498585.819801246
XMax: -9320937.658106469
YMax: 3504510.157066246
Spatial Reference: 102100
(3857)
LatestVCSWkid(0)
Pixel Size X: 1.0539650000001344
Pixel Size Y: 1.0539650000000378
Band Count: 1
Pixel Type: U32
RasterFunction Infos: {"rasterFunctionInfos": [
{
"name": "Stretched",
"description": "A raster function template.",
"help": ""
},
{
"name": "None",
"description": "",
"help": ""
}
]}
Mensuration Capabilities: Basic
Has Histograms: true
Has Colormap: false
Has Multi Dimensions : false
Rendering Rule:
Min Scale: 0
Max Scale: 0
Copyright Text: DISCLAIMER (for maps) The boundaries depicted on this map document are approximate. This map document is intended for use only at the published scale. These data are intended for informational use only and should not be considered authoritative for navigation, engineering, legal, or other site-specific purpose. FDEP does not assume any legal liability or responsibility arising from the use of this product in a manner not intended by the author. DISCLAIMER (for Web Applications) This graphical representation is provided for informational purposes and should not be considered authoritative for navigational, engineering, legal, and other uses. DISCLAIMER AND LIMITATION OF LIABILITY (for data/metadata) WARRANTY These data are provided without warranty of any kind, either expressed or implied. The burden for determining fitness of use lies entirely with the user. The user is solely responsible for understanding the limitations of the data provided. LIABILITY These data are intended for informational purposes and should not be considered authoritative for navigational, engineering, legal and other site-specific uses. In no event shall FDEP be liable for damages of any kind including loss of anticipated profits or benefits arising out of use of or reliance on these data.
Service Data Type: esriImageServiceDataTypeGeneric
Min Values: 41
Max Values: 247
Mean Values: 140.27549077732
Standard Deviation Values: 27.132798207437
Object ID Field:
Fields:
None
Default Mosaic Method: Center
Allowed Mosaic Methods:
SortField:
SortValue: null
Mosaic Operator: First
Default Compression Quality: 75
Default Resampling Method: Bilinear
Max Record Count: null
Max Image Height: 4100
Max Image Width: 15000
Max Download Image Count: null
Max Mosaic Image Count: null
Allow Raster Function: true
Allow Copy: true
Allow Analysis: true
Allow Compute TiePoints: false
Supports Statistics: false
Supports Advanced Queries: false
Use StandardizedQueries: true
Raster Type Infos:
Name: Raster Dataset
Description: Supports all ArcGIS Raster Datasets
Help:
Has Raster Attribute Table: false
Edit Fields Info: null
Ownership Based AccessControl For Rasters: null
Child Resources:
Info
Histograms
Statistics
Key Properties
Legend
Raster Function Infos
Supported Operations:
Export Image
Identify
Measure
Compute Histograms
Compute Statistics Histograms
Get Samples
Compute Class Statistics
Query Boundary
Compute Pixel Location
Compute Angles
Validate
Project