View In:
ArcGIS JavaScript
ArcGIS Online Map Viewer
ArcGIS Earth
Service Description: Thermography raster dataset for use in FGS map journal 'Spring Inventory'.
Name: Imagery/FGS_Springs_Inventory_Thermo
Description: Thermography raster dataset for use in FGS map journal 'Spring Inventory'.
Single Fused Map Cache: false
Extent:
XMin: 402635.0
YMin: 646935.0
XMax: 443271.0
YMax: 674513.0
Spatial Reference: 0
(0)
LatestVCSWkid(0)
Initial Extent:
XMin: 402635.0
YMin: 646935.0
XMax: 443271.0
YMax: 674513.0
Spatial Reference: 0
(0)
LatestVCSWkid(0)
Full Extent:
XMin: 402635.0
YMin: 646935.0
XMax: 443271.0
YMax: 674513.0
Spatial Reference: 0
(0)
LatestVCSWkid(0)
Pixel Size X: 2.0
Pixel Size Y: 2.0
Band Count: 1
Pixel Type: F32
RasterFunction Infos: {"rasterFunctionInfos": [
{
"name": "Thermography",
"description": "A raster function template.",
"help": ""
},
{
"name": "None",
"description": "",
"help": ""
}
]}
Mensuration Capabilities: Basic
Has Histograms: true
Has Colormap: false
Has Multi Dimensions : false
Rendering Rule:
Min Scale: 0
Max Scale: 0
Copyright Text: FGS, Garrett Evans, Tom Greenhalgh
Service Data Type: esriImageServiceDataTypeGeneric
Min Values: -0.59627854824066
Max Values: 25.291452407837
Mean Values: 0.80047621678248
Standard Deviation Values: 2.4315511553743
Object ID Field:
Fields:
None
Default Mosaic Method: Center
Allowed Mosaic Methods:
SortField:
SortValue: null
Mosaic Operator: First
Default Compression Quality: 75
Default Resampling Method: Bilinear
Max Record Count: null
Max Image Height: 4100
Max Image Width: 15000
Max Download Image Count: null
Max Mosaic Image Count: null
Allow Raster Function: true
Allow Copy: true
Allow Analysis: true
Allow Compute TiePoints: false
Supports Statistics: false
Supports Advanced Queries: false
Use StandardizedQueries: true
Raster Type Infos:
Name: Raster Dataset
Description: Supports all ArcGIS Raster Datasets
Help:
Has Raster Attribute Table: false
Edit Fields Info: null
Ownership Based AccessControl For Rasters: null
Child Resources:
Info
Histograms
Statistics
Key Properties
Legend
Raster Function Infos
Supported Operations:
Export Image
Identify
Measure
Compute Histograms
Compute Statistics Histograms
Get Samples
Compute Class Statistics
Query Boundary
Compute Pixel Location
Compute Angles
Validate
Project