View In:
ArcGIS JavaScript
ArcGIS Online Map Viewer
ArcGIS Earth
Service Description: Imagery/FL_Peninsular_Hx_Michael_LiDAR_2020_SRWMD
Name: Imagery/FL_Peninsular_Hx_Michael_LiDAR_2020_SRWMD
Description:
Single Fused Map Cache: false
Extent:
XMin: 2093822.500115797
YMin: -3557.500009611249
XMax: 2760857.500115797
YMax: 614269.9999903888
Spatial Reference: 102660
(2238)
LatestVCSWkid(0)
Initial Extent:
XMin: 2093822.500115797
YMin: -3557.500009611249
XMax: 2760857.500115797
YMax: 614269.9999903888
Spatial Reference: 102660
(2238)
LatestVCSWkid(0)
Full Extent:
XMin: 2093822.500115797
YMin: -3557.500009611249
XMax: 2760857.500115797
YMax: 614269.9999903888
Spatial Reference: 102660
(2238)
LatestVCSWkid(0)
Pixel Size X: 2.5
Pixel Size Y: 2.5
Band Count: 1
Pixel Type: F32
RasterFunction Infos: {"rasterFunctionInfos": [{
"name": "None",
"description": "",
"help": ""
}]}
Mensuration Capabilities: Basic
Has Histograms: true
Has Colormap: false
Has Multi Dimensions : false
Rendering Rule:
Min Scale: 0
Max Scale: 0
Copyright Text:
Service Data Type: esriImageServiceDataTypeGeneric
Min Values: -3.9844412803649902
Max Values: 388.1724853515625
Mean Values: 80.6444478284182
Standard Deviation Values: 47.93242548564265
Object ID Field: OBJECTID
Fields:
-
OBJECTID
(
type: esriFieldTypeOID, alias: OBJECTID
)
-
Shape
(
type: esriFieldTypeGeometry, alias: Shape
)
-
Name
(
type: esriFieldTypeString, alias: Name, length: 200
)
-
MinPS
(
type: esriFieldTypeDouble, alias: MinPS
)
-
MaxPS
(
type: esriFieldTypeDouble, alias: MaxPS
)
-
LowPS
(
type: esriFieldTypeDouble, alias: LowPS
)
-
HighPS
(
type: esriFieldTypeDouble, alias: HighPS
)
-
Category
(
type: esriFieldTypeInteger, alias: Category
, Coded Values:
[0: Unknown]
, [1: Primary]
, [2: Overview]
, ...6 more...
)
-
Tag
(
type: esriFieldTypeString, alias: Tag, length: 100
)
-
GroupName
(
type: esriFieldTypeString, alias: GroupName, length: 100
)
-
ProductName
(
type: esriFieldTypeString, alias: ProductName, length: 100
)
-
CenterX
(
type: esriFieldTypeDouble, alias: CenterX
)
-
CenterY
(
type: esriFieldTypeDouble, alias: CenterY
)
-
ZOrder
(
type: esriFieldTypeInteger, alias: ZOrder
)
-
Shape_Length
(
type: esriFieldTypeDouble, alias: Shape_Length
)
-
Shape_Area
(
type: esriFieldTypeDouble, alias: Shape_Area
)
-
DEMName
(
type: esriFieldTypeString, alias: DEM Name, length: 20
)
-
DownloadLAS
(
type: esriFieldTypeString, alias: DownloadLAS, length: 300
)
-
DownloadDEM
(
type: esriFieldTypeString, alias: DownloadDEM, length: 300
)
-
Set_Name
(
type: esriFieldTypeString, alias: Set_Name, length: 75
)
-
DEM_Metadata
(
type: esriFieldTypeString, alias: DEM_Metadata, length: 300
)
-
FIRST_FLIGHT
(
type: esriFieldTypeDate, alias: First Flight, length: 8
)
-
LAST_FLIGHT
(
type: esriFieldTypeDate, alias: Last Flight, length: 8
)
Default Mosaic Method: Northwest
Allowed Mosaic Methods: NorthWest,Center,LockRaster,ByAttribute,Nadir,Viewpoint,Seamline,None
SortField:
SortValue: null
Mosaic Operator: First
Default Compression Quality: 75
Default Resampling Method: Bilinear
Max Record Count: 1000
Max Image Height: 4100
Max Image Width: 15000
Max Download Image Count: 20
Max Mosaic Image Count: 20
Allow Raster Function: true
Allow Copy: true
Allow Analysis: true
Allow Compute TiePoints: false
Supports Statistics: true
Supports Advanced Queries: true
Use StandardizedQueries: true
Raster Type Infos:
Name: Raster Dataset
Description: Supports all ArcGIS Raster Datasets
Help:
Has Raster Attribute Table: false
Edit Fields Info: null
Ownership Based AccessControl For Rasters: null
Child Resources:
Info
Histograms
Statistics
Key Properties
Legend
Raster Function Infos
Supported Operations:
Export Image
Query
Identify
Download Rasters
Measure
Compute Histograms
Compute Statistics Histograms
Get Samples
Compute Class Statistics
Query Boundary
Compute Pixel Location
Compute Angles
Validate
Project