View In:
ArcGIS JavaScript
ArcGIS Online Map Viewer
ArcGIS Earth
Service Description: Imagery/FL_Peninsular_Hx_Michael_Supplemental_LiDAR
Name: Imagery/FL_Peninsular_Hx_Michael_Supplemental_LiDAR
Description:
Single Fused Map Cache: false
Extent:
XMin: 188030.10779999942
YMin: 191259.4926868938
XMax: 797968.1316760472
YMax: 782866.0459000003
Spatial Reference: 102967
(6439)
LatestVCSWkid(0)
Initial Extent:
XMin: 188030.10779999942
YMin: 191259.4926868938
XMax: 797968.1316760472
YMax: 782866.0459000003
Spatial Reference: 102967
(6439)
LatestVCSWkid(0)
Full Extent:
XMin: 188030.10779999942
YMin: 191259.4926868938
XMax: 797968.1316760472
YMax: 782866.0459000003
Spatial Reference: 102967
(6439)
LatestVCSWkid(0)
Pixel Size X: 0.7620015240030481
Pixel Size Y: 0.7620015240030481
Band Count: 1
Pixel Type: F32
RasterFunction Infos: {"rasterFunctionInfos": [{
"name": "None",
"description": "",
"help": ""
}]}
Mensuration Capabilities: Basic
Has Histograms: true
Has Colormap: false
Has Multi Dimensions : false
Rendering Rule:
Min Scale: 0
Max Scale: 0
Copyright Text:
Service Data Type: esriImageServiceDataTypeElevation
Min Values: -14.396951675415039
Max Values: 412.5009765625
Mean Values: 64.00841307112546
Standard Deviation Values: 51.093077158823235
Object ID Field: OBJECTID
Fields:
-
OBJECTID
(
type: esriFieldTypeOID, alias: OBJECTID
)
-
Shape
(
type: esriFieldTypeGeometry, alias: Shape
)
-
Name
(
type: esriFieldTypeString, alias: Name, length: 200
)
-
MinPS
(
type: esriFieldTypeDouble, alias: MinPS
)
-
MaxPS
(
type: esriFieldTypeDouble, alias: MaxPS
)
-
LowPS
(
type: esriFieldTypeDouble, alias: LowPS
)
-
HighPS
(
type: esriFieldTypeDouble, alias: HighPS
)
-
Category
(
type: esriFieldTypeInteger, alias: Category
, Coded Values:
[0: Unknown]
, [1: Primary]
, [2: Overview]
, ...6 more...
)
-
Tag
(
type: esriFieldTypeString, alias: Tag, length: 100
)
-
CenterX
(
type: esriFieldTypeDouble, alias: CenterX
)
-
CenterY
(
type: esriFieldTypeDouble, alias: CenterY
)
-
ZOrder
(
type: esriFieldTypeInteger, alias: ZOrder
)
-
Shape_Length
(
type: esriFieldTypeDouble, alias: Shape_Length
)
-
Shape_Area
(
type: esriFieldTypeDouble, alias: Shape_Area
)
-
DEMName
(
type: esriFieldTypeString, alias: DEM Name, length: 20
)
-
FIRST_FLIGHT
(
type: esriFieldTypeDate, alias: First Flight, length: 8
)
-
LAST_FLIGHT
(
type: esriFieldTypeDate, alias: Last Flight, length: 8
)
-
DownloadLAS
(
type: esriFieldTypeString, alias: DownloadLAS, length: 300
)
-
DownloadDEM
(
type: esriFieldTypeString, alias: DownloadDEM, length: 300
)
-
Set_Name
(
type: esriFieldTypeString, alias: Set_Name, length: 75
)
-
LAS_Metadata
(
type: esriFieldTypeString, alias: LAS_Metedata, length: 300
)
-
DEM_Metadata
(
type: esriFieldTypeString, alias: DEM_Metadata, length: 300
)
Default Mosaic Method: Northwest
Allowed Mosaic Methods: NorthWest,Center,LockRaster,ByAttribute,Nadir,Viewpoint,Seamline,None
SortField:
SortValue: null
Mosaic Operator: First
Default Compression Quality: 75
Default Resampling Method: Bilinear
Max Record Count: 1000
Max Image Height: 4100
Max Image Width: 15000
Max Download Image Count: 20
Max Mosaic Image Count: 20
Allow Raster Function: true
Allow Copy: true
Allow Analysis: true
Allow Compute TiePoints: false
Supports Statistics: true
Supports Advanced Queries: true
Use StandardizedQueries: true
Raster Type Infos:
Name: Raster Dataset
Description: Supports all ArcGIS Raster Datasets
Help:
Has Raster Attribute Table: false
Edit Fields Info: null
Ownership Based AccessControl For Rasters: null
Child Resources:
Info
Histograms
Statistics
Key Properties
Legend
Raster Function Infos
Supported Operations:
Export Image
Query
Identify
Download Rasters
Measure
Compute Histograms
Compute Statistics Histograms
Get Samples
Compute Class Statistics
Query Boundary
Compute Pixel Location
Compute Angles
Validate
Project
Calculate Volume