View In:
ArcGIS JavaScript
ArcGIS Online Map Viewer
ArcGIS Earth
Service Description: The NOAA Coastal Change Analysis Program (C-CAP) produces national standardized land cover and change products for the coastal regions of the U.S. C-CAP products inventory coastal intertidal areas, wetlands, and adjacent uplands with the goal of monitoring changes in these habitats through time. The timeframe for this metadata is 2020 through 2021, depending on the latest date of available imagery. These maps were developed utilizing high resolution 30cm or better aerial imagery. In addition, a digital surface model (DSM) derived from the stereo imagery was used to determine vegetation heights. This information provides managers with a detailed accounting of current landscape conditions related to impervious surface, woody canopy, and water feature extents.
Name: Imagery/NOAA_Land_Cover_Impervious_Cover_2020_2021
Description: The NOAA Coastal Change Analysis Program (C-CAP) produces national standardized land cover and change products for the coastal regions of the U.S. C-CAP products inventory coastal intertidal areas, wetlands, and adjacent uplands with the goal of monitoring changes in these habitats through time. The timeframe for this metadata is 2020 through 2021, depending on the latest date of available imagery. These maps were developed utilizing high resolution 30cm or better aerial imagery. In addition, a digital surface model (DSM) derived from the stereo imagery was used to determine vegetation heights. This information provides managers with a detailed accounting of current landscape conditions related to impervious surface, woody canopy, and water feature extents.
Single Fused Map Cache: false
Extent:
XMin: 796746.364052473
YMin: 259069.68503861304
XMax: 1613511.364052473
YMax: 967908.685038613
Spatial Reference: 0
(0)
LatestVCSWkid(0)
Initial Extent:
XMin: 796746.364052473
YMin: 259069.68503861304
XMax: 1613511.364052473
YMax: 967908.685038613
Spatial Reference: 0
(0)
LatestVCSWkid(0)
Full Extent:
XMin: 796746.364052473
YMin: 259069.68503861304
XMax: 1613511.364052473
YMax: 967908.685038613
Spatial Reference: 0
(0)
LatestVCSWkid(0)
Pixel Size X: 1.0000000000000002
Pixel Size Y: 1.0
Band Count: 1
Pixel Type: U8
RasterFunction Infos: {"rasterFunctionInfos": [
{
"name": "None",
"description": "Make a Raster or Raster Dataset into a Function Raster Dataset.",
"help": ""
},
{
"name": "Impervious Cover Raster Function Template",
"description": "Impervious Cover Raster Function Template",
"help": ""
}
]}
Mensuration Capabilities: Basic
Has Histograms: true
Has Colormap: false
Has Multi Dimensions : false
Rendering Rule:
Min Scale: 0
Max Scale: 0
Copyright Text: This data was produced under contract to Ecopia Tech Corporation. C-CAP data sets are not jurisdictional or intended for use in litigation. While efforts have been made to ensure that these data are accurate and reliable within the limits of current technology, NOAA cannot assume liability for any damages or misrepresentations caused by inaccuracies in the data, or as a result of the data to be used on a particular system. NOAA makes no warranty, expressed or implied, nor does the fact of distribution constitute such a warranty. This is a national and regional data set that should be used only as a screening tool for very local or site-specific management decisions. Small features and changes should be verified with a higher-resolution data source.
Service Data Type: esriImageServiceDataTypeThematic
Min Values: 1
Max Values: 255
Mean Values: 3.5089886023625
Standard Deviation Values: 4.4087815342476
Object ID Field:
Fields:
None
Default Mosaic Method: Center
Allowed Mosaic Methods:
SortField:
SortValue: null
Mosaic Operator: First
Default Compression Quality: 75
Default Resampling Method: Bilinear
Max Record Count: null
Max Image Height: 4100
Max Image Width: 15000
Max Download Image Count: null
Max Mosaic Image Count: null
Allow Raster Function: true
Allow Copy: true
Allow Analysis: true
Allow Compute TiePoints: false
Supports Statistics: false
Supports Advanced Queries: false
Use StandardizedQueries: true
Raster Type Infos:
Name: Raster Dataset
Description: Supports all ArcGIS Raster Datasets
Help:
Has Raster Attribute Table: true
Edit Fields Info: null
Ownership Based AccessControl For Rasters: null
Child Resources:
Info
Raster Attribute Table
Histograms
Statistics
Key Properties
Legend
Raster Function Infos
Supported Operations:
Export Image
Identify
Measure
Compute Histograms
Compute Statistics Histograms
Get Samples
Compute Class Statistics
Query Boundary
Compute Pixel Location
Compute Angles
Validate
Project