View In:
ArcGIS JavaScript
ArcGIS Online Map Viewer
ArcGIS Earth
Service Description: This South Florida imagery georeferencing project was completed at the request of Lucy Blair of FDEP South District for internal and external use. The project was coordinated by FDEP OTIS-GIS. App design and georeferencing completed by Tshoy Stewart, Nicholas Osterer, Lucy Blair, and Aaron Koelker.
Name: Imagery/SFD_1945_Monroe_County
Description: This South Florida imagery georeferencing project was completed at the request of Lucy Blair of FDEP South District for internal and external use. The project was coordinated by FDEP OTIS-GIS. App design and georeferencing completed by Tshoy Stewart, Nicholas Osterer, Lucy Blair, and Aaron Koelker.
Single Fused Map Cache: false
Extent:
XMin: -9109390.396920148
YMin: 2817738.115527169
XMax: -8931606.917196216
YMax: 2921137.5156530687
Spatial Reference: 102100
(3857)
LatestVCSWkid(0)
Initial Extent:
XMin: -9109390.396920148
YMin: 2817738.115527169
XMax: -8931606.917196216
YMax: 2921137.5156530687
Spatial Reference: 102100
(3857)
LatestVCSWkid(0)
Full Extent:
XMin: -9109390.396920148
YMin: 2817738.115527169
XMax: -8931606.917196216
YMax: 2921137.5156530687
Spatial Reference: 102100
(3857)
LatestVCSWkid(0)
Pixel Size X: 0.4906375008939711
Pixel Size Y: 0.4906375008939705
Band Count: 3
Pixel Type: U8
RasterFunction Infos: {"rasterFunctionInfos": [
{
"name": "Grayscale Function_2018612_192023_851",
"description": "A raster function template.",
"help": ""
},
{
"name": "None",
"description": "A No-Op Function.",
"help": ""
}
]}
Mensuration Capabilities: None
Has Histograms: true
Has Colormap: false
Has Multi Dimensions : false
Rendering Rule:
Min Scale: 0
Max Scale: 0
Copyright Text: Lucy Blair, Aaron Koelker
Service Data Type: esriImageServiceDataTypeRGB
Min Values: 4, 0, 0
Max Values: 255, 255, 255
Mean Values: 116.90049383446195, 115.79714344856137, 116.43960138391932
Standard Deviation Values: 51.62490456440951, 51.30258915735346, 53.282934573871636
Object ID Field: OBJECTID
Fields:
-
OBJECTID
(
type: esriFieldTypeOID, alias: OBJECTID
)
-
Shape
(
type: esriFieldTypeGeometry, alias: Shape
)
-
Name
(
type: esriFieldTypeString, alias: Name, length: 200
)
-
MinPS
(
type: esriFieldTypeDouble, alias: MinPS
)
-
MaxPS
(
type: esriFieldTypeDouble, alias: MaxPS
)
-
LowPS
(
type: esriFieldTypeDouble, alias: LowPS
)
-
HighPS
(
type: esriFieldTypeDouble, alias: HighPS
)
-
Category
(
type: esriFieldTypeInteger, alias: Category
, Coded Values:
[0: Unknown]
, [1: Primary]
, [2: Overview]
, ...6 more...
)
-
Tag
(
type: esriFieldTypeString, alias: Tag, length: 100
)
-
GroupName
(
type: esriFieldTypeString, alias: GroupName, length: 100
)
-
ProductName
(
type: esriFieldTypeString, alias: ProductName, length: 100
)
-
CenterX
(
type: esriFieldTypeDouble, alias: CenterX
)
-
CenterY
(
type: esriFieldTypeDouble, alias: CenterY
)
-
ZOrder
(
type: esriFieldTypeInteger, alias: ZOrder
)
-
Shape_Length
(
type: esriFieldTypeDouble, alias: Shape_Length
)
-
Shape_Area
(
type: esriFieldTypeDouble, alias: Shape_Area
)
-
SOrder
(
type: esriFieldTypeInteger, alias: SOrder
)
-
SLevelPS
(
type: esriFieldTypeDouble, alias: SLevelPS
)
Default Mosaic Method: Seamline
Allowed Mosaic Methods: Seamline,NorthWest,Center,LockRaster,ByAttribute,Nadir,Viewpoint,None
SortField:
SortValue: null
Mosaic Operator: Blend
Default Compression Quality: 75
Default Resampling Method: Bilinear
Max Record Count: 1000
Max Image Height: 4100
Max Image Width: 15000
Max Download Image Count: 20
Max Mosaic Image Count: 100
Allow Raster Function: true
Allow Copy: true
Allow Analysis: true
Allow Compute TiePoints: false
Supports Statistics: true
Supports Advanced Queries: true
Use StandardizedQueries: true
Raster Type Infos:
Name: Raster Dataset
Description: Supports all ArcGIS Raster Datasets
Help:
Has Raster Attribute Table: false
Edit Fields Info: null
Ownership Based AccessControl For Rasters: null
Child Resources:
Info
Histograms
Statistics
Key Properties
Legend
Raster Function Infos
Supported Operations:
Export Image
Query
Identify
Compute Histograms
Compute Statistics Histograms
Get Samples
Compute Class Statistics
Query Boundary
Compute Pixel Location
Compute Angles
Validate
Project