View In:
  ArcGIS JavaScript
  ArcGIS Online Map Viewer
  ArcGIS Earth
Service Description:  The National High Altitude Photography (NHAP) program, which was operated from 1980-1989, was coordinated by the U.S. Geological Survey as an interagency project to eliminate duplicate photography in various Government programs. The aim of the program was to cover the 48 conterminous states over a 5-year span. In the NHAP program, color-infrared aerial photographs were obtained on 9-inch film from an altitude of 40,000 feet above mean terrain elevation and are centered over USGS 7.5-minute quadrangles. The color-infrared photographs are at a scale of 1:58,000 (1 inch equals about .9 miles). The NHAP program was designed to reduce Federal costs, eliminate duplication of effort, and to obtain complete, uniform coverage of the conterminous 48 states of the USA over a 5-year cycle. In 1987 the program name was changed to the National Aerial Photography Program (NAPP) in recognition of modifications in the user requirements and flight specifications. The projected coordinate system is UTM zone 17 N, NAD 83 HARN, GRS 80, Units Meters. All of the images have a 1.5 meter pixel resolution. Most of the aerial have been orthorectified, although there are numerous images that were georeferenced.
Please contact GIS.Librarian@FloridaDEP.gov for more information.
Name:  Imagery/SWFWMD_1984_1985
Description:  The National High Altitude Photography (NHAP) program, which was operated from 1980-1989, was coordinated by the U.S. Geological Survey as an interagency project to eliminate duplicate photography in various Government programs. The aim of the program was to cover the 48 conterminous states over a 5-year span. In the NHAP program, color-infrared aerial photographs were obtained on 9-inch film from an altitude of 40,000 feet above mean terrain elevation and are centered over USGS 7.5-minute quadrangles. The color-infrared photographs are at a scale of 1:58,000 (1 inch equals about .9 miles). The NHAP program was designed to reduce Federal costs, eliminate duplication of effort, and to obtain complete, uniform coverage of the conterminous 48 states of the USA over a 5-year cycle. In 1987 the program name was changed to the National Aerial Photography Program (NAPP) in recognition of modifications in the user requirements and flight specifications. The projected coordinate system is UTM zone 17 N, NAD 83 HARN, GRS 80, Units Meters. All of the images have a 1.5 meter pixel resolution. Most of the aerial have been orthorectified, although there are numerous images that were georeferenced.
Please contact GIS.Librarian@FloridaDEP.gov for more information.
Single Fused Map Cache:  false
Extent: 
XMin: 508284.8115000017
YMin: 298600.7601160019
XMax: 672914.8282440008
YMax: 617983.4330000002
Spatial Reference: 3087
 (3087)
 LatestVCSWkid(0)
Initial Extent:
XMin: 508284.8115000017
YMin: 298600.7601160019
XMax: 672914.8282440008
YMax: 617983.4330000002
Spatial Reference: 3087
 (3087)
 LatestVCSWkid(0)
Full Extent:
XMin: 508284.8115000017
YMin: 298600.7601160019
XMax: 672914.8282440008
YMax: 617983.4330000002
Spatial Reference: 3087
 (3087)
 LatestVCSWkid(0)
Pixel Size X: 1.3762519999999925
Pixel Size Y:  1.3762519999999927
Band Count: 3
Pixel Type: U8
RasterFunction Infos:  {"rasterFunctionInfos": [{
 "name": "None",
 "description": "",
 "help": ""
}]}
Mensuration Capabilities: Basic
Has Histograms:  true
Has Colormap:  false
Has Multi Dimensions :  false
Rendering Rule: 
Min Scale:  0
Max Scale:  0
Copyright Text:  USGS, SWFWMD
Service Data Type:  esriImageServiceDataTypeRGB
Min Values:  0, 0, 0
Max Values:  255, 255, 255
Mean Values:  116.17709716489188, 126.55954279679294, 134.55508650848353
Standard Deviation Values:  40.03521177296476, 41.10992418043538, 42.65935224908277
Object ID Field:  OBJECTID
Fields: 
- 
OBJECTID
(
type: esriFieldTypeOID, alias: OBJECTID
)
- 
Shape
(
type: esriFieldTypeGeometry, alias: Shape
)
- 
Name
(
type: esriFieldTypeString, alias: Name, length: 200
)
- 
MinPS
(
type: esriFieldTypeDouble, alias: MinPS
)
- 
Category
(
type: esriFieldTypeInteger, alias: Category
, Coded Values: 
[0: Unknown]
, [1: Primary]
, [2: Overview]
, ...5 more...
)
Default Mosaic Method: Center
Allowed Mosaic Methods:  Center,NorthWest,ByAttribute
SortField:  
SortValue:  null
Mosaic Operator:  First
Default Compression Quality:  75
Default Resampling Method:  Bilinear
Max Record Count:  1000
Max Image Height:  4100
Max Image Width:  15000
Max Download Image Count:  20
Max Mosaic Image Count:  20
Allow Raster Function:  true
Allow Copy:  true
Allow Analysis:  true
Allow Compute TiePoints:  false
Supports Statistics:  true
Supports Advanced Queries:  true
Use StandardizedQueries:  true
Raster Type Infos: 
Name: Raster Dataset
Description: Supports all ArcGIS Raster Datasets
Help: 
Has Raster Attribute Table: false
Edit Fields Info:  null
Ownership Based AccessControl For Rasters:  null
Child Resources:
  
Info
  Histograms
  Statistics
  Key Properties
  Legend
  Raster Function Infos
Supported Operations:
  
Export Image
  Query
  Identify
  Measure
  Compute Histograms
  Compute Statistics Histograms
  Get Samples
  Compute Class Statistics
  Query Boundary
  Compute Pixel Location
  Compute Angles
  Validate
  Project