View In:
ArcGIS JavaScript
ArcGIS Online Map Viewer
ArcGIS Earth
Service Description: The South Florida Surficial Aquifer system or Biscayne Aquifer FAVA Response theme grid is the relative vulnerability map for the Surficial Aquifer System. It was calculated using the ArcSDM extension and applying the weights of evidence method. A relative vulnerability class field is also in the table so that the grid can be symbolized into 4 vulnerability classes. These classes were developed based on posterior probability vs. cumulative area breaks.
Name: OpenData/BCYN_RESPONSE
Description: The South Florida Surficial Aquifer system or Biscayne Aquifer FAVA Response theme grid is the relative vulnerability map for the Surficial Aquifer System. It was calculated using the ArcSDM extension and applying the weights of evidence method. A relative vulnerability class field is also in the table so that the grid can be symbolized into 4 vulnerability classes. These classes were developed based on posterior probability vs. cumulative area breaks.
Single Fused Map Cache: false
Extent:
XMin: 708508.70450132
YMin: 141035.486382792
XMax: 798118.70450132
YMax: 335765.486382792
Spatial Reference: 102967
(6439)
LatestVCSWkid(0)
Initial Extent:
XMin: 708508.70450132
YMin: 141035.486382792
XMax: 798118.70450132
YMax: 335765.486382792
Spatial Reference: 102967
(6439)
LatestVCSWkid(0)
Full Extent:
XMin: 708508.70450132
YMin: 141035.486382792
XMax: 798118.70450132
YMax: 335765.486382792
Spatial Reference: 102967
(6439)
LatestVCSWkid(0)
Pixel Size X: 30.0
Pixel Size Y: 30.0
Band Count: 1
Pixel Type: U8
RasterFunction Infos: {"rasterFunctionInfos": [{
"name": "None",
"description": "",
"help": ""
}]}
Mensuration Capabilities: Basic
Has Histograms: true
Has Colormap: false
Has Multi Dimensions : false
Rendering Rule:
Min Scale: 0
Max Scale: 0
Copyright Text: Advanced GeoSpatial Inc.
Service Data Type: esriImageServiceDataTypeGeneric
Min Values: 1
Max Values: 18
Mean Values: 7.765199040029676
Standard Deviation Values: 2.993383778069872
Object ID Field:
Fields:
None
Default Mosaic Method: Center
Allowed Mosaic Methods:
SortField:
SortValue: null
Mosaic Operator: First
Default Compression Quality: 75
Default Resampling Method: Bilinear
Max Record Count: null
Max Image Height: 4100
Max Image Width: 15000
Max Download Image Count: null
Max Mosaic Image Count: null
Allow Raster Function: true
Allow Copy: true
Allow Analysis: true
Allow Compute TiePoints: false
Supports Statistics: false
Supports Advanced Queries: false
Use StandardizedQueries: true
Raster Type Infos:
Name: Raster Dataset
Description: Supports all ArcGIS Raster Datasets
Help:
Has Raster Attribute Table: true
Edit Fields Info: null
Ownership Based AccessControl For Rasters: null
Child Resources:
Info
Raster Attribute Table
Histograms
Statistics
Key Properties
Legend
Raster Function Infos
Supported Operations:
Export Image
Identify
Measure
Compute Histograms
Compute Statistics Histograms
Get Samples
Compute Class Statistics
Query Boundary
Compute Pixel Location
Compute Angles
Validate
Project