View In:
ArcGIS JavaScript
ArcGIS Online Map Viewer
ArcGIS Earth
Service Description: The Floridan Aquifer System Response theme grid is the relative vulnerability map for the Floridan Aquifer System. It was calculated using the ArcSDM extension and applying the weights of evidence and logistical regression method. The total number of unique conditions, number of training points per unique condition, evidential theme generalizations and posterior probability are contained in the table. A relative vulnerability class field is also in the table so that the grid can be symbolized based on FAVA vulnerability zones.
Name: OpenData/FAS_RESPONSE
Description: The Floridan Aquifer System Response theme grid is the relative vulnerability map for the Floridan Aquifer System. It was calculated using the ArcSDM extension and applying the weights of evidence and logistical regression method. The total number of unique conditions, number of training points per unique condition, evidential theme generalizations and posterior probability are contained in the table. A relative vulnerability class field is also in the table so that the grid can be symbolized based on FAVA vulnerability zones.
Single Fused Map Cache: false
Extent:
XMin: 52668.02734399831
YMin: 259366.671875002
XMax: 793968.027343998
YMax: 781606.6718750021
Spatial Reference: 102967
(6439)
LatestVCSWkid(0)
Initial Extent:
XMin: 52668.02734399831
YMin: 259366.671875002
XMax: 793968.027343998
YMax: 781606.6718750021
Spatial Reference: 102967
(6439)
LatestVCSWkid(0)
Full Extent:
XMin: 52668.02734399831
YMin: 259366.671875002
XMax: 793968.027343998
YMax: 781606.6718750021
Spatial Reference: 102967
(6439)
LatestVCSWkid(0)
Pixel Size X: 29.999999999999986
Pixel Size Y: 30.000000000000007
Band Count: 1
Pixel Type: S16
RasterFunction Infos: {"rasterFunctionInfos": [
{
"name": "FAS_RESPONSE",
"description": "A raster function template.",
"help": ""
},
{
"name": "None",
"description": "",
"help": ""
}
]}
Mensuration Capabilities: Basic
Has Histograms: true
Has Colormap: false
Has Multi Dimensions : false
Rendering Rule:
Min Scale: 0
Max Scale: 0
Copyright Text: Florida Geological Survey
Service Data Type: esriImageServiceDataTypeGeneric
Min Values: 1
Max Values: 77
Mean Values: 13.613119812285905
Standard Deviation Values: 12.156238258169436
Object ID Field:
Fields:
None
Default Mosaic Method: Center
Allowed Mosaic Methods:
SortField:
SortValue: null
Mosaic Operator: First
Default Compression Quality: 75
Default Resampling Method: Bilinear
Max Record Count: null
Max Image Height: 4100
Max Image Width: 15000
Max Download Image Count: null
Max Mosaic Image Count: null
Allow Raster Function: true
Allow Copy: true
Allow Analysis: true
Allow Compute TiePoints: false
Supports Statistics: false
Supports Advanced Queries: false
Use StandardizedQueries: true
Raster Type Infos:
Name: Raster Dataset
Description: Supports all ArcGIS Raster Datasets
Help:
Has Raster Attribute Table: true
Edit Fields Info: null
Ownership Based AccessControl For Rasters: null
Child Resources:
Info
Raster Attribute Table
Histograms
Statistics
Key Properties
Legend
Raster Function Infos
Supported Operations:
Export Image
Identify
Measure
Compute Histograms
Compute Statistics Histograms
Get Samples
Compute Class Statistics
Query Boundary
Compute Pixel Location
Compute Angles
Validate
Project