View In:
ArcGIS JavaScript
ArcGIS Online Map Viewer
ArcGIS Earth
Service Description: The FGS used a modeling technique called Weights of Evidence (WofE) that involves the combination of diverse spatial data to describe and analyze interactions and generate predictive models from which a map of favorability can be produced. The project began with a one year pilot study in Columbia, Hamilton, and Suwannee Counties, during which methodologies were developed in preparation to model the entire state. To train and validate the model, locations of sinkholes were required. Over two-and-a-half-years, field teams traversed the state investigating over 3,600 points of interest (potential sinkholes) and mapped 654 sinkholes. After evaluating fourteen different spatial data types, the three statistically strong spatial data layers were used to model the favorability of the State’s geology to sinkhole formation. The resulting map depicts four classes representing areas where the geology is least favorable to most favorable to sinkhole formation.
Name: OpenData/FGS_FAV_SINK_FORMATION
Description: The FGS used a modeling technique called Weights of Evidence (WofE) that involves the combination of diverse spatial data to describe and analyze interactions and generate predictive models from which a map of favorability can be produced. The project began with a one year pilot study in Columbia, Hamilton, and Suwannee Counties, during which methodologies were developed in preparation to model the entire state. To train and validate the model, locations of sinkholes were required. Over two-and-a-half-years, field teams traversed the state investigating over 3,600 points of interest (potential sinkholes) and mapped 654 sinkholes. After evaluating fourteen different spatial data types, the three statistically strong spatial data layers were used to model the favorability of the State’s geology to sinkhole formation. The resulting map depicts four classes representing areas where the geology is least favorable to most favorable to sinkhole formation.
Single Fused Map Cache: false
Extent:
XMin: 22345.3837280265
YMin: 29003.2864990251
XMax: 847445.383728027
YMax: 803303.2864990251
Spatial Reference: 102967
(6439)
LatestVCSWkid(0)
Initial Extent:
XMin: 22345.3837280265
YMin: 29003.2864990251
XMax: 847445.383728027
YMax: 803303.2864990251
Spatial Reference: 102967
(6439)
LatestVCSWkid(0)
Full Extent:
XMin: 22345.3837280265
YMin: 29003.2864990251
XMax: 847445.383728027
YMax: 803303.2864990251
Spatial Reference: 102967
(6439)
LatestVCSWkid(0)
Pixel Size X: 100.00000000000006
Pixel Size Y: 100.0
Band Count: 1
Pixel Type: U4
RasterFunction Infos: {"rasterFunctionInfos": [{
"name": "None",
"description": "",
"help": ""
}]}
Mensuration Capabilities: Basic
Has Histograms: true
Has Colormap: false
Has Multi Dimensions : false
Rendering Rule:
Min Scale: 0
Max Scale: 0
Copyright Text: Florida Division of Emergency Management, Florida Department of Environmental Protection, Florida Geological Survey
Service Data Type: esriImageServiceDataTypeThematic
Min Values: 1
Max Values: 14
Mean Values: 6.373278152660383
Standard Deviation Values: 4.573422865216668
Object ID Field:
Fields:
None
Default Mosaic Method: Center
Allowed Mosaic Methods:
SortField:
SortValue: null
Mosaic Operator: First
Default Compression Quality: 75
Default Resampling Method: Bilinear
Max Record Count: null
Max Image Height: 4100
Max Image Width: 15000
Max Download Image Count: null
Max Mosaic Image Count: null
Allow Raster Function: true
Allow Copy: true
Allow Analysis: true
Allow Compute TiePoints: false
Supports Statistics: false
Supports Advanced Queries: false
Use StandardizedQueries: true
Raster Type Infos:
Name: Raster Dataset
Description: Supports all ArcGIS Raster Datasets
Help:
Has Raster Attribute Table: true
Edit Fields Info: null
Ownership Based AccessControl For Rasters: null
Child Resources:
Info
Raster Attribute Table
Histograms
Statistics
Key Properties
Legend
Raster Function Infos
Supported Operations:
Export Image
Identify
Measure
Compute Histograms
Compute Statistics Histograms
Get Samples
Compute Class Statistics
Query Boundary
Compute Pixel Location
Compute Angles
Validate
Project