View In:
ArcGIS JavaScript
ArcGIS Online Map Viewer
ArcGIS Earth
Service Description: The raster is created from the finalized contour lines for September 2017, An estimated zero contour line is placed along the coast from Bay County to Pinellas County and along Volusia County. This contour aids in making a more reasonable surface along the coast, since water level vaues are less than the 10 foot contour interval shown on the contour map (see potentiometric contour map). Using the Topo to Raster tool, a 500 X 500 meter grid is created by using the September 2017 contour lines, the estimated zero contour line, estimated water value points along the suwannee river and the September 2017 water level data. The interpolated elevation value in each cell is in feet mean sea level, datum NGVD29.
Name: OpenData/FGS_POTMAP_SEPT_2017
Description: The raster is created from the finalized contour lines for September 2017, An estimated zero contour line is placed along the coast from Bay County to Pinellas County and along Volusia County. This contour aids in making a more reasonable surface along the coast, since water level vaues are less than the 10 foot contour interval shown on the contour map (see potentiometric contour map). Using the Topo to Raster tool, a 500 X 500 meter grid is created by using the September 2017 contour lines, the estimated zero contour line, estimated water value points along the suwannee river and the September 2017 water level data. The interpolated elevation value in each cell is in feet mean sea level, datum NGVD29.
Single Fused Map Cache: false
Extent:
XMin: 49855.18874343118
YMin: 57554.204228408635
XMax: 794855.1887434311
YMax: 984554.2042284086
Spatial Reference: 0
(0)
LatestVCSWkid(0)
Initial Extent:
XMin: 49855.18874343118
YMin: 57554.204228408635
XMax: 794855.1887434311
YMax: 984554.2042284086
Spatial Reference: 0
(0)
LatestVCSWkid(0)
Full Extent:
XMin: 49855.18874343118
YMin: 57554.204228408635
XMax: 794855.1887434311
YMax: 984554.2042284086
Spatial Reference: 0
(0)
LatestVCSWkid(0)
Pixel Size X: 500.0
Pixel Size Y: 500.0
Band Count: 1
Pixel Type: F32
RasterFunction Infos: {"rasterFunctionInfos": [
{
"name": "Sept2016",
"description": "A raster function template.",
"help": ""
},
{
"name": "None",
"description": "",
"help": ""
}
]}
Mensuration Capabilities: Basic
Has Histograms: true
Has Colormap: false
Has Multi Dimensions : false
Rendering Rule:
Min Scale: 0
Max Scale: 0
Copyright Text: James Cichon, FGS and water management district reviewers.
Service Data Type: esriImageServiceDataTypeGeneric
Min Values: -67.85612487792969
Max Values: 274.1591796875
Mean Values: 60.95476521136062
Standard Deviation Values: 57.54603177246852
Object ID Field:
Fields:
None
Default Mosaic Method: Center
Allowed Mosaic Methods:
SortField:
SortValue: null
Mosaic Operator: First
Default Compression Quality: 75
Default Resampling Method: Bilinear
Max Record Count: null
Max Image Height: 4100
Max Image Width: 15000
Max Download Image Count: null
Max Mosaic Image Count: null
Allow Raster Function: true
Allow Copy: true
Allow Analysis: true
Allow Compute TiePoints: false
Supports Statistics: false
Supports Advanced Queries: false
Use StandardizedQueries: true
Raster Type Infos:
Name: Raster Dataset
Description: Supports all ArcGIS Raster Datasets
Help:
Has Raster Attribute Table: false
Edit Fields Info: null
Ownership Based AccessControl For Rasters: null
Child Resources:
Info
Histograms
Statistics
Key Properties
Legend
Raster Function Infos
Supported Operations:
Export Image
Identify
Measure
Compute Histograms
Compute Statistics Histograms
Get Samples
Compute Class Statistics
Query Boundary
Compute Pixel Location
Compute Angles
Validate
Project