View In:
ArcGIS JavaScript
ArcGIS Online Map Viewer
ArcGIS Earth
Service Description: The raster is created from the finalized contour lines for September 2019, An estimated zero contour line is placed along the coast from Bay County to Pinellas County and along Volusia County. This contour aids in making a more reasonable surface along the coast, since water level values are less than the 10 foot contour interval shown on the contour map (see potentiometric contour map). Using the Topo to Raster tool, a 500 X 500 meter grid is created by using the September 2019 contour lines, the estimated zero contour line, estimated water value points along the Suwannee River and the September 2019 water level data. The interpolated elevation value in each cell is in feet mean sea level, datum NGVD29.
Name: OpenData/FGS_POTMAP_SEPT_2019
Description: The raster is created from the finalized contour lines for September 2019, An estimated zero contour line is placed along the coast from Bay County to Pinellas County and along Volusia County. This contour aids in making a more reasonable surface along the coast, since water level values are less than the 10 foot contour interval shown on the contour map (see potentiometric contour map). Using the Topo to Raster tool, a 500 X 500 meter grid is created by using the September 2019 contour lines, the estimated zero contour line, estimated water value points along the Suwannee River and the September 2019 water level data. The interpolated elevation value in each cell is in feet mean sea level, datum NGVD29.
Single Fused Map Cache: false
Extent:
XMin: -87.6392268143
YMin: 24.354697359076
XMax: -79.809436630172
YMax: 31.042643141352
Spatial Reference: 4326
(4326)
LatestVCSWkid(0)
Initial Extent:
XMin: -87.6392268143
YMin: 24.354697359076
XMax: -79.809436630172
YMax: 31.042643141352
Spatial Reference: 4326
(4326)
LatestVCSWkid(0)
Full Extent:
XMin: -87.6392268143
YMin: 24.354697359076
XMax: -79.809436630172
YMax: 31.042643141352
Spatial Reference: 4326
(4326)
LatestVCSWkid(0)
Pixel Size X: 0.004797665554000001
Pixel Size Y: 0.004797665554
Band Count: 1
Pixel Type: F32
RasterFunction Infos: {"rasterFunctionInfos": [
{
"name": "September2019",
"description": "FGS POTMAP SEPTEMBER 2019",
"help": ""
},
{
"name": "Raster Function Template",
"description": "FGS_POTMAP_MAY_2019",
"help": ""
},
{
"name": "None",
"description": "",
"help": ""
}
]}
Mensuration Capabilities: Basic
Has Histograms: false
Has Colormap: false
Has Multi Dimensions : false
Rendering Rule:
Min Scale: 0
Max Scale: 0
Copyright Text: FGS and Water Management District reviewers.
Service Data Type: esriImageServiceDataTypeGeneric
Min Values: -63.95564270019531
Max Values: 215.31411743164062
Mean Values: 42.303489323389584
Standard Deviation Values: 27.488363892329744
Object ID Field:
Fields:
None
Default Mosaic Method: Center
Allowed Mosaic Methods:
SortField:
SortValue: null
Mosaic Operator: First
Default Compression Quality: 75
Default Resampling Method: Bilinear
Max Record Count: null
Max Image Height: 4100
Max Image Width: 15000
Max Download Image Count: null
Max Mosaic Image Count: null
Allow Raster Function: true
Allow Copy: true
Allow Analysis: true
Allow Compute TiePoints: false
Supports Statistics: false
Supports Advanced Queries: false
Use StandardizedQueries: true
Raster Type Infos:
Name: Raster Dataset
Description: Supports all ArcGIS Raster Datasets
Help:
Has Raster Attribute Table: false
Edit Fields Info: null
Ownership Based AccessControl For Rasters: null
Child Resources:
Info
Statistics
Key Properties
Legend
Raster Function Infos
Supported Operations:
Export Image
Identify
Measure
Compute Histograms
Compute Statistics Histograms
Get Samples
Compute Class Statistics
Query Boundary
Compute Pixel Location
Compute Angles
Validate
Project